BEGIN:VCALENDAR
VERSION:2.0
PRODID:-//Sarasota Bay Parrothead Club - ECPv6.15.20//NONSGML v1.0//EN
CALSCALE:GREGORIAN
METHOD:PUBLISH
X-ORIGINAL-URL:https://sarasotaphc.com
X-WR-CALDESC:Events for Sarasota Bay Parrothead Club
REFRESH-INTERVAL;VALUE=DURATION:PT1H
X-Robots-Tag:noindex
X-PUBLISHED-TTL:PT1H
BEGIN:VTIMEZONE
TZID:America/New_York
BEGIN:DAYLIGHT
TZOFFSETFROM:-0500
TZOFFSETTO:-0400
TZNAME:EDT
DTSTART:20240310T070000
END:DAYLIGHT
BEGIN:STANDARD
TZOFFSETFROM:-0400
TZOFFSETTO:-0500
TZNAME:EST
DTSTART:20241103T060000
END:STANDARD
BEGIN:DAYLIGHT
TZOFFSETFROM:-0500
TZOFFSETTO:-0400
TZNAME:EDT
DTSTART:20250309T070000
END:DAYLIGHT
BEGIN:STANDARD
TZOFFSETFROM:-0400
TZOFFSETTO:-0500
TZNAME:EST
DTSTART:20251102T060000
END:STANDARD
BEGIN:DAYLIGHT
TZOFFSETFROM:-0500
TZOFFSETTO:-0400
TZNAME:EDT
DTSTART:20260308T070000
END:DAYLIGHT
BEGIN:STANDARD
TZOFFSETFROM:-0400
TZOFFSETTO:-0500
TZNAME:EST
DTSTART:20261101T060000
END:STANDARD
END:VTIMEZONE
BEGIN:VEVENT
DTSTART;TZID=America/New_York:20250719T180000
DTEND;TZID=America/New_York:20250719T220000
DTSTAMP:20260422T110025
CREATED:20250627T172408Z
LAST-MODIFIED:20250627T172408Z
UID:1461-1752948000-1752962400@sarasotaphc.com
SUMMARY:Lefty Lucy - Local
DESCRIPTION:19- Parrot Patio\, Sarasota 6-10pm
URL:https://sarasotaphc.com/event/lefty-lucy-local-10/
LOCATION:Parrot Patio\, 3602 Webber St.\, Sarasota\, FL\, 34232\, United States
CATEGORIES:Local Music
END:VEVENT
BEGIN:VEVENT
DTSTART;TZID=America/New_York:20250719T183000
DTEND;TZID=America/New_York:20250719T210000
DTSTAMP:20260422T110025
CREATED:20250604T183520Z
LAST-MODIFIED:20250604T193931Z
UID:1318-1752949800-1752958800@sarasotaphc.com
SUMMARY:Flip Flop Dave at LeBarge Tropical Cruises
DESCRIPTION:Check out Flip Flop Dave for local live music!
URL:https://sarasotaphc.com/event/flip-flop-dave-at-lebarge-tropical-cruises/
LOCATION:LeBarge Tropical Cruises\, 2 Marina Plaza\, Sarasota\, FL\, 34236\, United States
CATEGORIES:Local Music
END:VEVENT
END:VCALENDAR