BEGIN:VCALENDAR
VERSION:2.0
PRODID:-//Sarasota Bay Parrothead Club - ECPv6.15.20//NONSGML v1.0//EN
CALSCALE:GREGORIAN
METHOD:PUBLISH
X-ORIGINAL-URL:https://sarasotaphc.com
X-WR-CALDESC:Events for Sarasota Bay Parrothead Club
REFRESH-INTERVAL;VALUE=DURATION:PT1H
X-Robots-Tag:noindex
X-PUBLISHED-TTL:PT1H
BEGIN:VTIMEZONE
TZID:America/New_York
BEGIN:DAYLIGHT
TZOFFSETFROM:-0500
TZOFFSETTO:-0400
TZNAME:EDT
DTSTART:20240310T070000
END:DAYLIGHT
BEGIN:STANDARD
TZOFFSETFROM:-0400
TZOFFSETTO:-0500
TZNAME:EST
DTSTART:20241103T060000
END:STANDARD
BEGIN:DAYLIGHT
TZOFFSETFROM:-0500
TZOFFSETTO:-0400
TZNAME:EDT
DTSTART:20250309T070000
END:DAYLIGHT
BEGIN:STANDARD
TZOFFSETFROM:-0400
TZOFFSETTO:-0500
TZNAME:EST
DTSTART:20251102T060000
END:STANDARD
BEGIN:DAYLIGHT
TZOFFSETFROM:-0500
TZOFFSETTO:-0400
TZNAME:EDT
DTSTART:20260308T070000
END:DAYLIGHT
BEGIN:STANDARD
TZOFFSETFROM:-0400
TZOFFSETTO:-0500
TZNAME:EST
DTSTART:20261101T060000
END:STANDARD
END:VTIMEZONE
BEGIN:VEVENT
DTSTART;TZID=America/New_York:20250823T000000
DTEND;TZID=America/New_York:20250823T235959
DTSTAMP:20260424T043408
CREATED:20250731T130755Z
LAST-MODIFIED:20250731T130755Z
UID:1518-1755907200-1755993599@sarasotaphc.com
SUMMARY:Margaritaville Week at Pop's
DESCRIPTION:Watch for Details!  The Sarasota Bay Parrothead Club will be going to Pop’s on the intercoastal  for their Margaritaville celebration of Jimmy Buffett with live music and fun!  Details will be coming!
URL:https://sarasotaphc.com/event/margaritaville-week-at-pops/
LOCATION:Pop’s Suset Grill\, 112 Circuit Road\, Nokomis\, FL\, 34275\, United States
CATEGORIES:Upcoming Events
END:VEVENT
BEGIN:VEVENT
DTSTART;TZID=America/New_York:20250823T130000
DTEND;TZID=America/New_York:20250823T160000
DTSTAMP:20260424T043408
CREATED:20250731T165639Z
LAST-MODIFIED:20250731T165850Z
UID:1524-1755954000-1755964800@sarasotaphc.com
SUMMARY:Margaritaville Saturday at Pop's!
DESCRIPTION:It s Jimmy Buffett celebration month at Pop’s\, and what better way for the Sarasota Bay Parrothead Club to celebrate than with a little day drinking at Pop’s in the Tiki Bar!  \nWe have a reserved section and there will be live music\, food and drink specials\, and PHUN stuff happening as we celebrate all things Jimmy during Margaritaville Week.  We will make it an afternoon affair! \nLet us know if you plan to attend so we can add seating if need be!
URL:https://sarasotaphc.com/event/margaritaville-saturday-at-pops/
LOCATION:Pop’s Suset Grill\, 112 Circuit Road\, Nokomis\, FL\, 34275\, United States
CATEGORIES:Upcoming Events
END:VEVENT
END:VCALENDAR