BEGIN:VCALENDAR
VERSION:2.0
PRODID:-//Sarasota Bay Parrothead Club - ECPv6.15.20//NONSGML v1.0//EN
CALSCALE:GREGORIAN
METHOD:PUBLISH
X-WR-CALNAME:Sarasota Bay Parrothead Club
X-ORIGINAL-URL:https://sarasotaphc.com
X-WR-CALDESC:Events for Sarasota Bay Parrothead Club
REFRESH-INTERVAL;VALUE=DURATION:PT1H
X-Robots-Tag:noindex
X-PUBLISHED-TTL:PT1H
BEGIN:VTIMEZONE
TZID:America/New_York
BEGIN:DAYLIGHT
TZOFFSETFROM:-0500
TZOFFSETTO:-0400
TZNAME:EDT
DTSTART:20240310T070000
END:DAYLIGHT
BEGIN:STANDARD
TZOFFSETFROM:-0400
TZOFFSETTO:-0500
TZNAME:EST
DTSTART:20241103T060000
END:STANDARD
BEGIN:DAYLIGHT
TZOFFSETFROM:-0500
TZOFFSETTO:-0400
TZNAME:EDT
DTSTART:20250309T070000
END:DAYLIGHT
BEGIN:STANDARD
TZOFFSETFROM:-0400
TZOFFSETTO:-0500
TZNAME:EST
DTSTART:20251102T060000
END:STANDARD
BEGIN:DAYLIGHT
TZOFFSETFROM:-0500
TZOFFSETTO:-0400
TZNAME:EDT
DTSTART:20260308T070000
END:DAYLIGHT
BEGIN:STANDARD
TZOFFSETFROM:-0400
TZOFFSETTO:-0500
TZNAME:EST
DTSTART:20261101T060000
END:STANDARD
END:VTIMEZONE
BEGIN:VEVENT
DTSTART;TZID=America/New_York:20250828T083000
DTEND;TZID=America/New_York:20250828T180000
DTSTAMP:20260422T092944
CREATED:20250617T221950Z
LAST-MODIFIED:20250617T222201Z
UID:1419-1756369800-1756404000@sarasotaphc.com
SUMMARY:Margaritaville Thrifting Bus Tour Boarding in Sarasota and Venice
DESCRIPTION:Margaritaville Thrifting Bus Tour Boarding in Sarasota and Venice\n\n\n\nEach August Florida celebrates the legendary Jimmy Buffett. To honor Jimmy’s giving heart – we’re taking that celebration on the road!\n\n\n\n\n\n\n\nLocation\n\n\n  \n\n2 BOARDING LOCATIONS: #1 8:00am Burlington Coat Factory parking lot 3943 Cattlemen Rd\, Sarasota\, FL 34233 #2 8:30am Publix 345 Jacaranda Blvd.\, Venice\, FL 34292 \n3942 Cattlemen Road Board in Sarasota & Venice Sarasota\, FL 34233 \n\n\n\n\n\n\n\n\n\n\n\nRefund Policy\n\nNo Refunds\n\n\n\n\n \nAbout this event\n\n\n\n\n\n\n\n\nJoin us for a one-of-a-kind Thrifting Bus Tour celebrating the music\, spirit\, and generosity of the legendary Jimmy Buffett! Each year\, Florida takes a moment to honor Jimmy’s laid-back lifestyle and giving heart — and this year\, we’re taking that celebration on the road. \nAbout our Shopping Stops: \nMEN ARE WELCOME TO JOIN THE FUN! Please note that one of the stops features exclusively women’s clothing and accessories. \nThis trip combines some of our favorite Thrift & Resale stores that carry a wide variety of items to please everyone! \nAnother UNIQUE stop includes the best collection of Antique and Vintage Nautical items\, American Art Pottery\, fun 50s 60s and 70s Decor\, Mid Century items\, and a variety Tiki Totem Poles\, Mexican Talavera pottery\, Hatian metal art and more. \nMargaritaville Lunch Stop: \nWe’ll be taking a relaxing break from our thrifting adventure to enjoy lunch (and maybe a frozen concoction) at the Margaritaville Resort on Fort Myers Beach —Lunch on your own\, the ultimate way\, raise a cheeseburger toast to Jimmy! Other lunch choices are available see link below for menu review. Outside food can not be brought on to the property. \n🎶 In Honor of Jimmy Buffett’s Giving Heart 🕶️🌴\nJoin us on our special Thrifting Bus Tour Tribute as we celebrate the laid-back spirit and generosity of Jimmy Buffett by giving back—just like Jimmy would. Bring along a thrift store donation OF ANY KIND (or a few!) to contribute in his memory. For every donation item you bring\, you’ll receive a raffle ticket! The more you give\, the more chances you have to win fun prizes during the tour! \nLet’s thrift\, give\, and live the good life—Buffett style.  \n🥂 Sip While You Ride to Shop! \nOur party is B.Y.O.B.—yes\, bring your bubbly\, your Bloody Marys\, your favorite Jimmy Buffett inspired drink or brew! Just use a small cooler with freezer packs (no ice—slippery spills = no fun). Coffee lovers\, you’re welcome too! Just make sure ALL your drinks have a lid! \n🩴 Slip into your flip flops (or comfy shoes) and tropical atire for a fun-filled day of treasure hunting\, tropical tunes\, and coastal joy — with a special lunch stop at the Margaritaville Resort on Fort Myers Beach! \n🎟️ Thrifting Adventure Tickets: $75 plus sales tax & Eventbrite fees. \n🏝️ What’s Included: \n✅ Roundtrip Bus Transportation\n✅ Morning snack\, afternoon refreshments\, & plenty of cold water.\n✅ Games\, Raffles & Prizes\n✅ Lunch Stop at Margaritaville Resort (meal not included in ticket price)\n✅ Onboard Entertainment + Tropical Playlist\n✅ Themed Photo Ops & Surprises All Day\n✅ Thrift store Donation Drive or Giveback Initiative in Jimmy’s Honor\nIncludes transportation\, morning snack\, afternoon refreshments\, games\, giveaways & good vibes. Lunch and personal purchases not included. \n🎶 “If there’s a heaven for me\, I’m sure it has a beach attached.” – Jimmy Buffett \nLet’s thrift\, laugh\, and live the Buffett way for a day.\nReserve your seat today!  \nSpots are limited and always sell out — grab yours now and let’s make memories the Margaritaville way! \nMargaritaville Resort Restaurants available for us to dine at: \nLicense to Chill Bar & Grill\nLah De Dah Beach Bar & Grill\nGrab an iced coffee (spike it with some rum) at the \nCoconut Telegraph Coffee Shop\nSnag some Buffett swag at the \nMargaritaville Gift Shop\n\n\n\n\n\n\n\n\n\n\n\n\n\n\n\n\n\n\nTRIP BOARDING LOCATIONS: Please ARRIVE 15 MINUTES PRIOR so you are not late.\nThe BUS ARRIVES at the times below\, please wait if we have traffic instances. WE come RAIN or SHINE!\n8:00am SARASOTA Burlington Coat Factory parking lot 3943 Cattlemen Rd\, Sarasota\, FL 34233 (Facing Burlington-park to the left near McDonalds)\n8:30am VENICE Publix 345 Jacaranda Blvd\, Venice\, FL 34292 (Park straight out from Publix out by Jacaranda Blvd.)\nReturn Times 5:30-6pm*\n*Please do not have special plans the evening of our trip\, we can not predict traffic instances.\n 
URL:https://sarasotaphc.com/event/margaritaville-thrifting-bus-tour-boarding-in-sarasota-and-venice/
END:VEVENT
BEGIN:VEVENT
DTSTART;TZID=America/New_York:20250828T180000
DTEND;TZID=America/New_York:20250828T220000
DTSTAMP:20260422T092944
CREATED:20250627T173159Z
LAST-MODIFIED:20250627T173159Z
UID:1476-1756404000-1756418400@sarasotaphc.com
SUMMARY:Lefty Lucy - Local
DESCRIPTION:28- Parrot Patio\, Sarasota 6-10pm
URL:https://sarasotaphc.com/event/lefty-lucy-local-17/
LOCATION:Parrot Patio\, 3602 Webber St.\, Sarasota\, FL\, 34232\, United States
CATEGORIES:Local Music
END:VEVENT
END:VCALENDAR