BEGIN:VCALENDAR
VERSION:2.0
PRODID:-//Sarasota Bay Parrothead Club - ECPv6.15.20//NONSGML v1.0//EN
CALSCALE:GREGORIAN
METHOD:PUBLISH
X-ORIGINAL-URL:https://sarasotaphc.com
X-WR-CALDESC:Events for Sarasota Bay Parrothead Club
REFRESH-INTERVAL;VALUE=DURATION:PT1H
X-Robots-Tag:noindex
X-PUBLISHED-TTL:PT1H
BEGIN:VTIMEZONE
TZID:America/New_York
BEGIN:DAYLIGHT
TZOFFSETFROM:-0500
TZOFFSETTO:-0400
TZNAME:EDT
DTSTART:20240310T070000
END:DAYLIGHT
BEGIN:STANDARD
TZOFFSETFROM:-0400
TZOFFSETTO:-0500
TZNAME:EST
DTSTART:20241103T060000
END:STANDARD
BEGIN:DAYLIGHT
TZOFFSETFROM:-0500
TZOFFSETTO:-0400
TZNAME:EDT
DTSTART:20250309T070000
END:DAYLIGHT
BEGIN:STANDARD
TZOFFSETFROM:-0400
TZOFFSETTO:-0500
TZNAME:EST
DTSTART:20251102T060000
END:STANDARD
BEGIN:DAYLIGHT
TZOFFSETFROM:-0500
TZOFFSETTO:-0400
TZNAME:EDT
DTSTART:20260308T070000
END:DAYLIGHT
BEGIN:STANDARD
TZOFFSETFROM:-0400
TZOFFSETTO:-0500
TZNAME:EST
DTSTART:20261101T060000
END:STANDARD
END:VTIMEZONE
BEGIN:VEVENT
DTSTART;TZID=America/New_York:20250829T000000
DTEND;TZID=America/New_York:20250830T235959
DTSTAMP:20260422T093154
CREATED:20250627T173419Z
LAST-MODIFIED:20250627T173419Z
UID:1478-1756425600-1756598399@sarasotaphc.com
SUMMARY:Lefty Lucy - Local
DESCRIPTION:29 & 30- FINS UP FOREVER Jimmy Buffett Tribute\, Venice\, FL 7pm
URL:https://sarasotaphc.com/event/lefty-lucy-local-18/
LOCATION:Venezia\, 425 US 41 Bypass N\, Venice\, FL\, 34285\, United States
CATEGORIES:Local Music
END:VEVENT
BEGIN:VEVENT
DTSTART;TZID=America/New_York:20250829T170000
DTEND;TZID=America/New_York:20250829T200000
DTSTAMP:20260422T093154
CREATED:20250604T184012Z
LAST-MODIFIED:20250604T184012Z
UID:1324-1756486800-1756497600@sarasotaphc.com
SUMMARY:Flip Flop Dave at Loaded Cannon Distillery
DESCRIPTION:Check out Flip Flop Dave for local live music!
URL:https://sarasotaphc.com/event/flip-flop-dave-at-loaded-cannon-distillery-3/
LOCATION:Loaded Cannon Distillery\, 3115 Lakewood Ranch Blvd. Suite 110\, Bradenton\, FL\, 34211\, United States
CATEGORIES:Local Music
END:VEVENT
BEGIN:VEVENT
DTSTART;TZID=America/New_York:20250829T170000
DTEND;TZID=America/New_York:20250830T220000
DTSTAMP:20260422T093154
CREATED:20250326T160527Z
LAST-MODIFIED:20250326T161220Z
UID:728-1756486800-1756591200@sarasotaphc.com
SUMMARY:Jimmy Buffett Tribute Concert - Fins Up Forever!
DESCRIPTION:Join us for the 2nd Annual Buffett Bash\, a Labor Day Weekend tradition honoring Jimmy’s music and concert legacy! This fun-filled night brings together incredible live music\, tailgating vibes\, and the camaraderie that made his concerts legendary. August 29-30\, 2025! \ntickets are currently for sale. They are at a discounted early bird rate through 4/30! \nTickets and information here: finsupforever.org \n✨ Featuring an All-Star Lineup:\n🎤 Lucy & Nick from Lefty Lucy\n🎸 Sunny Jim\, John Patti\, Jax Bowers\, Klee Liles & Aloha Steve\n🌊 Performing as Gypsies in Paradise\n📅 Saturday\, August 30\, 2025\n📍 Hotel Venezia – Venice\, FL\n🎟 General Admission Seating\n🎶 Concert: 7:00 – 9:00 PM\nGrab your tickets now and be part of this unforgettable night! Click the link for full event details and tickets.\n👉 Let’s celebrate\, sing along\, and keep the party going! 🍹🎶🏝 \nLook up the event at:\ntickets here: https://l.facebook.com/l.php?u=https%3A%2F%2Ftickets.evvnt.com%2Fevents%2Ffins-up-forever-concert-jimmy-buffett-tribute-194673%3Ffbclid%3DIwZXh0bgNhZW0CMTAAAR2oqrLeMqxlvMsNgZyRyjIU4uheco04Yof2xgL9ov3XjAEVscigt7ImBTY_aem_0BUoOrcV91XN67Jh0ulXiw&h=AT1aJFv1bQ6sRNwcc4T8MWkaD84dFu9_0oSdATwhiCZwDx9asTQuRLTWPug5bcnPSCwsLTSOreFN7EBjPIsfgqbwr9hBDyL-Jcv_S8nqaETO6qT8biEronzss_bhwWR2 \nGypsies in Paradise
URL:https://sarasotaphc.com/event/jimmy-buffett-tribute-concert-fins-up-forever/
LOCATION:Hotel Venezia\, 425 US 41 Bypass N\, Venice\, FL\, 34285\, United States
END:VEVENT
END:VCALENDAR