BEGIN:VCALENDAR
VERSION:2.0
PRODID:-//Sarasota Bay Parrothead Club - ECPv6.15.20//NONSGML v1.0//EN
CALSCALE:GREGORIAN
METHOD:PUBLISH
X-ORIGINAL-URL:https://sarasotaphc.com
X-WR-CALDESC:Events for Sarasota Bay Parrothead Club
REFRESH-INTERVAL;VALUE=DURATION:PT1H
X-Robots-Tag:noindex
X-PUBLISHED-TTL:PT1H
BEGIN:VTIMEZONE
TZID:America/New_York
BEGIN:DAYLIGHT
TZOFFSETFROM:-0500
TZOFFSETTO:-0400
TZNAME:EDT
DTSTART:20240310T070000
END:DAYLIGHT
BEGIN:STANDARD
TZOFFSETFROM:-0400
TZOFFSETTO:-0500
TZNAME:EST
DTSTART:20241103T060000
END:STANDARD
BEGIN:DAYLIGHT
TZOFFSETFROM:-0500
TZOFFSETTO:-0400
TZNAME:EDT
DTSTART:20250309T070000
END:DAYLIGHT
BEGIN:STANDARD
TZOFFSETFROM:-0400
TZOFFSETTO:-0500
TZNAME:EST
DTSTART:20251102T060000
END:STANDARD
BEGIN:DAYLIGHT
TZOFFSETFROM:-0500
TZOFFSETTO:-0400
TZNAME:EDT
DTSTART:20260308T070000
END:DAYLIGHT
BEGIN:STANDARD
TZOFFSETFROM:-0400
TZOFFSETTO:-0500
TZNAME:EST
DTSTART:20261101T060000
END:STANDARD
END:VTIMEZONE
BEGIN:VEVENT
DTSTART;TZID=America/New_York:20250906T160000
DTEND;TZID=America/New_York:20250906T190000
DTSTAMP:20260420T075845
CREATED:20250604T194627Z
LAST-MODIFIED:20250604T194627Z
UID:1388-1757174400-1757185200@sarasotaphc.com
SUMMARY:Tiki Tony's House Concert: Monallo w/ Jax
DESCRIPTION: Inspired by real-life experiences and the world that surrounds us all\, monallo’s warm sound\, vivid imagery and organic style produces songs that are both true to the heart and easy to listen to. Some are lighthearted\, some are heartfelt\, but they each set a relaxing\, down-to-earth tone that we can all enjoy.
URL:https://sarasotaphc.com/event/tiki-tonys-house-concert-monallo-w-jax/
LOCATION:Tiki Tony’s\, 9506 32nd Ct E.\, Parrish\, FL\, 34219\, United States
CATEGORIES:House Concert
END:VEVENT
END:VCALENDAR