BEGIN:VCALENDAR
VERSION:2.0
PRODID:-//Sarasota Bay Parrothead Club - ECPv6.15.20//NONSGML v1.0//EN
CALSCALE:GREGORIAN
METHOD:PUBLISH
X-WR-CALNAME:Sarasota Bay Parrothead Club
X-ORIGINAL-URL:https://sarasotaphc.com
X-WR-CALDESC:Events for Sarasota Bay Parrothead Club
REFRESH-INTERVAL;VALUE=DURATION:PT1H
X-Robots-Tag:noindex
X-PUBLISHED-TTL:PT1H
BEGIN:VTIMEZONE
TZID:America/New_York
BEGIN:DAYLIGHT
TZOFFSETFROM:-0500
TZOFFSETTO:-0400
TZNAME:EDT
DTSTART:20240310T070000
END:DAYLIGHT
BEGIN:STANDARD
TZOFFSETFROM:-0400
TZOFFSETTO:-0500
TZNAME:EST
DTSTART:20241103T060000
END:STANDARD
BEGIN:DAYLIGHT
TZOFFSETFROM:-0500
TZOFFSETTO:-0400
TZNAME:EDT
DTSTART:20250309T070000
END:DAYLIGHT
BEGIN:STANDARD
TZOFFSETFROM:-0400
TZOFFSETTO:-0500
TZNAME:EST
DTSTART:20251102T060000
END:STANDARD
BEGIN:DAYLIGHT
TZOFFSETFROM:-0500
TZOFFSETTO:-0400
TZNAME:EDT
DTSTART:20260308T070000
END:DAYLIGHT
BEGIN:STANDARD
TZOFFSETFROM:-0400
TZOFFSETTO:-0500
TZNAME:EST
DTSTART:20261101T060000
END:STANDARD
END:VTIMEZONE
BEGIN:VEVENT
DTSTART;TZID=America/New_York:20250914T150000
DTEND;TZID=America/New_York:20250914T180000
DTSTAMP:20260422T063327
CREATED:20250627T173816Z
LAST-MODIFIED:20250627T173816Z
UID:1487-1757862000-1757872800@sarasotaphc.com
SUMMARY:Lefty Lucy - Local
DESCRIPTION:14- Spanish Point Tiki\, Osprey 3-6pm
URL:https://sarasotaphc.com/event/lefty-lucy-local-22/
LOCATION:Spanish Point\, 135 Bayview Drive\, Osprey\, FL\, 34229\, United States
CATEGORIES:Local Music
END:VEVENT
BEGIN:VEVENT
DTSTART;TZID=America/New_York:20250914T170000
DTEND;TZID=America/New_York:20250914T200000
DTSTAMP:20260422T063327
CREATED:20250604T184118Z
LAST-MODIFIED:20250604T184118Z
UID:1327-1757869200-1757880000@sarasotaphc.com
SUMMARY:Flip Flop Dave at Jiggs Landing
DESCRIPTION:Check out Flip Flop Dave for local live music!
URL:https://sarasotaphc.com/event/flip-flop-dave-at-jiggs-landing-4/
LOCATION:Jiggs Landing\, 6106 Braden River Rd\,\, Bradenton\, FL\, 34203\, United States
CATEGORIES:Local Music
END:VEVENT
END:VCALENDAR