BEGIN:VCALENDAR
VERSION:2.0
PRODID:-//Sarasota Bay Parrothead Club - ECPv6.15.20//NONSGML v1.0//EN
CALSCALE:GREGORIAN
METHOD:PUBLISH
X-ORIGINAL-URL:https://sarasotaphc.com
X-WR-CALDESC:Events for Sarasota Bay Parrothead Club
REFRESH-INTERVAL;VALUE=DURATION:PT1H
X-Robots-Tag:noindex
X-PUBLISHED-TTL:PT1H
BEGIN:VTIMEZONE
TZID:America/New_York
BEGIN:DAYLIGHT
TZOFFSETFROM:-0500
TZOFFSETTO:-0400
TZNAME:EDT
DTSTART:20240310T070000
END:DAYLIGHT
BEGIN:STANDARD
TZOFFSETFROM:-0400
TZOFFSETTO:-0500
TZNAME:EST
DTSTART:20241103T060000
END:STANDARD
BEGIN:DAYLIGHT
TZOFFSETFROM:-0500
TZOFFSETTO:-0400
TZNAME:EDT
DTSTART:20250309T070000
END:DAYLIGHT
BEGIN:STANDARD
TZOFFSETFROM:-0400
TZOFFSETTO:-0500
TZNAME:EST
DTSTART:20251102T060000
END:STANDARD
BEGIN:DAYLIGHT
TZOFFSETFROM:-0500
TZOFFSETTO:-0400
TZNAME:EDT
DTSTART:20260308T070000
END:DAYLIGHT
BEGIN:STANDARD
TZOFFSETFROM:-0400
TZOFFSETTO:-0500
TZNAME:EST
DTSTART:20261101T060000
END:STANDARD
END:VTIMEZONE
BEGIN:VEVENT
DTSTART;TZID=America/New_York:20251021T130000
DTEND;TZID=America/New_York:20251021T170000
DTSTAMP:20260422T052452
CREATED:20250512T224129Z
LAST-MODIFIED:20250512T224129Z
UID:1016-1761051600-1761066000@sarasotaphc.com
SUMMARY:Sunny Jim - Local
DESCRIPTION:Captain Curts\n\n1 Pm to 5 Pm Come have lunch including their New England Chowder Clam Festival Grand Prize winning chow-dah!
URL:https://sarasotaphc.com/event/sunny-jim-local-29/
LOCATION:Captain Curts\, 1204 Old Stickney Point Road\, Sarasota\, FL\, 34242\, United States
CATEGORIES:Local Music,Upcoming Events
END:VEVENT
BEGIN:VEVENT
DTSTART;TZID=America/New_York:20251021T180000
DTEND;TZID=America/New_York:20251021T200000
DTSTAMP:20260422T052452
CREATED:20250131T180351Z
LAST-MODIFIED:20250402T175117Z
UID:651-1761069600-1761076800@sarasotaphc.com
SUMMARY:Tuesday on the Island
DESCRIPTION:The Sarasota Bay Parrothead Club welcomes you to join us the 3rd Tuesday of the month\, March through October! We meet up for a social on Siesta Key Beach to celebrate our beautiful sunset!  Bring a chair\, your drink(s) of choice\, and any snacks an hour before sunset.  This is a moving target as the year moves along\, but we will send out notices as we approach each date. \nThe club will meet at Siesta Key Beach at Walt’s Tree! When you pull in the parking lot you go to the far left side of the parking lot and follow the main side walk right out to it. It is in front of the concession stand so we have a bathroom\, is easy access for those with walking issues and is right at the end where the yellow life guard chair is with shade and grass too. Walt’s tree is actually considered a county owned park and can be reserved for events. It’s super easy to get parking on that end of the lot as well. \nEnjoy a great Tuesday evening on the Island beach with great phriends when the sun goes down!
URL:https://sarasotaphc.com/event/tuesday-on-the-island-12/
LOCATION:Siesta Key / Walt’s Tree
END:VEVENT
END:VCALENDAR