BEGIN:VCALENDAR
VERSION:2.0
PRODID:-//Sarasota Bay Parrothead Club - ECPv6.15.20//NONSGML v1.0//EN
CALSCALE:GREGORIAN
METHOD:PUBLISH
X-ORIGINAL-URL:https://sarasotaphc.com
X-WR-CALDESC:Events for Sarasota Bay Parrothead Club
REFRESH-INTERVAL;VALUE=DURATION:PT1H
X-Robots-Tag:noindex
X-PUBLISHED-TTL:PT1H
BEGIN:VTIMEZONE
TZID:America/New_York
BEGIN:DAYLIGHT
TZOFFSETFROM:-0500
TZOFFSETTO:-0400
TZNAME:EDT
DTSTART:20240310T070000
END:DAYLIGHT
BEGIN:STANDARD
TZOFFSETFROM:-0400
TZOFFSETTO:-0500
TZNAME:EST
DTSTART:20241103T060000
END:STANDARD
BEGIN:DAYLIGHT
TZOFFSETFROM:-0500
TZOFFSETTO:-0400
TZNAME:EDT
DTSTART:20250309T070000
END:DAYLIGHT
BEGIN:STANDARD
TZOFFSETFROM:-0400
TZOFFSETTO:-0500
TZNAME:EST
DTSTART:20251102T060000
END:STANDARD
BEGIN:DAYLIGHT
TZOFFSETFROM:-0500
TZOFFSETTO:-0400
TZNAME:EDT
DTSTART:20260308T070000
END:DAYLIGHT
BEGIN:STANDARD
TZOFFSETFROM:-0400
TZOFFSETTO:-0500
TZNAME:EST
DTSTART:20261101T060000
END:STANDARD
END:VTIMEZONE
BEGIN:VEVENT
DTSTART;TZID=America/New_York:20251022T000000
DTEND;TZID=America/New_York:20251026T235959
DTSTAMP:20260420T075728
CREATED:20250712T135313Z
LAST-MODIFIED:20250712T135313Z
UID:1511-1761091200-1761523199@sarasotaphc.com
SUMMARY:PHiP’s Annual Meeting of the Minds 2025
DESCRIPTION:PHiP’s Annual Meeting of the Minds 2025\nWednesday\, October 22nd – Sunday\, October 26th\, 2025 \nKeeping the Party Going!\nMOTM is the annual PHiP convention held annually during the end of October and beginning of November. While previously hosted in New Orleans and Key West\, the new home of MOTM is Gulf Shores\, Alabama and is always subject to change. It is open to any member of a PHiP sanctioned Parrot Head Club covering several days and nights of friendship\, fun\, food and great music\, with a few optional meetings and seminars thrown in the mix. \nMain
URL:https://sarasotaphc.com/event/phips-annual-meeting-of-the-minds-2025/
LOCATION:FL
END:VEVENT
BEGIN:VEVENT
DTSTART;TZID=America/New_York:20251024T170000
DTEND;TZID=America/New_York:20251024T200000
DTSTAMP:20260420T075728
CREATED:20250604T184345Z
LAST-MODIFIED:20250604T184345Z
UID:1331-1761325200-1761336000@sarasotaphc.com
SUMMARY:Flip Flop Dave at Loaded Cannon Distillery
DESCRIPTION:Check out Flip Flop Dave for local live music!
URL:https://sarasotaphc.com/event/flip-flop-dave-at-loaded-cannon-distillery-5/
LOCATION:Loaded Cannon Distillery\, 3115 Lakewood Ranch Blvd. Suite 110\, Bradenton\, FL\, 34211\, United States
CATEGORIES:Local Music
END:VEVENT
END:VCALENDAR