BEGIN:VCALENDAR
VERSION:2.0
PRODID:-//Sarasota Bay Parrothead Club - ECPv6.15.20//NONSGML v1.0//EN
CALSCALE:GREGORIAN
METHOD:PUBLISH
X-WR-CALNAME:Sarasota Bay Parrothead Club
X-ORIGINAL-URL:https://sarasotaphc.com
X-WR-CALDESC:Events for Sarasota Bay Parrothead Club
REFRESH-INTERVAL;VALUE=DURATION:PT1H
X-Robots-Tag:noindex
X-PUBLISHED-TTL:PT1H
BEGIN:VTIMEZONE
TZID:America/New_York
BEGIN:DAYLIGHT
TZOFFSETFROM:-0500
TZOFFSETTO:-0400
TZNAME:EDT
DTSTART:20240310T070000
END:DAYLIGHT
BEGIN:STANDARD
TZOFFSETFROM:-0400
TZOFFSETTO:-0500
TZNAME:EST
DTSTART:20241103T060000
END:STANDARD
BEGIN:DAYLIGHT
TZOFFSETFROM:-0500
TZOFFSETTO:-0400
TZNAME:EDT
DTSTART:20250309T070000
END:DAYLIGHT
BEGIN:STANDARD
TZOFFSETFROM:-0400
TZOFFSETTO:-0500
TZNAME:EST
DTSTART:20251102T060000
END:STANDARD
BEGIN:DAYLIGHT
TZOFFSETFROM:-0500
TZOFFSETTO:-0400
TZNAME:EDT
DTSTART:20260308T070000
END:DAYLIGHT
BEGIN:STANDARD
TZOFFSETFROM:-0400
TZOFFSETTO:-0500
TZNAME:EST
DTSTART:20261101T060000
END:STANDARD
END:VTIMEZONE
BEGIN:VEVENT
DTSTART;TZID=America/New_York:20251115T000000
DTEND;TZID=America/New_York:20251115T235959
DTSTAMP:20260420T074956
CREATED:20250501T164200Z
LAST-MODIFIED:20250501T164335Z
UID:856-1763164800-1763251199@sarasotaphc.com
SUMMARY:Sarasota Bay Parrothead Team Alzheimer's Walk 2025
DESCRIPTION:Stay tuned for our 2025 Team Alzheimer’s Walk ….details coming soon!
URL:https://sarasotaphc.com/event/sarasota-bay-parrothead-team-alzheimers-walk-2025/
LOCATION:FL
END:VEVENT
BEGIN:VEVENT
DTSTART;TZID=America/New_York:20251115T173000
DTEND;TZID=America/New_York:20251115T213000
DTSTAMP:20260420T074956
CREATED:20241220T230358Z
LAST-MODIFIED:20250604T185533Z
UID:555-1763227800-1763242200@sarasotaphc.com
SUMMARY:Habitat House Concert: Jesse Rice
DESCRIPTION:Jesse Rice 2025 \nI will update the RSVP form with more info soon\, but Please feel free to RSVP to this show if you already know you plan to attend – the suggested Donation for this show is $35\, with VIP suggested $50. Donations are given at the door\, and 100% goes directly to the musician. Please remember if you are RSVPing for more than yourself\, select the number of additional guests and click the “ADD GUESTS” button and add the additional names (if you miss this step\, I will NOT know how many people you are RSVPing for and only one name (yours) will be on the RSVP list! \nJesse Rice 2025 – SOLD OUT
URL:https://sarasotaphc.com/event/habitat-house-concert-jesse-rice/
LOCATION:Habitat House Concerts\, 609 49th St W\, Bradenton\, FL\, 34209\, United States
CATEGORIES:House Concert
END:VEVENT
END:VCALENDAR