BEGIN:VCALENDAR
VERSION:2.0
PRODID:-//Sarasota Bay Parrothead Club - ECPv6.15.20//NONSGML v1.0//EN
CALSCALE:GREGORIAN
METHOD:PUBLISH
X-ORIGINAL-URL:https://sarasotaphc.com
X-WR-CALDESC:Events for Sarasota Bay Parrothead Club
REFRESH-INTERVAL;VALUE=DURATION:PT1H
X-Robots-Tag:noindex
X-PUBLISHED-TTL:PT1H
BEGIN:VTIMEZONE
TZID:America/New_York
BEGIN:DAYLIGHT
TZOFFSETFROM:-0500
TZOFFSETTO:-0400
TZNAME:EDT
DTSTART:20250309T070000
END:DAYLIGHT
BEGIN:STANDARD
TZOFFSETFROM:-0400
TZOFFSETTO:-0500
TZNAME:EST
DTSTART:20251102T060000
END:STANDARD
BEGIN:DAYLIGHT
TZOFFSETFROM:-0500
TZOFFSETTO:-0400
TZNAME:EDT
DTSTART:20260308T070000
END:DAYLIGHT
BEGIN:STANDARD
TZOFFSETFROM:-0400
TZOFFSETTO:-0500
TZNAME:EST
DTSTART:20261101T060000
END:STANDARD
BEGIN:DAYLIGHT
TZOFFSETFROM:-0500
TZOFFSETTO:-0400
TZNAME:EDT
DTSTART:20270314T070000
END:DAYLIGHT
BEGIN:STANDARD
TZOFFSETFROM:-0400
TZOFFSETTO:-0500
TZNAME:EST
DTSTART:20271107T060000
END:STANDARD
END:VTIMEZONE
BEGIN:VEVENT
DTSTART;TZID=America/New_York:20260115T150000
DTEND;TZID=America/New_York:20260115T180000
DTSTAMP:20260420T075657
CREATED:20260102T133529Z
LAST-MODIFIED:20260102T133529Z
UID:1658-1768489200-1768500000@sarasotaphc.com
SUMMARY:Flip Flop Dave - Local Music
DESCRIPTION:6106 63rd St EBradenton\, FL 34203
URL:https://sarasotaphc.com/event/flip-flop-dave-local-music-3/
LOCATION:Jiggs Landing\, 6106 Braden River Rd\,\, Bradenton\, FL\, 34203\, United States
CATEGORIES:Local Music
END:VEVENT
BEGIN:VEVENT
DTSTART;TZID=America/New_York:20260115T200000
DTEND;TZID=America/New_York:20260115T230000
DTSTAMP:20260420T075657
CREATED:20250909T121717Z
LAST-MODIFIED:20250909T121717Z
UID:1592-1768507200-1768518000@sarasotaphc.com
SUMMARY:The Coral Reefer Band is coming!
DESCRIPTION:THURSDAY\, JANUARY 15 AT 8:00PM\nThe Coral Reefer Band is coming to the Duke Energy Center for the Arts – Mahaffey Theater on Thursday\, January 15 at 8pm! For over five decades\, Jimmy Buffett and The Coral Reefer Band created the soundtrack to endless summers\, salty breezes\, and carefree good times. What began in 1973\, evolved into one of the most beloved live acts in American music history. \nTickets for this show go on sale to the public on Friday\, September 12 at 10am. \nInterested in reserving your seats before the public? Members of Bill Edwards Foundation for the Arts have access to an exclusive presale starting today at 12pm. Call (727) 300-2000 to learn more about the perks of membership!
URL:https://sarasotaphc.com/event/the-coral-reefer-band-is-coming/
LOCATION:FL
CATEGORIES:Upcoming Events
END:VEVENT
END:VCALENDAR