BEGIN:VCALENDAR
VERSION:2.0
PRODID:-//Sarasota Bay Parrothead Club - ECPv6.15.20//NONSGML v1.0//EN
CALSCALE:GREGORIAN
METHOD:PUBLISH
X-WR-CALNAME:Sarasota Bay Parrothead Club
X-ORIGINAL-URL:https://sarasotaphc.com
X-WR-CALDESC:Events for Sarasota Bay Parrothead Club
REFRESH-INTERVAL;VALUE=DURATION:PT1H
X-Robots-Tag:noindex
X-PUBLISHED-TTL:PT1H
BEGIN:VTIMEZONE
TZID:America/New_York
BEGIN:DAYLIGHT
TZOFFSETFROM:-0500
TZOFFSETTO:-0400
TZNAME:EDT
DTSTART:20250309T070000
END:DAYLIGHT
BEGIN:STANDARD
TZOFFSETFROM:-0400
TZOFFSETTO:-0500
TZNAME:EST
DTSTART:20251102T060000
END:STANDARD
BEGIN:DAYLIGHT
TZOFFSETFROM:-0500
TZOFFSETTO:-0400
TZNAME:EDT
DTSTART:20260308T070000
END:DAYLIGHT
BEGIN:STANDARD
TZOFFSETFROM:-0400
TZOFFSETTO:-0500
TZNAME:EST
DTSTART:20261101T060000
END:STANDARD
BEGIN:DAYLIGHT
TZOFFSETFROM:-0500
TZOFFSETTO:-0400
TZNAME:EDT
DTSTART:20270314T070000
END:DAYLIGHT
BEGIN:STANDARD
TZOFFSETFROM:-0400
TZOFFSETTO:-0500
TZNAME:EST
DTSTART:20271107T060000
END:STANDARD
END:VTIMEZONE
BEGIN:VEVENT
DTSTART;TZID=America/New_York:20260213T170000
DTEND;TZID=America/New_York:20260213T200000
DTSTAMP:20260420T065243
CREATED:20260102T134317Z
LAST-MODIFIED:20260102T134317Z
UID:1671-1771002000-1771012800@sarasotaphc.com
SUMMARY:Flip Flop Dave - Local Music
DESCRIPTION:3115 Lakewood Ranch Blvd.Suite 110Bradenton\, Florida 34211
URL:https://sarasotaphc.com/event/flip-flop-dave-local-music-9/
LOCATION:Loaded Cannon Distillery\, 3115 Lakewood Ranch Blvd. Suite 110\, Bradenton\, FL\, 34211\, United States
CATEGORIES:Local Music
END:VEVENT
BEGIN:VEVENT
DTSTART;TZID=America/New_York:20260213T180000
DTEND;TZID=America/New_York:20260213T213000
DTSTAMP:20260420T065243
CREATED:20260102T140640Z
LAST-MODIFIED:20260102T140640Z
UID:1707-1771005600-1771018200@sarasotaphc.com
SUMMARY:Sunny Jim - Local Music
DESCRIPTION:Fri\n\nFeb\n13th\n\n\n\n\nFarlows On the Water\n\nFarlows on the Water has done a major renovation and is stunningly beautiful. The food here is wonderful\, and it’s always a good time and perfect place for a date night! See you there… \n\n\n\n\n\n6:00 PM\n–\n9:30 PM
URL:https://sarasotaphc.com/event/sunny-jim-local-music-15/
LOCATION:Farlows on the Water\, 2080 S. McCall Rd.\, Englewood\, FL\, 34224\, United States
CATEGORIES:Local Music
END:VEVENT
END:VCALENDAR