BEGIN:VCALENDAR
VERSION:2.0
PRODID:-//Sarasota Bay Parrothead Club - ECPv6.15.20//NONSGML v1.0//EN
CALSCALE:GREGORIAN
METHOD:PUBLISH
X-WR-CALNAME:Sarasota Bay Parrothead Club
X-ORIGINAL-URL:https://sarasotaphc.com
X-WR-CALDESC:Events for Sarasota Bay Parrothead Club
REFRESH-INTERVAL;VALUE=DURATION:PT1H
X-Robots-Tag:noindex
X-PUBLISHED-TTL:PT1H
BEGIN:VTIMEZONE
TZID:America/New_York
BEGIN:DAYLIGHT
TZOFFSETFROM:-0500
TZOFFSETTO:-0400
TZNAME:EDT
DTSTART:20250309T070000
END:DAYLIGHT
BEGIN:STANDARD
TZOFFSETFROM:-0400
TZOFFSETTO:-0500
TZNAME:EST
DTSTART:20251102T060000
END:STANDARD
BEGIN:DAYLIGHT
TZOFFSETFROM:-0500
TZOFFSETTO:-0400
TZNAME:EDT
DTSTART:20260308T070000
END:DAYLIGHT
BEGIN:STANDARD
TZOFFSETFROM:-0400
TZOFFSETTO:-0500
TZNAME:EST
DTSTART:20261101T060000
END:STANDARD
BEGIN:DAYLIGHT
TZOFFSETFROM:-0500
TZOFFSETTO:-0400
TZNAME:EDT
DTSTART:20270314T070000
END:DAYLIGHT
BEGIN:STANDARD
TZOFFSETFROM:-0400
TZOFFSETTO:-0500
TZNAME:EST
DTSTART:20271107T060000
END:STANDARD
END:VTIMEZONE
BEGIN:VEVENT
DTSTART;TZID=America/New_York:20260421T130000
DTEND;TZID=America/New_York:20260421T170000
DTSTAMP:20260420T051754
CREATED:20260102T142016Z
LAST-MODIFIED:20260102T142016Z
UID:1741-1776776400-1776790800@sarasotaphc.com
SUMMARY:Sunny Jim - Local Music
DESCRIPTION:Tue\n\nApr\n21st\n\n\n\n\nCapt Curts\n\nUnder the new\, larger tiki hut! Let’s have a Sniki Tiki afternoon….. \n\n\n\n\n\n1:00 PM\n–\n5:00 PM\n\n\n1200 Old Stickney Point Rd\, Sarasota\, FL 34242\, United States
URL:https://sarasotaphc.com/event/sunny-jim-local-music-32/
LOCATION:Captain Curts\, 1204 Old Stickney Point Road\, Sarasota\, FL\, 34242\, United States
CATEGORIES:Local Music
END:VEVENT
BEGIN:VEVENT
DTSTART;TZID=America/New_York:20260421T173000
DTEND;TZID=America/New_York:20260421T203000
DTSTAMP:20260420T051754
CREATED:20250423T164553Z
LAST-MODIFIED:20250428T010037Z
UID:842-1776792600-1776803400@sarasotaphc.com
SUMMARY:Don Middlebrook at BackPorch Brewing Co.
DESCRIPTION:The Sarasota Bay Parrothead Club welcomes back Don Middlebrook on Tuesday\, April 21st\, 2026 for one night only!\n\nHe will be playing from 5:30 – 8:30 at the Backporch Brewing Co.\n3469 Precision Dr. in North Venice (right off of Laurel by the Sarasota Memorial Hospital)\n\nSee you there to support live music and local business!
URL:https://sarasotaphc.com/event/don-middlebrook-at-backporch-brewing-co-2/
LOCATION:BackPorch Brewing Co.\, 3469 Precision Dr.\, North Venice\, FL\, United States
CATEGORIES:Local Music
END:VEVENT
BEGIN:VEVENT
DTSTART;TZID=America/New_York:20260421T190000
DTEND;TZID=America/New_York:20260421T210000
DTSTAMP:20260420T051754
CREATED:20260414T180417Z
LAST-MODIFIED:20260414T180817Z
UID:1856-1776798000-1776805200@sarasotaphc.com
SUMMARY:Tuesday on the Island!
DESCRIPTION:We’re back for another season. The clocks have changed; we have more Sunlight!\nIt’s TUESDAY ON THE ISLAND!!!!!\nMeet at Walts Tree (Big tree on the Beach\, Look for yellow Lifeguard shack)\nCome out enjoy the Sunset\, Enjoy the company. Bring a chair your favorite beverage (No Glass on the Beach). A snack. We’ll have the Tropical Music.
URL:https://sarasotaphc.com/event/tuesday-on-the-island-13/
LOCATION:Siesta Key / Walt’s Tree
END:VEVENT
END:VCALENDAR