BEGIN:VCALENDAR
VERSION:2.0
PRODID:-//Sarasota Bay Parrothead Club - ECPv6.15.20//NONSGML v1.0//EN
CALSCALE:GREGORIAN
METHOD:PUBLISH
X-WR-CALNAME:Sarasota Bay Parrothead Club
X-ORIGINAL-URL:https://sarasotaphc.com
X-WR-CALDESC:Events for Sarasota Bay Parrothead Club
REFRESH-INTERVAL;VALUE=DURATION:PT1H
X-Robots-Tag:noindex
X-PUBLISHED-TTL:PT1H
BEGIN:VTIMEZONE
TZID:America/New_York
BEGIN:DAYLIGHT
TZOFFSETFROM:-0500
TZOFFSETTO:-0400
TZNAME:EDT
DTSTART:20250309T070000
END:DAYLIGHT
BEGIN:STANDARD
TZOFFSETFROM:-0400
TZOFFSETTO:-0500
TZNAME:EST
DTSTART:20251102T060000
END:STANDARD
BEGIN:DAYLIGHT
TZOFFSETFROM:-0500
TZOFFSETTO:-0400
TZNAME:EDT
DTSTART:20260308T070000
END:DAYLIGHT
BEGIN:STANDARD
TZOFFSETFROM:-0400
TZOFFSETTO:-0500
TZNAME:EST
DTSTART:20261101T060000
END:STANDARD
BEGIN:DAYLIGHT
TZOFFSETFROM:-0500
TZOFFSETTO:-0400
TZNAME:EDT
DTSTART:20270314T070000
END:DAYLIGHT
BEGIN:STANDARD
TZOFFSETFROM:-0400
TZOFFSETTO:-0500
TZNAME:EST
DTSTART:20271107T060000
END:STANDARD
END:VTIMEZONE
BEGIN:VEVENT
DTSTART;TZID=America/New_York:20260502T160000
DTEND;TZID=America/New_York:20260502T190000
DTSTAMP:20260420T090319
CREATED:20260402T195344Z
LAST-MODIFIED:20260416T193459Z
UID:1813-1777737600-1777748400@sarasotaphc.com
SUMMARY:2nd Annual Talk Derby to Me bar crawl!
DESCRIPTION:On Saturday\, May 2nd is the 152nd running of the Kentucky Derby!\n \nWhat better way to celebrate than with a derby crawl! Just a few bars and all showing the races! If you cannot make it to the first locations\, you can meet up with us\, or also leave early if you need to!  \n \nWe will start around 3:15 and at post time of the races we will move to a new location until the run for the roses Kentucky Derby race.\n\n\nThis just in!  Thank you to Mike Carpenter for setting up the route for our 2nd Annual Talk Derby to Me Pub Crawl! \n\nSaturday May 2\, 2026 \nThe club will be holding a Derby Day Bar Crawl in downtown Bradenton this year.  Wear your favorite Derby outfits and come cheer on your favorites as we mosey down 12th St West!! Two free parking garages on 10th St W\, just North of Manatee Ave/Rt 64 or parking anywhere along streets.  \nFIRST STOP:   3:15PM—4:00PM \nThe Loaded Barrel Tavern. 450 12th St W\, Bradenton\, FL 34205 \nSECOND STOP:  4:00PM—4:45PM \nCraftails Speakeasy.  436 12th St W\,  Bradenton\, FL 34205 \nTHIRD STOP: 4:45-5:15 \nLost Kangaroo Pub.   406 12th St W\, Bradenton\, FL 34205 \nFORTH STOP: 5:15–7:15 \nPaddy Wagon Irish Pub. 320 12th St W\, Bradenton\, FL 34205 \nMain Race Time:  6:57PM \nStaying for dinner? Check out Favs Italian Cucina\, O’Bricks Irish Pub or Oak and Stone \n\n\n\n \nPLUS…wear your derby best for the occasion AND we will have a bookie on hand to “place your bets!” PLUS….if you cannot make it\, you can place your bets online! Watch for our online “betting” coming soon as soon as we have the horses and odds! You can try and pick the winner for $5 per bet\, hold on to those tickets! Half of all bets will go toward our Sarasota Club Parrothead Reef Ball\, and the other half will be split among the winners (if no one chooses the winner\, it all goes to our charity!)\n \nStart getting your outfit ready\, try a mint julep\, and let’s have some race day phun! We will be holding tables so PLEASE let us know if you can make it!
URL:https://sarasotaphc.com/event/2nd-annual-talk-derby-to-me-bar-crawl/
LOCATION:FL
END:VEVENT
BEGIN:VEVENT
DTSTART;TZID=America/New_York:20260502T183000
DTEND;TZID=America/New_York:20260502T220000
DTSTAMP:20260420T090319
CREATED:20260402T193949Z
LAST-MODIFIED:20260402T194250Z
UID:1809-1777746600-1777759200@sarasotaphc.com
SUMMARY:Margaritaville Nite with the Bradenton Marauders!
DESCRIPTION:Bradenton Marauders game with Margaritaville / Hawaiian shirt promo! Club tickets and special section will be reserved! More details to come! \nSaturday\nMay 2\n6:30 PM \nLakeland\nFlying Tigers \nGame Highlight: Margaritaville Night\nEnjoy tropical tunes and vibes as we celebrate Margaritaville Night at LECOM Park\, presented by Anna Maria Oyster Bar! \nPromotion: Hawaiian Shirt Giveaway & Pregame Steel Drummer\nThe first 750 fans in attendance will take home a Marauders-themed Hawaiian shirt! Also arrive early to enjoy a pregame steel drum performance!
URL:https://sarasotaphc.com/event/margaritaville-nite-with-the-bradenton-marauders/
LOCATION:LECOM park\, 1611 9th St. W\, Bradenton\, FL\, 34205\, United States
END:VEVENT
END:VCALENDAR