BEGIN:VCALENDAR
VERSION:2.0
PRODID:-//Sarasota Bay Parrothead Club - ECPv6.15.20//NONSGML v1.0//EN
CALSCALE:GREGORIAN
METHOD:PUBLISH
X-WR-CALNAME:Sarasota Bay Parrothead Club
X-ORIGINAL-URL:https://sarasotaphc.com
X-WR-CALDESC:Events for Sarasota Bay Parrothead Club
REFRESH-INTERVAL;VALUE=DURATION:PT1H
X-Robots-Tag:noindex
X-PUBLISHED-TTL:PT1H
BEGIN:VTIMEZONE
TZID:America/New_York
BEGIN:DAYLIGHT
TZOFFSETFROM:-0500
TZOFFSETTO:-0400
TZNAME:EDT
DTSTART:20250309T070000
END:DAYLIGHT
BEGIN:STANDARD
TZOFFSETFROM:-0400
TZOFFSETTO:-0500
TZNAME:EST
DTSTART:20251102T060000
END:STANDARD
BEGIN:DAYLIGHT
TZOFFSETFROM:-0500
TZOFFSETTO:-0400
TZNAME:EDT
DTSTART:20260308T070000
END:DAYLIGHT
BEGIN:STANDARD
TZOFFSETFROM:-0400
TZOFFSETTO:-0500
TZNAME:EST
DTSTART:20261101T060000
END:STANDARD
BEGIN:DAYLIGHT
TZOFFSETFROM:-0500
TZOFFSETTO:-0400
TZNAME:EDT
DTSTART:20270314T070000
END:DAYLIGHT
BEGIN:STANDARD
TZOFFSETFROM:-0400
TZOFFSETTO:-0500
TZNAME:EST
DTSTART:20271107T060000
END:STANDARD
END:VTIMEZONE
BEGIN:VEVENT
DTSTART;TZID=America/New_York:20260601T170000
DTEND;TZID=America/New_York:20260601T220000
DTSTAMP:20260420T090231
CREATED:20260111T175824Z
LAST-MODIFIED:20260111T175953Z
UID:1774-1780333200-1780351200@sarasotaphc.com
SUMMARY:The Parrot Heads Documentary at Burns Court Cinema!
DESCRIPTION:Join us on Monday\, June 1st at The Burns Court Cinema in downtown Sarasota that will be showing the 2017 documentary The Parrot Heads Documentary at 7pm. This film will only be shown 1 time for 1 day! \nCome early next door for a meet up social at Owens Fish Camp at 5:00pm for some pre-game as a club\, then movie time at 7:00. Tickets will be on sale at: \nhttps://filmsociety.org/movies/upcoming/movie.cfm?filID=3247
URL:https://sarasotaphc.com/event/the-parrot-heads-documentary-at-burns-court-cinema/
LOCATION:Burns ourt Theater\, 506 Burns Lane\, Sarasota\, FL\, 34236\, United States
END:VEVENT
END:VCALENDAR