BEGIN:VCALENDAR
VERSION:2.0
PRODID:-//Sarasota Bay Parrothead Club - ECPv6.15.20//NONSGML v1.0//EN
CALSCALE:GREGORIAN
METHOD:PUBLISH
X-WR-CALNAME:Sarasota Bay Parrothead Club
X-ORIGINAL-URL:https://sarasotaphc.com
X-WR-CALDESC:Events for Sarasota Bay Parrothead Club
REFRESH-INTERVAL;VALUE=DURATION:PT1H
X-Robots-Tag:noindex
X-PUBLISHED-TTL:PT1H
BEGIN:VTIMEZONE
TZID:America/New_York
BEGIN:DAYLIGHT
TZOFFSETFROM:-0500
TZOFFSETTO:-0400
TZNAME:EDT
DTSTART:20240310T070000
END:DAYLIGHT
BEGIN:STANDARD
TZOFFSETFROM:-0400
TZOFFSETTO:-0500
TZNAME:EST
DTSTART:20241103T060000
END:STANDARD
BEGIN:DAYLIGHT
TZOFFSETFROM:-0500
TZOFFSETTO:-0400
TZNAME:EDT
DTSTART:20250309T070000
END:DAYLIGHT
BEGIN:STANDARD
TZOFFSETFROM:-0400
TZOFFSETTO:-0500
TZNAME:EST
DTSTART:20251102T060000
END:STANDARD
BEGIN:DAYLIGHT
TZOFFSETFROM:-0500
TZOFFSETTO:-0400
TZNAME:EDT
DTSTART:20260308T070000
END:DAYLIGHT
BEGIN:STANDARD
TZOFFSETFROM:-0400
TZOFFSETTO:-0500
TZNAME:EST
DTSTART:20261101T060000
END:STANDARD
END:VTIMEZONE
BEGIN:VEVENT
DTSTART;TZID=America/New_York:20251209T130000
DTEND;TZID=America/New_York:20251209T170000
DTSTAMP:20260420T090653
CREATED:20250512T225014Z
LAST-MODIFIED:20250512T225014Z
UID:1034-1765285200-1765299600@sarasotaphc.com
SUMMARY:Sunny Jim - Local
DESCRIPTION:Captain Curts\n\n1 Pm to 5 Pm Come have lunch including their New England Chowder Clam Festival Grand Prize winning chow-dah!
URL:https://sarasotaphc.com/event/sunny-jim-local-37/
LOCATION:Captain Curts\, 1204 Old Stickney Point Road\, Sarasota\, FL\, 34242\, United States
CATEGORIES:Local Music,Upcoming Events
END:VEVENT
BEGIN:VEVENT
DTSTART;TZID=America/New_York:20251206T173000
DTEND;TZID=America/New_York:20251206T220000
DTSTAMP:20260420T090653
CREATED:20250604T192938Z
LAST-MODIFIED:20251203T142230Z
UID:1372-1765042200-1765058400@sarasotaphc.com
SUMMARY:Saturday Club Christmas and Holiday Party!
DESCRIPTION:Our Holiday Christmas gathering is coming up this Saturday and we will be doing things a little differently this year! The club birthday bash was a freebie\, and to keep costs down we are just asking you to pay for the performer\, and bring a side dish\, appetizer\, or dessert to share!\n \nFirst off\, the date is Saturday\, December 6th from about 5:30 to 10:00ish at the Habitat!  (609 49th St. W\, Bradenton\, FL).\n \nFeatured will be music and Christmas songs by John McDonald and the Mango Men! John will be coming for his first show at The Habitat\, bringing the Mango Men\, for a Habitat Christmas Season Kickoff!\n \nCost is $20 at the door for club members and the club will be providing a main dish and salad\, you bring a side or dessert to share\, and your drink of choice for the evening.\n \nPlease feel free to RSVP to this show if you already know you plan to attend – the suggested Donation for this show is $25 for non-members\, with VIP suggested $40. Donations are given at the door\, and 100% goes directly to the musician. https://www.thehabitathouseconcerts.com.\n \nThere will also be a cookie exchange (please bring 3 dozen delightful treats to participate!)\n \nAND….a white elephant gift exchange (optional also)!  Please bring a wrapped item under $15 to join the phun!\n \nRemember\, there is no club meeting this month\, so this gathering is it (besides the Holiday Lites Trolley and any pop ups we think up!).\n \nThank you as always for being a part of this amazing club!  See you there to celebrate our phriendships as we approach the holidays and bring 2025 to a close!\n\n \n \n \n\n \n\n\n\n \n\n\n \n\n\n\n \n\n \n\n\n\n\n\n\n\n\n \n \n 
URL:https://sarasotaphc.com/event/habitat-house-concerts-john-mcdonald-and-the-mango-men/
LOCATION:Habitat House Concerts\, 609 49th St W\, Bradenton\, FL\, 34209\, United States
CATEGORIES:House Concert
END:VEVENT
BEGIN:VEVENT
DTSTART;TZID=America/New_York:20251202T130000
DTEND;TZID=America/New_York:20251202T170000
DTSTAMP:20260420T090653
CREATED:20250512T224920Z
LAST-MODIFIED:20250512T224920Z
UID:1031-1764680400-1764694800@sarasotaphc.com
SUMMARY:Sunny Jim - Local
DESCRIPTION:Captain Curts\n\n1 Pm to 5 Pm Come have lunch including their New England Chowder Clam Festival Grand Prize winning chow-dah!
URL:https://sarasotaphc.com/event/sunny-jim-local-36/
LOCATION:Captain Curts\, 1204 Old Stickney Point Road\, Sarasota\, FL\, 34242\, United States
CATEGORIES:Local Music,Upcoming Events
END:VEVENT
BEGIN:VEVENT
DTSTART;TZID=America/New_York:20251130T180000
DTEND;TZID=America/New_York:20251130T220000
DTSTAMP:20260420T090653
CREATED:20250512T224806Z
LAST-MODIFIED:20250512T224806Z
UID:1029-1764525600-1764540000@sarasotaphc.com
SUMMARY:Sunny Jim - Local
DESCRIPTION:Farlows on the Water\n\n\n\n\n18:00\n–\n21:00
URL:https://sarasotaphc.com/event/sunny-jim-local-35/
LOCATION:Farlows on the Water\, 2080 S. McCall Rd.\, Englewood\, FL\, 34224\, United States
CATEGORIES:Local Music,Upcoming Events
END:VEVENT
BEGIN:VEVENT
DTSTART;TZID=America/New_York:20251128T170000
DTEND;TZID=America/New_York:20251128T200000
DTSTAMP:20260420T090653
CREATED:20250604T184503Z
LAST-MODIFIED:20250604T184503Z
UID:1333-1764349200-1764360000@sarasotaphc.com
SUMMARY:Flip Flop Dave at Loaded Cannon Distillery
DESCRIPTION:Check out Flip Flop Dave for local live music!
URL:https://sarasotaphc.com/event/flip-flop-dave-at-loaded-cannon-distillery-6/
LOCATION:Loaded Cannon Distillery\, 3115 Lakewood Ranch Blvd. Suite 110\, Bradenton\, FL\, 34211\, United States
CATEGORIES:Local Music
END:VEVENT
BEGIN:VEVENT
DTSTART;TZID=America/New_York:20251125T130000
DTEND;TZID=America/New_York:20251125T170000
DTSTAMP:20260420T090653
CREATED:20250512T224713Z
LAST-MODIFIED:20250512T224713Z
UID:1027-1764075600-1764090000@sarasotaphc.com
SUMMARY:Sunny Jim - Local
DESCRIPTION:Captain Curts\n\n1 Pm to 5 Pm Come have lunch including their New England Chowder Clam Festival Grand Prize winning chow-dah!
URL:https://sarasotaphc.com/event/sunny-jim-local-34/
LOCATION:Captain Curts\, 1204 Old Stickney Point Road\, Sarasota\, FL\, 34242\, United States
CATEGORIES:Local Music,Upcoming Events
END:VEVENT
BEGIN:VEVENT
DTSTART;TZID=America/New_York:20251118T130000
DTEND;TZID=America/New_York:20251118T170000
DTSTAMP:20260420T090653
CREATED:20250512T224619Z
LAST-MODIFIED:20250512T224619Z
UID:1024-1763470800-1763485200@sarasotaphc.com
SUMMARY:Sunny Jim - Local
DESCRIPTION:Captain Curts\n\n1 Pm to 5 Pm Come have lunch including their New England Chowder Clam Festival Grand Prize winning chow-dah!
URL:https://sarasotaphc.com/event/sunny-jim-local-33/
LOCATION:Captain Curts\, 1204 Old Stickney Point Road\, Sarasota\, FL\, 34242\, United States
CATEGORIES:Local Music,Upcoming Events
END:VEVENT
BEGIN:VEVENT
DTSTART;TZID=America/New_York:20251115T173000
DTEND;TZID=America/New_York:20251115T213000
DTSTAMP:20260420T090653
CREATED:20241220T230358Z
LAST-MODIFIED:20250604T185533Z
UID:555-1763227800-1763242200@sarasotaphc.com
SUMMARY:Habitat House Concert: Jesse Rice
DESCRIPTION:Jesse Rice 2025 \nI will update the RSVP form with more info soon\, but Please feel free to RSVP to this show if you already know you plan to attend – the suggested Donation for this show is $35\, with VIP suggested $50. Donations are given at the door\, and 100% goes directly to the musician. Please remember if you are RSVPing for more than yourself\, select the number of additional guests and click the “ADD GUESTS” button and add the additional names (if you miss this step\, I will NOT know how many people you are RSVPing for and only one name (yours) will be on the RSVP list! \nJesse Rice 2025 – SOLD OUT
URL:https://sarasotaphc.com/event/habitat-house-concert-jesse-rice/
LOCATION:Habitat House Concerts\, 609 49th St W\, Bradenton\, FL\, 34209\, United States
CATEGORIES:House Concert
END:VEVENT
BEGIN:VEVENT
DTSTART;TZID=America/New_York:20251115T000000
DTEND;TZID=America/New_York:20251115T235959
DTSTAMP:20260420T090653
CREATED:20250501T164200Z
LAST-MODIFIED:20250501T164335Z
UID:856-1763164800-1763251199@sarasotaphc.com
SUMMARY:Sarasota Bay Parrothead Team Alzheimer's Walk 2025
DESCRIPTION:Stay tuned for our 2025 Team Alzheimer’s Walk ….details coming soon!
URL:https://sarasotaphc.com/event/sarasota-bay-parrothead-team-alzheimers-walk-2025/
LOCATION:FL
END:VEVENT
BEGIN:VEVENT
DTSTART;TZID=America/New_York:20251113T180000
DTEND;TZID=America/New_York:20251113T210000
DTSTAMP:20260420T090653
CREATED:20250207T154154Z
LAST-MODIFIED:20250224T133903Z
UID:672-1763056800-1763067600@sarasotaphc.com
SUMMARY:Official Club Bidness Meeting
DESCRIPTION:What time is it? Time for a TEAM DRINK…..and a meeting! \nOur club will be meeting in the backroom of Fin & Tonic the 2nd Thursday of each month! We will discuss what is coming\, what is happening\, socialize with our phriends\, and there could be general shenanigans such as live music\, games\, charity collections\, 50/50\, raffles…..non-club members are welcome to come see what we are all about! \nArrive around 6:00 to chat\, get your food and drinks and be ready for a 6:30 start time! \nWelcome to the Phlock!
URL:https://sarasotaphc.com/event/official-club-bidness-meeting-9/
LOCATION:Fin & Tonic\, 6747 S Tamiami Trl.\, Sarasota\, FL\, 34231\, United States
END:VEVENT
BEGIN:VEVENT
DTSTART;TZID=America/New_York:20251111T130000
DTEND;TZID=America/New_York:20251111T170000
DTSTAMP:20260420T090653
CREATED:20250512T224434Z
LAST-MODIFIED:20250512T224434Z
UID:1022-1762866000-1762880400@sarasotaphc.com
SUMMARY:Sunny Jim - Local
DESCRIPTION:Captain Curts\n\n1 Pm to 5 Pm Come have lunch including their New England Chowder Clam Festival Grand Prize winning chow-dah!
URL:https://sarasotaphc.com/event/sunny-jim-local-32/
LOCATION:Captain Curts\, 1204 Old Stickney Point Road\, Sarasota\, FL\, 34242\, United States
CATEGORIES:Local Music,Upcoming Events
END:VEVENT
BEGIN:VEVENT
DTSTART;TZID=America/New_York:20251108T110000
DTEND;TZID=America/New_York:20251108T150000
DTSTAMP:20260420T090653
CREATED:20250731T131948Z
LAST-MODIFIED:20250731T131948Z
UID:1522-1762599600-1762614000@sarasotaphc.com
SUMMARY:Trop 4 Tots!
DESCRIPTION:We are excited to announce the return of Trop 4 Tots! This event will be hosted by the Bazaar on Apricot and Lime and we will be collecting new\, unwrapped toys to donate to Toys for Tots with the help of the US Marine Corps AND provide a rotating schedule of local trop rock artists for 4 hours! We will also accept cash donations to purchase additional toys! Save the date!
URL:https://sarasotaphc.com/event/trop-4-tots/
LOCATION:Bazaar at Apricot and Lime\, 821 Apricot Ave.\, Sarasota\, FL\, 34237\, United States
CATEGORIES:Upcoming Events
END:VEVENT
BEGIN:VEVENT
DTSTART;TZID=America/New_York:20251104T130000
DTEND;TZID=America/New_York:20251104T170000
DTSTAMP:20260420T090653
CREATED:20250512T224315Z
LAST-MODIFIED:20250512T224337Z
UID:1020-1762261200-1762275600@sarasotaphc.com
SUMMARY:Sunny Jim - Local
DESCRIPTION:Captain Curts\n\n1 Pm to 5 Pm Come have lunch including their New England Chowder Clam Festival Grand Prize winning chow-dah!
URL:https://sarasotaphc.com/event/sunny-jim-local-31/
LOCATION:Captain Curts\, 1204 Old Stickney Point Road\, Sarasota\, FL\, 34242\, United States
CATEGORIES:Local Music,Upcoming Events
END:VEVENT
BEGIN:VEVENT
DTSTART;TZID=America/New_York:20251101T173000
DTEND;TZID=America/New_York:20251101T220000
DTSTAMP:20260420T090653
CREATED:20250604T192759Z
LAST-MODIFIED:20250604T192759Z
UID:1369-1762018200-1762034400@sarasotaphc.com
SUMMARY:Habitat House Concert: TBA
DESCRIPTION:Save the Date!
URL:https://sarasotaphc.com/event/habitat-house-concert-tba/
LOCATION:Habitat House Concerts\, 609 49th St W\, Bradenton\, FL\, 34209\, United States
CATEGORIES:House Concert
END:VEVENT
BEGIN:VEVENT
DTSTART;TZID=America/New_York:20251028T130000
DTEND;TZID=America/New_York:20251028T170000
DTSTAMP:20260420T090653
CREATED:20250512T224229Z
LAST-MODIFIED:20250512T224229Z
UID:1018-1761656400-1761670800@sarasotaphc.com
SUMMARY:Sunny Jim - Local
DESCRIPTION:Captain Curts\n\n1 Pm to 5 Pm Come have lunch including their New England Chowder Clam Festival Grand Prize winning chow-dah!
URL:https://sarasotaphc.com/event/sunny-jim-local-30/
LOCATION:Captain Curts\, 1204 Old Stickney Point Road\, Sarasota\, FL\, 34242\, United States
CATEGORIES:Local Music,Upcoming Events
END:VEVENT
BEGIN:VEVENT
DTSTART;TZID=America/New_York:20251024T170000
DTEND;TZID=America/New_York:20251024T200000
DTSTAMP:20260420T090653
CREATED:20250604T184345Z
LAST-MODIFIED:20250604T184345Z
UID:1331-1761325200-1761336000@sarasotaphc.com
SUMMARY:Flip Flop Dave at Loaded Cannon Distillery
DESCRIPTION:Check out Flip Flop Dave for local live music!
URL:https://sarasotaphc.com/event/flip-flop-dave-at-loaded-cannon-distillery-5/
LOCATION:Loaded Cannon Distillery\, 3115 Lakewood Ranch Blvd. Suite 110\, Bradenton\, FL\, 34211\, United States
CATEGORIES:Local Music
END:VEVENT
BEGIN:VEVENT
DTSTART;TZID=America/New_York:20251022T000000
DTEND;TZID=America/New_York:20251026T235959
DTSTAMP:20260420T090653
CREATED:20250712T135313Z
LAST-MODIFIED:20250712T135313Z
UID:1511-1761091200-1761523199@sarasotaphc.com
SUMMARY:PHiP’s Annual Meeting of the Minds 2025
DESCRIPTION:PHiP’s Annual Meeting of the Minds 2025\nWednesday\, October 22nd – Sunday\, October 26th\, 2025 \nKeeping the Party Going!\nMOTM is the annual PHiP convention held annually during the end of October and beginning of November. While previously hosted in New Orleans and Key West\, the new home of MOTM is Gulf Shores\, Alabama and is always subject to change. It is open to any member of a PHiP sanctioned Parrot Head Club covering several days and nights of friendship\, fun\, food and great music\, with a few optional meetings and seminars thrown in the mix. \nMain
URL:https://sarasotaphc.com/event/phips-annual-meeting-of-the-minds-2025/
LOCATION:FL
END:VEVENT
BEGIN:VEVENT
DTSTART;TZID=America/New_York:20251021T180000
DTEND;TZID=America/New_York:20251021T200000
DTSTAMP:20260420T090653
CREATED:20250131T180351Z
LAST-MODIFIED:20250402T175117Z
UID:651-1761069600-1761076800@sarasotaphc.com
SUMMARY:Tuesday on the Island
DESCRIPTION:The Sarasota Bay Parrothead Club welcomes you to join us the 3rd Tuesday of the month\, March through October! We meet up for a social on Siesta Key Beach to celebrate our beautiful sunset!  Bring a chair\, your drink(s) of choice\, and any snacks an hour before sunset.  This is a moving target as the year moves along\, but we will send out notices as we approach each date. \nThe club will meet at Siesta Key Beach at Walt’s Tree! When you pull in the parking lot you go to the far left side of the parking lot and follow the main side walk right out to it. It is in front of the concession stand so we have a bathroom\, is easy access for those with walking issues and is right at the end where the yellow life guard chair is with shade and grass too. Walt’s tree is actually considered a county owned park and can be reserved for events. It’s super easy to get parking on that end of the lot as well. \nEnjoy a great Tuesday evening on the Island beach with great phriends when the sun goes down!
URL:https://sarasotaphc.com/event/tuesday-on-the-island-12/
LOCATION:Siesta Key / Walt’s Tree
END:VEVENT
BEGIN:VEVENT
DTSTART;TZID=America/New_York:20251021T130000
DTEND;TZID=America/New_York:20251021T170000
DTSTAMP:20260420T090653
CREATED:20250512T224129Z
LAST-MODIFIED:20250512T224129Z
UID:1016-1761051600-1761066000@sarasotaphc.com
SUMMARY:Sunny Jim - Local
DESCRIPTION:Captain Curts\n\n1 Pm to 5 Pm Come have lunch including their New England Chowder Clam Festival Grand Prize winning chow-dah!
URL:https://sarasotaphc.com/event/sunny-jim-local-29/
LOCATION:Captain Curts\, 1204 Old Stickney Point Road\, Sarasota\, FL\, 34242\, United States
CATEGORIES:Local Music,Upcoming Events
END:VEVENT
BEGIN:VEVENT
DTSTART;TZID=America/New_York:20251018T140000
DTEND;TZID=America/New_York:20251018T170000
DTSTAMP:20260420T090653
CREATED:20250512T224033Z
LAST-MODIFIED:20250512T224033Z
UID:1014-1760796000-1760806800@sarasotaphc.com
SUMMARY:Sunny Jim - Local
DESCRIPTION:Riviera Tiki Bar Solo Sunny Jim\n\n\n\n\n14:00\n–\n17:00\n\n\nRiviera Bar & Grill 5500 Deltona Dr\, Punta Gorda\, FL 33950\, United States
URL:https://sarasotaphc.com/event/sunny-jim-local-28/
LOCATION:Riviera Bar and Grill\, 5500 Deltona Dr.\, Punta Gorda\, FL\, 33950\, United States
CATEGORIES:Local Music,Upcoming Events
END:VEVENT
BEGIN:VEVENT
DTSTART;TZID=America/New_York:20251017T180000
DTEND;TZID=America/New_York:20251017T220000
DTSTAMP:20260420T090653
CREATED:20250512T223939Z
LAST-MODIFIED:20250512T223939Z
UID:1012-1760724000-1760738400@sarasotaphc.com
SUMMARY:Sunny Jim - Local
DESCRIPTION:Farlow’s on the water
URL:https://sarasotaphc.com/event/sunny-jim-local-27/
LOCATION:Farlows on the Water\, 2080 S. McCall Rd.\, Englewood\, FL\, 34224\, United States
CATEGORIES:Local Music,Upcoming Events
END:VEVENT
BEGIN:VEVENT
DTSTART;TZID=America/New_York:20251014T130000
DTEND;TZID=America/New_York:20251014T170000
DTSTAMP:20260420T090653
CREATED:20250512T223833Z
LAST-MODIFIED:20250512T223833Z
UID:1010-1760446800-1760461200@sarasotaphc.com
SUMMARY:Sunny Jim - Local
DESCRIPTION:Captain Curts\n\n1 Pm to 5 Pm Come have lunch including their New England Chowder Clam Festival Grand Prize winning chow-dah!
URL:https://sarasotaphc.com/event/sunny-jim-local-26/
LOCATION:Captain Curts\, 1204 Old Stickney Point Road\, Sarasota\, FL\, 34242\, United States
CATEGORIES:Local Music,Upcoming Events
END:VEVENT
BEGIN:VEVENT
DTSTART;TZID=America/New_York:20251009T180000
DTEND;TZID=America/New_York:20251009T210000
DTSTAMP:20260420T090653
CREATED:20250207T153945Z
LAST-MODIFIED:20250501T120748Z
UID:670-1760032800-1760043600@sarasotaphc.com
SUMMARY:Official Club Bidness Meeting
DESCRIPTION:What time is it? Time for a TEAM DRINK…..and a meeting! \nOur club will be meeting in the backroom of Fin & Tonic the 2nd Thursday of each month! We will discuss what is coming\, what is happening\, socialize with our phriends\, and there could be general shenanigans such as live music\, games\, charity collections\, 50/50\, raffles…..non-club members are welcome to come see what we are all about! \nArrive around 6:00 to chat\, get your food and drinks and be ready for a 6:30 start time! \nWelcome to the Phlock!
URL:https://sarasotaphc.com/event/official-club-bidness-meeting-8/
LOCATION:Fin & Tonic\, 6747 S Tamiami Trl.\, Sarasota\, FL\, 34231\, United States
END:VEVENT
BEGIN:VEVENT
DTSTART;TZID=America/New_York:20251005T150000
DTEND;TZID=America/New_York:20251005T190000
DTSTAMP:20260420T090653
CREATED:20250805T222255Z
LAST-MODIFIED:20250817T125815Z
UID:1527-1759676400-1759690800@sarasotaphc.com
SUMMARY:Sarasota Bay Parrothead Club Birthday Bash! Cowboy in the Jungle!
DESCRIPTION:We are proud to announce that on Sunday\, October 5th\, we will host our 29th annual birthday bash at the Jungle Hideaway!  There will be food\, games\, and live music by the Sundogs!  Cash bar and FREE for club members from 3:00 until 7:00! Plus drink specials\, door Prize raffle\, and raffles! \nThe theme will be Cowboy in the Jungle! \nAre you not a club member but want to come?  JOIN THE CLUB! \nWe worked hard to find a date that did not conflict with other club events with our neighbors\, and we wanted to make it a thank you party for our club members (while being fiscally responsible but phun!)\, so it will look a little different than previous years! \nWatch for more details to come!!!
URL:https://sarasotaphc.com/event/sarasota-bay-parrothead-club-birthday-bash/
LOCATION:Junge Hideaway\, 2525 S. Tamiami Trail\, Sarasota\, FL\, 34239\, United States
CATEGORIES:Upcoming Events
END:VEVENT
BEGIN:VEVENT
DTSTART;TZID=America/New_York:20251004T173000
DTEND;TZID=America/New_York:20251004T220000
DTSTAMP:20260420T090653
CREATED:20250604T192644Z
LAST-MODIFIED:20250604T192644Z
UID:1366-1759599000-1759615200@sarasotaphc.com
SUMMARY:Habitat House Concert: Ariella & Nicholass
DESCRIPTION:Ariella & Nicholass return to The Habitat October 4th\, 2025 \nI will update the RSVP form with more info soon\, but Please feel free to RSVP to this show if you already know you plan to attend – the suggested Donation for this show is $25\, with VIP suggested $40. Donations are given at the door\, and 100% goes directly to the musician.
URL:https://sarasotaphc.com/event/habitat-house-concert-ariella-nicholass/
LOCATION:Habitat House Concerts\, 609 49th St W\, Bradenton\, FL\, 34209\, United States
CATEGORIES:House Concert
END:VEVENT
BEGIN:VEVENT
DTSTART;TZID=America/New_York:20251003T000000
DTEND;TZID=America/New_York:20251005T235959
DTSTAMP:20260420T090653
CREATED:20250712T133332Z
LAST-MODIFIED:20250712T133332Z
UID:1504-1759449600-1759708799@sarasotaphc.com
SUMMARY:PARROTPHEST - at the Fort Myers Margaritaville Beach Resort
DESCRIPTION:This just in!!!  Check it out! \nWe would like to personally invite you and your club members to a great phun philled weekend in Florida.   \n  \nThe Villages Parrot Heads Club and the SouthWest Florida Parrot Heads Club are presenting the inaugural – PARROTPHEST – at\, and sponsored by\, the Fort Myers FL Margaritaville Beach Resort October 3rd thru 5th of this year\, 2025. \n  \nThere will be great Trop Rock music\, games\, a Best Dressed Parrot Head contest\, 50/50\, basket raffle\, prizes\, and much more. \n  \nAnd the best thing yet is that there is NO REGISTRATION FEE !! \n  \nDiscounted room rates are available through the online link in the flyer.  Don’t procrastinate as this will sell out phast !!   \n  \nPlease forward this to all your club members.  All proceeds will go to the Alzheimer’s association !! \n  \nCheck out the flyer attached to this email for more information !! \nParrotPHest Flyer – Parrot Head Clubs SML
URL:https://sarasotaphc.com/event/parrotphest-at-the-fort-myers-margaritaville-beach-resort/
LOCATION:FL
CATEGORIES:Upcoming Events
END:VEVENT
BEGIN:VEVENT
DTSTART;TZID=America/New_York:20250928T000000
DTEND;TZID=America/New_York:20250928T235959
DTSTAMP:20260420T090653
CREATED:20250627T174212Z
LAST-MODIFIED:20250627T174212Z
UID:1493-1759017600-1759103999@sarasotaphc.com
SUMMARY:Lefty Lucy - Local
DESCRIPTION:28- PHILADELPHIA EAGLES Green Legion Tailgate\, Steinbrenner Stadium\, Tampa\, FL: Tickets Available CLICK HERE!
URL:https://sarasotaphc.com/event/lefty-lucy-local-25/
LOCATION:Steinbrenner Stadium\, 1 Steinbrenner Dr.\, Tampa\, FL\, 33614\, United States
CATEGORIES:Local Music
END:VEVENT
BEGIN:VEVENT
DTSTART;TZID=America/New_York:20250926T170000
DTEND;TZID=America/New_York:20250926T200000
DTSTAMP:20260420T090653
CREATED:20250604T184234Z
LAST-MODIFIED:20250604T184234Z
UID:1329-1758906000-1758916800@sarasotaphc.com
SUMMARY:Flip Flop Dave at Loaded Cannon Distillery!
DESCRIPTION:Check out Flip Flop Dave for local live music!
URL:https://sarasotaphc.com/event/flip-flop-dave-at-loaded-cannon-distillery-4/
LOCATION:Loaded Cannon Distillery\, 3115 Lakewood Ranch Blvd. Suite 110\, Bradenton\, FL\, 34211\, United States
CATEGORIES:Local Music
END:VEVENT
BEGIN:VEVENT
DTSTART;TZID=America/New_York:20250921T180000
DTEND;TZID=America/New_York:20250921T220000
DTSTAMP:20260420T090653
CREATED:20250627T174011Z
LAST-MODIFIED:20250627T174409Z
UID:1491-1758477600-1758492000@sarasotaphc.com
SUMMARY:Lefty Lucy - Local
DESCRIPTION:21- Captain Curt’s Sniki Tiki\, Siesta Key 6-10pm
URL:https://sarasotaphc.com/event/lefty-lucy-local-24/
LOCATION:Sniki Tiki\, 1204 Old Stickney Point Road\, Sarasota\, FL\, 34242\, United States
CATEGORIES:Local Music
END:VEVENT
BEGIN:VEVENT
DTSTART;TZID=America/New_York:20250920T180000
DTEND;TZID=America/New_York:20250920T220000
DTSTAMP:20260420T090653
CREATED:20250627T173912Z
LAST-MODIFIED:20250627T173912Z
UID:1489-1758391200-1758405600@sarasotaphc.com
SUMMARY:Lefty Lucy - Local
DESCRIPTION:20- Parrot Patio\, Sarasota 6-10pm
URL:https://sarasotaphc.com/event/lefty-lucy-local-23/
LOCATION:Parrot Patio\, 3602 Webber St.\, Sarasota\, FL\, 34232\, United States
CATEGORIES:Local Music
END:VEVENT
END:VCALENDAR