BEGIN:VCALENDAR
VERSION:2.0
PRODID:-//Sarasota Bay Parrothead Club - ECPv6.15.20//NONSGML v1.0//EN
CALSCALE:GREGORIAN
METHOD:PUBLISH
X-WR-CALNAME:Sarasota Bay Parrothead Club
X-ORIGINAL-URL:https://sarasotaphc.com
X-WR-CALDESC:Events for Sarasota Bay Parrothead Club
REFRESH-INTERVAL;VALUE=DURATION:PT1H
X-Robots-Tag:noindex
X-PUBLISHED-TTL:PT1H
BEGIN:VTIMEZONE
TZID:America/New_York
BEGIN:DAYLIGHT
TZOFFSETFROM:-0500
TZOFFSETTO:-0400
TZNAME:EDT
DTSTART:20240310T070000
END:DAYLIGHT
BEGIN:STANDARD
TZOFFSETFROM:-0400
TZOFFSETTO:-0500
TZNAME:EST
DTSTART:20241103T060000
END:STANDARD
BEGIN:DAYLIGHT
TZOFFSETFROM:-0500
TZOFFSETTO:-0400
TZNAME:EDT
DTSTART:20250309T070000
END:DAYLIGHT
BEGIN:STANDARD
TZOFFSETFROM:-0400
TZOFFSETTO:-0500
TZNAME:EST
DTSTART:20251102T060000
END:STANDARD
BEGIN:DAYLIGHT
TZOFFSETFROM:-0500
TZOFFSETTO:-0400
TZNAME:EDT
DTSTART:20260308T070000
END:DAYLIGHT
BEGIN:STANDARD
TZOFFSETFROM:-0400
TZOFFSETTO:-0500
TZNAME:EST
DTSTART:20261101T060000
END:STANDARD
END:VTIMEZONE
BEGIN:VEVENT
DTSTART;TZID=America/New_York:20250608T180000
DTEND;TZID=America/New_York:20250608T210000
DTSTAMP:20260421T004208
CREATED:20250604T190011Z
LAST-MODIFIED:20250604T190011Z
UID:1337-1749405600-1749416400@sarasotaphc.com
SUMMARY:Charlie Imes at Wicked Cantina
DESCRIPTION:Check out Charlie Imes for local music!
URL:https://sarasotaphc.com/event/charlie-imes-at-wicked-cantina-2/
LOCATION:Wicked Cantina\, 1603 North Tamiami trail Sarasota\, FL 34236\, Sarasota\, FL\, 34236\, United States
CATEGORIES:Local Music
END:VEVENT
BEGIN:VEVENT
DTSTART;TZID=America/New_York:20250608T170000
DTEND;TZID=America/New_York:20250608T200000
DTSTAMP:20260421T004208
CREATED:20250512T222008Z
LAST-MODIFIED:20250512T222008Z
UID:973-1749402000-1749412800@sarasotaphc.com
SUMMARY:Sunny Jim - Local
DESCRIPTION:Farlows on the Water\, Englewood\, FL  at 5:00 PM to 8:00 PM\, EDT Location: Farlows on the Water\, 2080 S McCall Rd\, Englewood\, FL 34224\, USA\n \nSOLO Sunny Jim under the Stars.. Great food and wonderful location!
URL:https://sarasotaphc.com/event/sunny-jim-local-8/
LOCATION:Farlows on the Water\, 2080 S. McCall Rd.\, Englewood\, FL\, 34224\, United States
CATEGORIES:Local Music,Upcoming Events
END:VEVENT
BEGIN:VEVENT
DTSTART;TZID=America/New_York:20250607T140000
DTEND;TZID=America/New_York:20250607T170000
DTSTAMP:20260421T004208
CREATED:20250512T221750Z
LAST-MODIFIED:20250512T221750Z
UID:970-1749304800-1749315600@sarasotaphc.com
SUMMARY:Sunny Jim - Local
DESCRIPTION:Nav-A-Gator 2-5pm\n\nAlways a special time. \n\n\n\n\n\n14:00\n–\n17:00\n\n\nNav-A-Gator Bar & Grill\, 9700 SW Riverview Cir\, Arcadia\, FL 34269\, United States
URL:https://sarasotaphc.com/event/sunny-jim-local-7/
LOCATION:Nav-A-Gator Bar & Grill\, 900 SW Riverview Cir.\, Arcadia\, FL\, 34269\, United States
CATEGORIES:Local Music,Upcoming Events
END:VEVENT
BEGIN:VEVENT
DTSTART;TZID=America/New_York:20250606T190000
DTEND;TZID=America/New_York:20250606T220000
DTSTAMP:20260421T004208
CREATED:20250604T191456Z
LAST-MODIFIED:20250604T191456Z
UID:1356-1749236400-1749247200@sarasotaphc.com
SUMMARY:John Patti at Bahi Hut Lounge!
DESCRIPTION:Check out John Patti for local music!
URL:https://sarasotaphc.com/event/john-patti-at-bahi-hut-lounge/
LOCATION:Bahi Hut Lounge\, 4675 N Tamiami Trail\, Sarasota\, FL\, 34234\, United States
CATEGORIES:Local Music
END:VEVENT
BEGIN:VEVENT
DTSTART;TZID=America/New_York:20250606T160000
DTEND;TZID=America/New_York:20250606T190000
DTSTAMP:20260421T004208
CREATED:20250604T181422Z
LAST-MODIFIED:20250604T181422Z
UID:1297-1749225600-1749236400@sarasotaphc.com
SUMMARY:Flip Flop Dave at Lah De Dah!
DESCRIPTION:Start the weekend off right with Flip Flop Dave down at the Lah De Dah\, Sarasota’s Jimmy Buffett themed Bar.
URL:https://sarasotaphc.com/event/flip-flop-dave-at-lah-de-dah/
LOCATION:Lah De Dah\, 2236 Gulf Gate\, Sarasota\, 34231\, United States
CATEGORIES:Local Music
END:VEVENT
BEGIN:VEVENT
DTSTART;TZID=America/New_York:20250605T160000
DTEND;TZID=America/New_York:20250605T190000
DTSTAMP:20260421T004208
CREATED:20250604T181549Z
LAST-MODIFIED:20250604T181630Z
UID:1299-1749139200-1749150000@sarasotaphc.com
SUMMARY:John Patti at Lah De Dah!
DESCRIPTION:Start the weekend off right with John Patti down at the Lah De Dah\, Sarasota’s Jimmy Buffett themed Bar.
URL:https://sarasotaphc.com/event/john-patti-at-lah-de-dah/
LOCATION:Lah De Dah\, 2236 Gulf Gate\, Sarasota\, 34231\, United States
CATEGORIES:Local Music
END:VEVENT
BEGIN:VEVENT
DTSTART;TZID=America/New_York:20250603T130000
DTEND;TZID=America/New_York:20250603T170000
DTSTAMP:20260421T004208
CREATED:20250512T221547Z
LAST-MODIFIED:20250512T221547Z
UID:967-1748955600-1748970000@sarasotaphc.com
SUMMARY:Sunny Jim - Local
DESCRIPTION:Captain Curts\n\n1 Pm to 5 Pm Come have lunch including their New England Chowder Clam Festival Grand Prize winning chow-dah!
URL:https://sarasotaphc.com/event/sunny-jim-local-6/
LOCATION:Captain Curts\, 1204 Old Stickney Point Road\, Sarasota\, FL\, 34242\, United States
CATEGORIES:Local Music,Upcoming Events
END:VEVENT
BEGIN:VEVENT
DTSTART;TZID=America/New_York:20250531T173000
DTEND;TZID=America/New_York:20250531T220000
DTSTAMP:20260421T004208
CREATED:20250112T151151Z
LAST-MODIFIED:20250209T175405Z
UID:590-1748712600-1748728800@sarasotaphc.com
SUMMARY:Bradenton Marauders Margaritaville Night
DESCRIPTION:Save the date for the Margaritaville Night wit the Bradenton Marauders! Stay tuned for payment details! Ticket price will be $25! \nMAY 31st\, 2025 \nLECOM Park \nGates will open at 5:30 PM w/ live music in plaza \nFirst pitch is scheduled for 6:30 PM \nOur Party Deck area will be down the 3B foul pole area.\nIt will have a canvas covering for shade/coverage\nwe will have our M’Ville Bucket Hats already in our private area so you will not need to go pick those up! \nWe will also have Pepsi drink vouchers at the Party Deck area in case your would like to get a beverage on us at concession at any point throughout the evening\, and include food and a side! \nImmediately following the final out\, the Trop Rock Junkies will be performing a full concert in the fan plaza on stage!
URL:https://sarasotaphc.com/event/bradenton-marauders-margaritaville-night/
LOCATION:LECOM park\, 1611 9th St. W\, Bradenton\, FL\, 34205\, United States
END:VEVENT
BEGIN:VEVENT
DTSTART;TZID=America/New_York:20250530T180000
DTEND;TZID=America/New_York:20250530T220000
DTSTAMP:20260421T004208
CREATED:20250512T221437Z
LAST-MODIFIED:20250512T221437Z
UID:964-1748628000-1748642400@sarasotaphc.com
SUMMARY:Sunny Jim - Local
DESCRIPTION:Farlows on the Water\n\n6-10pm\nIn the beautiful garden on the water. Great food! Good times!\n6-10pm
URL:https://sarasotaphc.com/event/sunny-jim-local-5/
LOCATION:Farlows on the Water\, 2080 S. McCall Rd.\, Englewood\, FL\, 34224\, United States
CATEGORIES:Local Music,Upcoming Events
END:VEVENT
BEGIN:VEVENT
DTSTART;TZID=America/New_York:20250527T130000
DTEND;TZID=America/New_York:20250527T170000
DTSTAMP:20260421T004208
CREATED:20250512T221245Z
LAST-MODIFIED:20250512T221245Z
UID:962-1748350800-1748365200@sarasotaphc.com
SUMMARY:Sunny Jim - Local
DESCRIPTION:Captain Curts\n\n1 Pm to 5 Pm Come have lunch including their New England Chowder Clam Festival Grand Prize winning chow-dah!
URL:https://sarasotaphc.com/event/sunny-jim-local-4/
LOCATION:Captain Curts\, 1204 Old Stickney Point Road\, Sarasota\, FL\, 34242\, United States
CATEGORIES:Local Music,Upcoming Events
END:VEVENT
BEGIN:VEVENT
DTSTART;TZID=America/New_York:20250524T100000
DTEND;TZID=America/New_York:20250524T140000
DTSTAMP:20260421T004208
CREATED:20250512T221139Z
LAST-MODIFIED:20250512T221139Z
UID:959-1748080800-1748095200@sarasotaphc.com
SUMMARY:Sunny Jim - Local
DESCRIPTION:Paradise Grill\, Pass-A-Grille\n\nIt will be a beautiful way to spend the morning. Great breakfast at the Grill\, and you can’t beat the view.
URL:https://sarasotaphc.com/event/sunny-jim-local-3/
LOCATION:Pass-A-Grille\, St. Pete Beach\, St. Petersburg\, FL\, 33706\, United States
CATEGORIES:Local Music,Upcoming Events
END:VEVENT
BEGIN:VEVENT
DTSTART;TZID=America/New_York:20250523T180000
DTEND;TZID=America/New_York:20250523T210000
DTSTAMP:20260421T004208
CREATED:20250520T114405Z
LAST-MODIFIED:20250520T114405Z
UID:1280-1748023200-1748034000@sarasotaphc.com
SUMMARY:Carrie Welling at Inner Compass Brewing
DESCRIPTION:For anyone looking for Friday plans…..how about coming out to Inner Compass Brewing Company at LWR to see Carrie Welling at 6:00? \n \nLocated at:  10316 Technology Terrace\, Bradenton\, FL 34211\n\nThis will be at Lakewood Ranch and all are welcome to this public show! See you there to support live music!
URL:https://sarasotaphc.com/event/carrie-welling-at-inner-compass-brewing/
LOCATION:Inner Compass Brewing Company\, 10316 Technology Terrace\, Bradenton\, FL\, 34211\, United States
CATEGORIES:Upcoming Events
END:VEVENT
BEGIN:VEVENT
DTSTART;TZID=America/New_York:20250521T180000
DTEND;TZID=America/New_York:20250521T220000
DTSTAMP:20260421T004208
CREATED:20250512T230117Z
LAST-MODIFIED:20250512T230117Z
UID:1048-1747850400-1747864800@sarasotaphc.com
SUMMARY:Charlie Imes - Local
DESCRIPTION:The Wicked Cantina – May 21st @ 6:00pm
URL:https://sarasotaphc.com/event/charlie-imes-local-2/
LOCATION:Wicked Cantina\, 1603 North Tamiami trail Sarasota\, FL 34236\, Sarasota\, FL\, 34236\, United States
CATEGORIES:Local Music,Upcoming Events
END:VEVENT
BEGIN:VEVENT
DTSTART;TZID=America/New_York:20250520T190000
DTEND;TZID=America/New_York:20250520T210000
DTSTAMP:20260421T004208
CREATED:20250131T175220Z
LAST-MODIFIED:20250402T180327Z
UID:641-1747767600-1747774800@sarasotaphc.com
SUMMARY:Tuesday on the Island
DESCRIPTION:The Sarasota Bay Parrothead Club welcomes you to join us the 3rd Tuesday of the month\, March through October! We meet up for a social on Siesta Key Beach to celebrate our beautiful sunset!  Bring a chair\, your drink(s) of choice\, and any snacks an hour before sunset.  This is a moving target as the year moves along\, but we will send out notices as we approach each date. \nThe club will meet at Siesta Key Beach at Walt’s Tree! When you pull in the parking lot you go to the far left side of the parking lot and follow the main side walk right out to it. It is in front of the concession stand so we have a bathroom\, is easy access for those with walking issues and is right at the end where the yellow life guard chair is with shade and grass too. Walt’s tree is actually considered a county owned park and can be reserved for events. It’s super easy to get parking on that end of the lot as well. \nEnjoy a great Tuesday evening on the Island beach with great phriends when the sun goes down!
URL:https://sarasotaphc.com/event/tuesday-on-the-island-7/
LOCATION:Siesta Key / Walt’s Tree
END:VEVENT
BEGIN:VEVENT
DTSTART;TZID=America/New_York:20250520T130000
DTEND;TZID=America/New_York:20250520T170000
DTSTAMP:20260421T004208
CREATED:20250512T220721Z
LAST-MODIFIED:20250512T220841Z
UID:957-1747746000-1747760400@sarasotaphc.com
SUMMARY:Sunny Jim - Local
DESCRIPTION:Captain Curts\n\n1 Pm to 5 Pm Come have lunch including their New England Chowder Clam Festival Grand Prize winning chow-dah!
URL:https://sarasotaphc.com/event/sunny-jim-local-2/
LOCATION:Captain Curts\, 1204 Old Stickney Point Road\, Sarasota\, FL\, 34242\, United States
CATEGORIES:Local Music,Upcoming Events
END:VEVENT
BEGIN:VEVENT
DTSTART;TZID=America/New_York:20250518T161500
DTEND;TZID=America/New_York:20250518T191500
DTSTAMP:20260421T004208
CREATED:20250512T230008Z
LAST-MODIFIED:20250512T230008Z
UID:1046-1747584900-1747595700@sarasotaphc.com
SUMMARY:Charlie Imes - Local
DESCRIPTION:Paradise Grille (Pass-A-Grille) – May 18th @ 4:15pm
URL:https://sarasotaphc.com/event/charlie-imes-local/
LOCATION:Pass-A-Grille\, St. Pete Beach\, St. Petersburg\, FL\, 33706\, United States
CATEGORIES:Local Music,Upcoming Events
END:VEVENT
BEGIN:VEVENT
DTSTART;TZID=America/New_York:20250513T130000
DTEND;TZID=America/New_York:20250513T170000
DTSTAMP:20260421T004208
CREATED:20250512T220554Z
LAST-MODIFIED:20250512T220554Z
UID:955-1747141200-1747155600@sarasotaphc.com
SUMMARY:Sunny Jim - Local
DESCRIPTION:Captain Curts\n\n1 Pm to 5 Pm Come have lunch including their New England Chowder Clam Festival Grand Prize winning chow-dah!
URL:https://sarasotaphc.com/event/sunny-jim-local/
LOCATION:Captain Curts\, 1204 Old Stickney Point Road\, Sarasota\, FL\, 34242\, United States
CATEGORIES:Local Music,Upcoming Events
END:VEVENT
BEGIN:VEVENT
DTSTART;TZID=America/New_York:20250508T180000
DTEND;TZID=America/New_York:20250508T210000
DTSTAMP:20260421T004208
CREATED:20250207T152902Z
LAST-MODIFIED:20250501T120943Z
UID:660-1746727200-1746738000@sarasotaphc.com
SUMMARY:Official Club Bidness Meeting
DESCRIPTION:What time is it? Time for a TEAM DRINK…..and a meeting! \nOur club will be meeting in the backroom of Fin & Tonic the 2nd Thursday of each month! We will discuss what is coming\, what is happening\, socialize with our phriends\, and there could be general shenanigans such as live music\, games\, charity collections\, 50/50\, raffles…..non-club members are welcome to come see what we are all about! \nArrive around 6:00 to chat\, get your food and drinks and be ready for a 6:30 start time! \nWelcome to the Phlock!
URL:https://sarasotaphc.com/event/official-club-bidness-meeting-3/
LOCATION:Fin & Tonic\, 6747 S Tamiami Trl.\, Sarasota\, FL\, 34231\, United States
END:VEVENT
BEGIN:VEVENT
DTSTART;TZID=America/New_York:20250503T160000
DTEND;TZID=America/New_York:20250503T190000
DTSTAMP:20260421T004208
CREATED:20250415T121521Z
LAST-MODIFIED:20250421T195748Z
UID:832-1746288000-1746298800@sarasotaphc.com
SUMMARY:Talk Derby to Me!
DESCRIPTION:On Saturday\, May 3rd is the 151st running of the Kentucky Derby! \nWhat better way to celebrate than with a derby crawl! Just 3 bars in the UTC/ Main Street area and all showing the races! If you cannot make it to the first locations\, you can meet up with us\, or also leave early if you need to! \nWe will start around 4:00 at McGraths!\nMcGrath’s Kitchen & Cocktails : 8110 Lakewood Main St\, Lakewood Ranch\, FL 34202 (Happy hours 3-6!) \nAt post time of races 10 (4:50) we walk to Pinchers!\nPinchers : 10707 Rodeo Dr.\, Lakewood Ranch\, FL 34202 \nAnd Race 11 (5:39) we move to Ed’s Tavern and Sports!\nEd’s Tavern Lakewood Ranch: 10719 Rodeo Dr\, Lakewood Ranch\, FL 34202. At this last location we will watch the run for the roses at 6:57! \nPLUS…wear your derby best for the occasion AND we will have a bookie on hand to “place your bets!” PLUS….if you cannot make it\, you can place your bets online! Watch for our online “betting” coming soon as soon as we have the horses and odds! You can try and pick the winner for $5 per bet\, hold on to those tickets! Half of all bets will go toward our Sarasota Club Parrothead Reef Ball\, and the other half will be split among the winners (if no one chooses the winner\, it all goes to our charity!) \nStart getting your outfit ready\, try a mint julep\, and let’s have some race day phun! We will be holding tables so PLEASE let us know if you can make it!
URL:https://sarasotaphc.com/event/talk-derby-to-me/
LOCATION:FL
END:VEVENT
BEGIN:VEVENT
DTSTART;TZID=America/New_York:20250426T180000
DTEND;TZID=America/New_York:20250426T220000
DTSTAMP:20260421T004208
CREATED:20250316T150133Z
LAST-MODIFIED:20250316T150231Z
UID:719-1745690400-1745704800@sarasotaphc.com
SUMMARY:Reggae in the Garden at 3 Keys Brewing and Gastrobrew
DESCRIPTION:Join us for live music in the beer garden with Greg Roy and The Pressure Band! This is a ticketed event. \nFor more information and tickets please visit\, \nhttps://www.facebook.com/events/1120744493172519/?rdid=kKoe64XOf64RJgQK&share_url=https%3A%2F%2Fwww.facebook.com%2Fshare%2F19iWVohZKb%2F \nPlease note\, this is not a 3 Keys Brewing event. We are providing the space and tickets sales are managed by Greg Roy Music.
URL:https://sarasotaphc.com/event/reggae-in-the-garden-at-3-keys-brewing-and-gastrobrew/
LOCATION:2505 Manatee Ave E\, Bradenton\, FL 34208\, 2505 Manatee Ave E\, Bradenton\, FL\, 34208\, United States
END:VEVENT
BEGIN:VEVENT
DTSTART;TZID=America/New_York:20250422T173000
DTEND;TZID=America/New_York:20250422T203000
DTSTAMP:20260421T004208
CREATED:20250224T141615Z
LAST-MODIFIED:20250224T142439Z
UID:708-1745343000-1745353800@sarasotaphc.com
SUMMARY:Don Middlebrook at BackPorch Brewing Co.
DESCRIPTION:The Sarasota Bay Parrothead Club welcomes Don Middlebrook on Tuesday\, April 22nd for one night only! \nHe will be playing from 5:30 – 8:30 at the Backporch Brewing Co. \n3469 Precision Dr. in North Venice (right off of Laurel by the Sarasota Memorial Hospital) \nSee you there to support live music and local business!
URL:https://sarasotaphc.com/event/don-middlebrook-at-backporch-brewing-co/
LOCATION:BackPorch Brewing Co.\, 3469 Precision Dr.\, North Venice\, FL\, United States
END:VEVENT
BEGIN:VEVENT
DTSTART;TZID=America/New_York:20250415T183000
DTEND;TZID=America/New_York:20250415T203000
DTSTAMP:20260421T004208
CREATED:20250131T174936Z
LAST-MODIFIED:20250402T180516Z
UID:639-1744741800-1744749000@sarasotaphc.com
SUMMARY:Tuesday on the Island
DESCRIPTION:The Sarasota Bay Parrothead Club welcomes you to join us the 3rd Tuesday of the month\, March through October! We meet up for a social on Siesta Key Beach to celebrate our beautiful sunset!  Bring a chair\, your drink(s) of choice\, and any snacks an hour before sunset.  This is a moving target as the year moves along\, but we will send out notices as we approach each date. \nThe club will meet at Siesta Key Beach at Walt’s Tree! When you pull in the parking lot you go to the far left side of the parking lot and follow the main side walk right out to it. It is in front of the concession stand so we have a bathroom\, is easy access for those with walking issues and is right at the end where the yellow life guard chair is with shade and grass too. Walt’s tree is actually considered a county owned park and can be reserved for events. It’s super easy to get parking on that end of the lot as well. \nEnjoy a great Tuesday evening on the Island beach with great phriends when the sun goes down!
URL:https://sarasotaphc.com/event/tuesday-on-the-island-6/
LOCATION:Siesta Key / Walt’s Tree
END:VEVENT
BEGIN:VEVENT
DTSTART;TZID=America/New_York:20250412T173000
DTEND;TZID=America/New_York:20250412T213000
DTSTAMP:20260421T004208
CREATED:20241220T225904Z
LAST-MODIFIED:20241220T225959Z
UID:553-1744479000-1744493400@sarasotaphc.com
SUMMARY:Habitat House Concert: John Frinzi
DESCRIPTION:John Frinzi 2025 \nI will update the RSVP form with more info soon\, but Please feel free to RSVP to this show if you already know you plan to attend – the suggested Donation for this show is $25\, with VIP suggested $40. Donations are given at the door\, and 100% goes directly to the musician. Please remember if you are RSVPing for more than yourself\, select the number of additional guests and click the “ADD GUESTS” button and add the additional names (if you miss this step\, I will NOT know how many people you are RSVPing for and only one name (yours) will be on the RSVP list! \nJohn Frinzi 2025
URL:https://sarasotaphc.com/event/habitat-house-concert-john-frinzi/
LOCATION:Habitat House Concerts\, 609 49th St W\, Bradenton\, FL\, 34209\, United States
END:VEVENT
BEGIN:VEVENT
DTSTART;TZID=America/New_York:20250412T110000
DTEND;TZID=America/New_York:20250412T150000
DTSTAMP:20260421T004208
CREATED:20241127T155832Z
LAST-MODIFIED:20250224T143608Z
UID:513-1744455600-1744470000@sarasotaphc.com
SUMMARY:Mrs. Roper Romp at the Bazaar on Apricot and Lime
DESCRIPTION:Who remembers Three’s Company? \nJoin the craze that is sweeping the country with us on April 12th from 11 – 3pm. at the Bazaar on Apricot and Lime! \nWhat is it?  Yes\, it is what you think\, we will all be dressing up as Mrs. Roper (Helen) for a day of live music\, drink specials and a “Beauty pageant!  Time to get find a flowing caftan\, funky cocktail jewelry\, and a red wig. There will be a beauty pagent with prizes. Speciality drinks and live music. \nStart planning your outfit now (Stanley’s welcome….)
URL:https://sarasotaphc.com/event/mrs-roper-romp-at-the-bazaar-on-apricot-and-lime/
LOCATION:Bazaar at Apricot and Lime\, 821 Apricot Ave.\, Sarasota\, FL\, 34237\, United States
END:VEVENT
BEGIN:VEVENT
DTSTART;TZID=America/New_York:20250410T180000
DTEND;TZID=America/New_York:20250410T210000
DTSTAMP:20260421T004208
CREATED:20250207T152809Z
LAST-MODIFIED:20250224T132629Z
UID:658-1744308000-1744318800@sarasotaphc.com
SUMMARY:Official Club Bidness Meeting and Hawaiian Shirt collection
DESCRIPTION:What time is it? Time for a TEAM DRINK…..and a meeting! \nOur club will be meeting in the backroom of Fin & Tonic the 2nd Thursday of each month! We will discuss what is coming\, what is happening\, socialize with our phriends\, and there could be general shenanigans such as live music\, games\, charity collections\, 50/50\, raffles…..non-club members are welcome to come see what we are all about! \nAlso this month…we are collecting those gently used Hawaiian shirts to donate to Heroes in Hawaiian Shirts for our troops!Your support and contributions to Heroes in Hawaiian Shirts will enable us to meet our goals and improve conditions. Your generous donation will fund our mission. Our goal is to reach as many deployed military members as soon as possible\, while they are still overseas. Help raise their morale with Hawaiian shirts while they are serving our country. It is time to let our deployed heroes know how much we care! \nArrive around 6:00 to chat\, get your food and drinks and be ready for a 6:30 start time! \nWelcome to the Phlock!
URL:https://sarasotaphc.com/event/official-club-bidness-meeting-2/
LOCATION:Fin & Tonic\, 6747 S Tamiami Trl.\, Sarasota\, FL\, 34231\, United States
END:VEVENT
BEGIN:VEVENT
DTSTART;TZID=America/New_York:20250329T173000
DTEND;TZID=America/New_York:20250329T213000
DTSTAMP:20260421T004208
CREATED:20241220T225631Z
LAST-MODIFIED:20241220T225742Z
UID:551-1743269400-1743283800@sarasotaphc.com
SUMMARY:Habitat House Concert:  Christopher Dale
DESCRIPTION:C-Dale 2025 \nI will update the RSVP form with more info soon\, but Please feel free to RSVP to this show if you already know you plan to attend – the suggested Donation for this show is $25\, with VIP suggested $40. Donations are given at the door\, and 100% goes directly to the musician. Please remember if you are RSVPing for more than yourself\, select the number of additional guests and click the “ADD GUESTS” button and add the additional names (if you miss this step\, I will NOT know how many people you are RSVPing for and only one name (yours) will be on the RSVP list! \nChrsitopher Dale 2025
URL:https://sarasotaphc.com/event/habitat-house-concert-christopher-dale/
LOCATION:Habitat House Concerts\, 609 49th St W\, Bradenton\, FL\, 34209\, United States
END:VEVENT
BEGIN:VEVENT
DTSTART;TZID=America/New_York:20250321T190000
DTEND;TZID=America/New_York:20250321T220000
DTSTAMP:20260421T004208
CREATED:20250109T171703Z
LAST-MODIFIED:20250109T171904Z
UID:587-1742583600-1742594400@sarasotaphc.com
SUMMARY:JIMMY BUFFETT TRIBUTE - AIR MARGARITAVILLE
DESCRIPTION:JIMMY BUFFETT TRIBUTE – AIR MARGARITAVILLE\nMarch 21 / Ages: Adults / Fee: $35+ / Ballroom / Friday\, 7 p.m. \nJust say the name Jimmy Buffett and you feel as though you have a drink in your hand and sand in your toes. His unique musical gulf coast mix of country\, pop\, folk\, rock and jazz adds instruments and tonalities more commonly found in the Caribbean. It’s a gumbo full of steel pans\, saxophones\, and guitars. Buffett died on September 1\, 2023\, but his music lives on. Air Margaritaville is the premier musical tribute to Jimmy Buffett performing over the past 20 years for thousands of Parrotheads from the lakes of Minnesota to Florida’s gulf coast. Their shows take on the flavor of a carnival as people\, dressed in their formal board short and finest flip-flops\, take a break from the hassles of daily life\, board a flying boat with this band of rogues\, and hop from island to island bringing the party with them wherever they land. This 8-piece band includes steel drums\, sax and harmonica and is a three-time Detroit Music Award nominee as “Outstanding Tribute Band”. They have made numerous appearances on the Mitch Albom radio show and have opened for national acts like The Marshall Tucker Band. Come along\, let’s have some fun. \nFor tickets\, click here.
URL:https://sarasotaphc.com/event/jimmy-buffett-tribute-air-margaritaville/
LOCATION:Venice Communty Cener\, 326 S. Nokomis Ave.\, Venice\, FL\, 34285\, United States
END:VEVENT
BEGIN:VEVENT
DTSTART;TZID=America/New_York:20250318T183000
DTEND;TZID=America/New_York:20250318T203000
DTSTAMP:20260421T004208
CREATED:20250131T174659Z
LAST-MODIFIED:20250131T174659Z
UID:637-1742322600-1742329800@sarasotaphc.com
SUMMARY:Tuesday on the Island!
DESCRIPTION:The Sarasota Bay Parrothead Club welcomes you to join us the 3rd Tuesday of the month\, March through October! We meet up for a social on Siesta Key Beach to celebrate our beautiful sunset!  Bring a chair\, your drink(s) of choice\, and any snacks an hour before sunset.  This is a moving target as the year moves along\, but we will send out notices as we approach each date. \nThe club will meet at Siesta Key Beach at Walt’s Tree! When you pull in the parking lot you go to the far left side of the parking lot and follow the main side walk right out to it. It is in front of the concession stand so we have a bathroom\, is easy access for those with walking issues and is right at the end where the yellow life guard chair is with shade and grass too. Walt’s tree is actually considered a county owned park and can be reserved for events. It’s super easy to get parking on that end of the lot as well. \nEnjoy a great Tuesday evening on the Island beach with great phriends when the sun goes down!
URL:https://sarasotaphc.com/event/tuesday-on-the-island-5/
LOCATION:Siesta Key / Walt’s Tree
END:VEVENT
BEGIN:VEVENT
DTSTART;TZID=America/New_York:20250316T120000
DTEND;TZID=America/New_York:20250316T150000
DTSTAMP:20260421T004208
CREATED:20241229T150334Z
LAST-MODIFIED:20241229T150334Z
UID:564-1742126400-1742137200@sarasotaphc.com
SUMMARY:Sunday Funday with Dave Burks!
DESCRIPTION:Sunday Deluxe Bloody Mary is right around the corner \nFeaturing The Corny Mary.\n2 Corned Beef and Swiss Sliders – 6 Grilled Herb Butter Shrimp – Fried Pickles Chips – Bacon – Sweet Pepper – Spicy Bean – Cocktail Sauce – Dijon Mustard – House Made Chips – Double Shot Deep Eddy Vodka – House Made Bloody Mary Mix and all the fixings $35\nLive Music with Dave Burks from 12 to 3 p.m.
URL:https://sarasotaphc.com/event/sunday-funday-with-dave-burks-3/
LOCATION:Linger Lodge\, 7205 85th St Ct East\, Bradenton\, FL\, 34202\, United States
END:VEVENT
BEGIN:VEVENT
DTSTART;TZID=America/New_York:20250316T000000
DTEND;TZID=America/New_York:20250406T235959
DTSTAMP:20260421T004208
CREATED:20250316T152840Z
LAST-MODIFIED:20250316T153931Z
UID:723-1742083200-1743983999@sarasotaphc.com
SUMMARY:Mote Marine Laboratory's 39th Annual Run for the Turtles
DESCRIPTION:Thank you for supporting sea turtles! \nMote Marine Laboratory’s 39th Annual Run for the Turtles will be held on Saturday\, April 5th\, 2025! But there are 3 levels of participation.  Any of our members are of course encouraged to attend on the designated date in the 1-Mile Fun Run or Walk or the 5K Manasota Track Club – Sanctioned Run. \nOR…..join us on Tuesday on the Island where we can\, as a club\, complete our own virtual Fun Run / Walk (which will be mostly walking out to the beach for sunset….but still parting with a purpose!)!  We encourage our members to join this great cause\, get your t-shirt\, and make sure you verify with the Board that you DID register and we can count this as a charity event for the club (and count the attendees and hours!). \nMote Marine Laboratory’s 39th Annual Run for the Turtles Virtual Fun Run or Walk may also be completed now through April 6\, 2025 at your leisure. Virtual participants will receive a race t-shirt in the mail at the physical address submitted during the event registration process. Your t-shirt may be shipped up to 60 days after April 6\, 2025. \nhttps://runsignup.com/Race/Info/FL/SiestaKey/RunfortheTurtles \nThe schedule of events for the actual race day is as follows: \n6:30AM – Packet pick up & race day registration opens\n7:00AM – Warm Up!\n7:30AM – 1 Mile Fun Run\n8:00AM – 5K Run sanctioned by Manasota Track Club\nAward ceremony to follow 5K \nThis Run is the major fundraiser for the Sea Turtle Conservation & Research Program at Mote Marine Laboratory & Aquarium. \nRace Pricing (Prices are the same for the 1 Mile & 5K): \nAdults (14 & Up): \n$35 Early Bird Pricing through January 1\, 2025\n$40 Regular Pricing January 1 – April 5\, 2025 \nKids (13 & Under): \n$25 Early Bird Pricing through January 1\, 2025\n$30 Regular Pricing January 1 – April 5\, 2025
URL:https://sarasotaphc.com/event/mote-marine-laboratorys-39th-annual-run-for-the-turtles/
LOCATION:Siesta Key / Walt’s Tree
END:VEVENT
END:VCALENDAR