BEGIN:VCALENDAR
VERSION:2.0
PRODID:-//Sarasota Bay Parrothead Club - ECPv6.15.20//NONSGML v1.0//EN
CALSCALE:GREGORIAN
METHOD:PUBLISH
X-WR-CALNAME:Sarasota Bay Parrothead Club
X-ORIGINAL-URL:https://sarasotaphc.com
X-WR-CALDESC:Events for Sarasota Bay Parrothead Club
REFRESH-INTERVAL;VALUE=DURATION:PT1H
X-Robots-Tag:noindex
X-PUBLISHED-TTL:PT1H
BEGIN:VTIMEZONE
TZID:America/New_York
BEGIN:DAYLIGHT
TZOFFSETFROM:-0500
TZOFFSETTO:-0400
TZNAME:EDT
DTSTART:20240310T070000
END:DAYLIGHT
BEGIN:STANDARD
TZOFFSETFROM:-0400
TZOFFSETTO:-0500
TZNAME:EST
DTSTART:20241103T060000
END:STANDARD
BEGIN:DAYLIGHT
TZOFFSETFROM:-0500
TZOFFSETTO:-0400
TZNAME:EDT
DTSTART:20250309T070000
END:DAYLIGHT
BEGIN:STANDARD
TZOFFSETFROM:-0400
TZOFFSETTO:-0500
TZNAME:EST
DTSTART:20251102T060000
END:STANDARD
BEGIN:DAYLIGHT
TZOFFSETFROM:-0500
TZOFFSETTO:-0400
TZNAME:EDT
DTSTART:20260308T070000
END:DAYLIGHT
BEGIN:STANDARD
TZOFFSETFROM:-0400
TZOFFSETTO:-0500
TZNAME:EST
DTSTART:20261101T060000
END:STANDARD
END:VTIMEZONE
BEGIN:VEVENT
DTSTART;TZID=America/New_York:20250719T180000
DTEND;TZID=America/New_York:20250719T220000
DTSTAMP:20260421T001920
CREATED:20250627T172408Z
LAST-MODIFIED:20250627T172408Z
UID:1461-1752948000-1752962400@sarasotaphc.com
SUMMARY:Lefty Lucy - Local
DESCRIPTION:19- Parrot Patio\, Sarasota 6-10pm
URL:https://sarasotaphc.com/event/lefty-lucy-local-10/
LOCATION:Parrot Patio\, 3602 Webber St.\, Sarasota\, FL\, 34232\, United States
CATEGORIES:Local Music
END:VEVENT
BEGIN:VEVENT
DTSTART;TZID=America/New_York:20250718T160000
DTEND;TZID=America/New_York:20250718T220000
DTSTAMP:20260421T001920
CREATED:20250402T190229Z
LAST-MODIFIED:20250421T204430Z
UID:801-1752854400-1752876000@sarasotaphc.com
SUMMARY:Dan Sullivan House Concert
DESCRIPTION:We are excited to have Dan Sullivan here for Kristin’s Birthday House Concert on Friday\, July 18th!\n\nDoors open at 4:00 for pool time and happy hour and music starts around 7:00.\n\nThis house concert includes food and the pool will be open as we enjoy the music of our Texas-based musician!\nYOU BRING a chair\, towel\, and your drink of choice!\n\nCost of this show will be $30 per person\, please pay in advance as your RSVP. Payments can be sent via venmo@Kristin-McFadden-3 (last 4 digits 1677) and please put Dan Sullivan in the notes (no refunds\, please) and will cover all food and paying the performer.\n\nLocation details will be provided to those that RSVP! No gifts!!!\n\nDepending upon RSVP’s we may have to update the location!
URL:https://sarasotaphc.com/event/dan-sullivan-house-concert/
LOCATION:FL
END:VEVENT
BEGIN:VEVENT
DTSTART;TZID=America/New_York:20250718T140000
DTEND;TZID=America/New_York:20250718T170000
DTSTAMP:20260421T001920
CREATED:20250627T172313Z
LAST-MODIFIED:20250627T172313Z
UID:1459-1752847200-1752858000@sarasotaphc.com
SUMMARY:Lefty Lucy - Local
DESCRIPTION:18- Riviera Bar\, Punta Gorda 2-5pm
URL:https://sarasotaphc.com/event/lefty-lucy-local-9/
LOCATION:Riviera Bar and Grill\, 5500 Deltona Dr.\, Punta Gorda\, FL\, 33950\, United States
CATEGORIES:Local Music
END:VEVENT
BEGIN:VEVENT
DTSTART;TZID=America/New_York:20250718T140000
DTEND;TZID=America/New_York:20250718T170000
DTSTAMP:20260421T001920
CREATED:20250512T222813Z
LAST-MODIFIED:20250512T222813Z
UID:988-1752847200-1752858000@sarasotaphc.com
SUMMARY:Sunny Jim - Local
DESCRIPTION:Nav-A-Gator 2-5pm Location: Nav-A-Gator Bar & Grill\, 9700 SW Riverview Cir\, Arcadia\, FL 34269\, United States Always a special time.
URL:https://sarasotaphc.com/event/sunny-jim-local-15/
LOCATION:Nav-A-Gator Bar & Grill\, 900 SW Riverview Cir.\, Arcadia\, FL\, 34269\, United States
CATEGORIES:Local Music,Upcoming Events
END:VEVENT
BEGIN:VEVENT
DTSTART;TZID=America/New_York:20250715T193000
DTEND;TZID=America/New_York:20250715T213000
DTSTAMP:20260421T001920
CREATED:20250131T175608Z
LAST-MODIFIED:20250402T180104Z
UID:645-1752607800-1752615000@sarasotaphc.com
SUMMARY:Tuesday on the Island
DESCRIPTION:The Sarasota Bay Parrothead Club welcomes you to join us the 3rd Tuesday of the month\, March through October! We meet up for a social on Siesta Key Beach to celebrate our beautiful sunset!  Bring a chair\, your drink(s) of choice\, and any snacks an hour before sunset.  This is a moving target as the year moves along\, but we will send out notices as we approach each date. \nThe club will meet at Siesta Key Beach at Walt’s Tree! When you pull in the parking lot you go to the far left side of the parking lot and follow the main side walk right out to it. It is in front of the concession stand so we have a bathroom\, is easy access for those with walking issues and is right at the end where the yellow life guard chair is with shade and grass too. Walt’s tree is actually considered a county owned park and can be reserved for events. It’s super easy to get parking on that end of the lot as well. \nEnjoy a great Tuesday evening on the Island beach with great phriends when the sun goes down!
URL:https://sarasotaphc.com/event/tuesday-on-the-island-9/
LOCATION:Siesta Key / Walt’s Tree
END:VEVENT
BEGIN:VEVENT
DTSTART;TZID=America/New_York:20250715T130000
DTEND;TZID=America/New_York:20250715T170000
DTSTAMP:20260421T001920
CREATED:20250512T222708Z
LAST-MODIFIED:20250512T222708Z
UID:986-1752584400-1752598800@sarasotaphc.com
SUMMARY:Sunny Jim - Local
DESCRIPTION:Captain Curts\n\n1 Pm to 5 Pm Come have lunch including their New England Chowder Clam Festival Grand Prize winning chow-dah!
URL:https://sarasotaphc.com/event/sunny-jim-local-14/
LOCATION:Captain Curts\, 1204 Old Stickney Point Road\, Sarasota\, FL\, 34242\, United States
CATEGORIES:Local Music,Upcoming Events
END:VEVENT
BEGIN:VEVENT
DTSTART;TZID=America/New_York:20250713T170000
DTEND;TZID=America/New_York:20250713T200000
DTSTAMP:20260421T001920
CREATED:20250604T183047Z
LAST-MODIFIED:20250604T183047Z
UID:1316-1752426000-1752436800@sarasotaphc.com
SUMMARY:Flip Flop Dave at Jiggs Landing
DESCRIPTION:Check out Flip Flop Dave for local live music!
URL:https://sarasotaphc.com/event/flip-flop-dave-at-jiggs-landing-2/
LOCATION:Jiggs Landing\, 6106 Braden River Rd\,\, Bradenton\, FL\, 34203\, United States
CATEGORIES:Local Music
END:VEVENT
BEGIN:VEVENT
DTSTART;TZID=America/New_York:20250712T180000
DTEND;TZID=America/New_York:20250712T220000
DTSTAMP:20260421T001920
CREATED:20250627T172158Z
LAST-MODIFIED:20250627T172158Z
UID:1456-1752343200-1752357600@sarasotaphc.com
SUMMARY:Lefty Lucy - Local
DESCRIPTION:12- Parrot Patio\, Sarasota 6-10pm
URL:https://sarasotaphc.com/event/lefty-lucy-local-8/
LOCATION:Parrot Patio\, 3602 Webber St.\, Sarasota\, FL\, 34232\, United States
CATEGORIES:Local Music
END:VEVENT
BEGIN:VEVENT
DTSTART;TZID=America/New_York:20250711T180000
DTEND;TZID=America/New_York:20250711T210000
DTSTAMP:20260421T001920
CREATED:20250627T172016Z
LAST-MODIFIED:20250627T172016Z
UID:1454-1752256800-1752267600@sarasotaphc.com
SUMMARY:Lefty Lucy - Local
DESCRIPTION:11- Spanish Point Tiki\, Osprey 6-9pm
URL:https://sarasotaphc.com/event/lefty-lucy-local-7/
LOCATION:Spanish Point\, 135 Bayview Drive\, Osprey\, FL\, 34229\, United States
CATEGORIES:Local Music
END:VEVENT
BEGIN:VEVENT
DTSTART;TZID=America/New_York:20250711T170000
DTEND;TZID=America/New_York:20250711T200000
DTSTAMP:20260421T001920
CREATED:20250604T182946Z
LAST-MODIFIED:20250604T182946Z
UID:1314-1752253200-1752264000@sarasotaphc.com
SUMMARY:Flip Flop Dave at Loaded Cannon Distillery
DESCRIPTION:Check out Flip Flop Dave for local live music!
URL:https://sarasotaphc.com/event/flip-flop-dave-at-loaded-cannon-distillery-2/
LOCATION:Loaded Cannon Distillery\, 3115 Lakewood Ranch Blvd. Suite 110\, Bradenton\, FL\, 34211\, United States
CATEGORIES:Local Music
END:VEVENT
BEGIN:VEVENT
DTSTART;TZID=America/New_York:20250710T190000
DTEND;TZID=America/New_York:20250710T220000
DTSTAMP:20260421T001920
CREATED:20250604T194508Z
LAST-MODIFIED:20250604T194508Z
UID:1386-1752174000-1752184800@sarasotaphc.com
SUMMARY:Tiki Tony's House Concert: Dan Sullivan
DESCRIPTION:Dan Sullivan\n\n\n Dan proudly declares his music as “Trop Rock.” Inspired by the likes of Jimmy Buffett\, Robert Earl Keen\, Walt Wilkins and Jerry Jeff Walker\, Dan co-founded the three-time TRMA award winning duo and national touring act\, The Detentions. You can hear their songs Coast and Sunburned on Sirius XM Radio Margaritaville as well as other national Trop Rock radio stations.  
URL:https://sarasotaphc.com/event/tiki-tonys-house-concert-dan-sullivan/
LOCATION:Tiki Tony’s\, 9506 32nd Ct E.\, Parrish\, FL\, 34219\, United States
CATEGORIES:House Concert
END:VEVENT
BEGIN:VEVENT
DTSTART;TZID=America/New_York:20250710T180000
DTEND;TZID=America/New_York:20250710T210000
DTSTAMP:20260421T001920
CREATED:20250207T153322Z
LAST-MODIFIED:20250604T182322Z
UID:664-1752170400-1752181200@sarasotaphc.com
SUMMARY:Official Club Bidness Meeting
DESCRIPTION:What time is it? Time for a TEAM DRINK…..and a meeting! \nOur club will be meeting in the backroom of Fin & Tonic the 2nd Thursday of each month! We will discuss what is coming\, what is happening\, socialize with our phriends\, and there could be general shenanigans such as live music\, games\, charity collections\, 50/50\, raffles…..non-club members are welcome to come see what we are all about! \nFeaturing LIVE MUSIC  by Dave Freeman! \nArrive around 6:00 to chat\, get your food and drinks and be ready for a 6:30 start time! \nWelcome to the Phlock!
URL:https://sarasotaphc.com/event/official-club-bidness-meeting-5/
LOCATION:Fin & Tonic\, 6747 S Tamiami Trl.\, Sarasota\, FL\, 34231\, United States
END:VEVENT
BEGIN:VEVENT
DTSTART;TZID=America/New_York:20250710T170000
DTEND;TZID=America/New_York:20250710T200000
DTSTAMP:20260421T001920
CREATED:20250627T171851Z
LAST-MODIFIED:20250627T171851Z
UID:1452-1752166800-1752177600@sarasotaphc.com
SUMMARY:Lefty Lucy - Local
DESCRIPTION:10- Spanish Point Tiki\, Osprey 5-8pm
URL:https://sarasotaphc.com/event/lefty-lucy-local-6/
LOCATION:Spanish Point\, 135 Bayview Drive\, Osprey\, FL\, 34229\, United States
CATEGORIES:Local Music
END:VEVENT
BEGIN:VEVENT
DTSTART;TZID=America/New_York:20250706T150000
DTEND;TZID=America/New_York:20250706T180000
DTSTAMP:20260421T001920
CREATED:20250627T171758Z
LAST-MODIFIED:20250627T171758Z
UID:1449-1751814000-1751824800@sarasotaphc.com
SUMMARY:Lefty Lucy - Local
DESCRIPTION:6- Spanish Point Tiki\, Osprey 3-6pm
URL:https://sarasotaphc.com/event/lefty-lucy-local-5/
LOCATION:Spanish Point\, 135 Bayview Drive\, Osprey\, FL\, 34229\, United States
CATEGORIES:Local Music
END:VEVENT
BEGIN:VEVENT
DTSTART;TZID=America/New_York:20250705T180000
DTEND;TZID=America/New_York:20250705T220000
DTSTAMP:20260421T001920
CREATED:20250627T171428Z
LAST-MODIFIED:20250627T171428Z
UID:1447-1751738400-1751752800@sarasotaphc.com
SUMMARY:Lefty Lucy - Local
DESCRIPTION:5- Sharkey’s on the Pier\, Venice\, FL 6-10pm
URL:https://sarasotaphc.com/event/lefty-lucy-local-4/
LOCATION:Sharkey’s on the Pier\, 1600 Harbor Dr S\, Venice\, FL 34285\, Venice\, FL\, 34285\, United States
CATEGORIES:Local Music
END:VEVENT
BEGIN:VEVENT
DTSTART;TZID=America/New_York:20250705T110000
DTEND;TZID=America/New_York:20250705T150000
DTSTAMP:20260421T001920
CREATED:20250617T221016Z
LAST-MODIFIED:20250617T221016Z
UID:1416-1751713200-1751727600@sarasotaphc.com
SUMMARY:Hot Dog Day at the Bazaar!
DESCRIPTION:If you don’t have plans on Saturday\, July 5th it’s our annual Hot Dog Day at The Bazaar! \nBuy a hot dog at Hamlet’s Eatery and enter the topping room with every topping you can imagine to fix your dog! We will have live music by Capt John (who plays a lot of Buffett and other cool tunes) and rescue dogs from Seeking Forever Homes Dachshund Rescue. \nPlus\, Sun King and Big Top Brewery will have free samples and we are selling draft beer for $4. \nIt’s always a fun day and would be even more fun with the Parrotheads around.
URL:https://sarasotaphc.com/event/hot-dog-day-at-the-bazaar/
LOCATION:Bazaar at Apricot and Lime\, 821 Apricot Ave.\, Sarasota\, FL\, 34237\, United States
END:VEVENT
BEGIN:VEVENT
DTSTART;TZID=America/New_York:20250702T180000
DTEND;TZID=America/New_York:20250702T220000
DTSTAMP:20260421T001920
CREATED:20250627T171319Z
LAST-MODIFIED:20250627T171558Z
UID:1445-1751479200-1751493600@sarasotaphc.com
SUMMARY:Lefty Lucy - Local
DESCRIPTION:2- Captain Curt’s Sniki Tiki\, Siesta Key 6-10pm
URL:https://sarasotaphc.com/event/lefty-lucy-local-3/
LOCATION:Sniki Tiki\, 1204 Old Stickney Point Road\, Sarasota\, FL\, 34242\, United States
CATEGORIES:Local Music
END:VEVENT
BEGIN:VEVENT
DTSTART;TZID=America/New_York:20250701T130000
DTEND;TZID=America/New_York:20250701T170000
DTSTAMP:20260421T001920
CREATED:20250627T171223Z
LAST-MODIFIED:20250627T171516Z
UID:1442-1751374800-1751389200@sarasotaphc.com
SUMMARY:Lefty Lucy - Local
DESCRIPTION:1- Celebrating Lois’ Birthday at the Sunny Jim Show\, Capt. Curt’s 1-5pm\n(Social event\, No Lefty Lucy show)
URL:https://sarasotaphc.com/event/lefty-lucy-local-2/
LOCATION:Sniki Tiki\, 1204 Old Stickney Point Road\, Sarasota\, FL\, 34242\, United States
CATEGORIES:Local Music
END:VEVENT
BEGIN:VEVENT
DTSTART;TZID=America/New_York:20250701T130000
DTEND;TZID=America/New_York:20250701T170000
DTSTAMP:20260421T001920
CREATED:20250512T222625Z
LAST-MODIFIED:20250512T222625Z
UID:984-1751374800-1751389200@sarasotaphc.com
SUMMARY:Sunny Jim - Local
DESCRIPTION:Captain Curts\n\n1 Pm to 5 Pm Come have lunch including their New England Chowder Clam Festival Grand Prize winning chow-dah!
URL:https://sarasotaphc.com/event/sunny-jim-local-13/
LOCATION:Captain Curts\, 1204 Old Stickney Point Road\, Sarasota\, FL\, 34242\, United States
CATEGORIES:Local Music,Upcoming Events
END:VEVENT
BEGIN:VEVENT
DTSTART;TZID=America/New_York:20250628T160000
DTEND;TZID=America/New_York:20250628T190000
DTSTAMP:20260421T001920
CREATED:20250624T110627Z
LAST-MODIFIED:20250624T110627Z
UID:1426-1751126400-1751137200@sarasotaphc.com
SUMMARY:Bill Dundas at Lah De Dah! - Local
DESCRIPTION: I’ll be playing at the Lah De Dah \nSaturday\, June 28 @ 4:00-7:00pm.\n 
URL:https://sarasotaphc.com/event/bill-dundas-at-lah-de-dah-local/
LOCATION:Lah De Dah\, 2236 Gulf Gate\, Sarasota\, 34231\, United States
CATEGORIES:Local Music
END:VEVENT
BEGIN:VEVENT
DTSTART;TZID=America/New_York:20250627T180000
DTEND;TZID=America/New_York:20250627T210000
DTSTAMP:20260421T001920
CREATED:20250627T170941Z
LAST-MODIFIED:20250627T170941Z
UID:1439-1751047200-1751058000@sarasotaphc.com
SUMMARY:Lefty Lucy - Local
DESCRIPTION:27– Pop’s Sunset Grill\, Nokomis 6-9pm
URL:https://sarasotaphc.com/event/lefty-lucy-local/
LOCATION:Pop’s Suset Grill\, 112 Circuit Road\, Nokomis\, FL\, 34275\, United States
CATEGORIES:Local Music
END:VEVENT
BEGIN:VEVENT
DTSTART;TZID=America/New_York:20250627T170000
DTEND;TZID=America/New_York:20250627T200000
DTSTAMP:20260421T001920
CREATED:20250604T182752Z
LAST-MODIFIED:20250604T182752Z
UID:1311-1751043600-1751054400@sarasotaphc.com
SUMMARY:Flip Flop Dave at Loaded Cannon Distillery
DESCRIPTION:Check out Flip Flop Dave for local live music!
URL:https://sarasotaphc.com/event/flip-flop-dave-at-loaded-cannon-distillery/
LOCATION:Loaded Cannon Distillery\, 3115 Lakewood Ranch Blvd. Suite 110\, Bradenton\, FL\, 34211\, United States
CATEGORIES:Local Music
END:VEVENT
BEGIN:VEVENT
DTSTART;TZID=America/New_York:20250624T130000
DTEND;TZID=America/New_York:20250624T170000
DTSTAMP:20260421T001920
CREATED:20250512T222544Z
LAST-MODIFIED:20250512T222544Z
UID:982-1750770000-1750784400@sarasotaphc.com
SUMMARY:Sunny Jim - Local
DESCRIPTION:Captain Curts\n\n1 Pm to 5 Pm Come have lunch including their New England Chowder Clam Festival Grand Prize winning chow-dah!
URL:https://sarasotaphc.com/event/sunny-jim-local-12/
LOCATION:Captain Curts\, 1204 Old Stickney Point Road\, Sarasota\, FL\, 34242\, United States
CATEGORIES:Local Music,Upcoming Events
END:VEVENT
BEGIN:VEVENT
DTSTART;TZID=America/New_York:20250621T140000
DTEND;TZID=America/New_York:20250621T170000
DTSTAMP:20260421T001920
CREATED:20250512T222421Z
LAST-MODIFIED:20250512T222421Z
UID:979-1750514400-1750525200@sarasotaphc.com
SUMMARY:Sunny Jim - Local
DESCRIPTION:Riviera Bar and Grill\n\nSolo Sunny Jim on the water! \n\n\n\n\n\n14:00\n–\n17:00\n\n\n5500 Deltona Dr\, Punta Gorda\, FL 33950\, United States
URL:https://sarasotaphc.com/event/sunny-jim-local-11/
LOCATION:Riviera Bar and Grill\, 5500 Deltona Dr.\, Punta Gorda\, FL\, 33950\, United States
CATEGORIES:Local Music,Upcoming Events
END:VEVENT
BEGIN:VEVENT
DTSTART;TZID=America/New_York:20250620T160000
DTEND;TZID=America/New_York:20250620T190000
DTSTAMP:20260421T001920
CREATED:20250604T181748Z
LAST-MODIFIED:20250604T181748Z
UID:1301-1750435200-1750446000@sarasotaphc.com
SUMMARY:Flip Flop Dave at Lah De Dah!
DESCRIPTION:Start the weekend off right with Flip Flop Dave down at the Lah De Dah\, Sarasota’s Jimmy Buffett themed Bar.
URL:https://sarasotaphc.com/event/flip-flop-dave-at-lah-de-dah-2/
LOCATION:Lah De Dah\, 2236 Gulf Gate\, Sarasota\, 34231\, United States
CATEGORIES:Local Music
END:VEVENT
BEGIN:VEVENT
DTSTART;TZID=America/New_York:20250618T180000
DTEND;TZID=America/New_York:20250618T210000
DTSTAMP:20260421T001920
CREATED:20250604T190142Z
LAST-MODIFIED:20250604T190142Z
UID:1339-1750269600-1750280400@sarasotaphc.com
SUMMARY:Charlie Imes at Wicked Cantina
DESCRIPTION:Check out Charlie Imes for local music!
URL:https://sarasotaphc.com/event/charlie-imes-at-wicked-cantina-3/
LOCATION:Wicked Cantina\, 1603 North Tamiami trail Sarasota\, FL 34236\, Sarasota\, FL\, 34236\, United States
CATEGORIES:Local Music
END:VEVENT
BEGIN:VEVENT
DTSTART;TZID=America/New_York:20250617T193000
DTEND;TZID=America/New_York:20250617T213000
DTSTAMP:20260421T001920
CREATED:20250131T175439Z
LAST-MODIFIED:20250402T180218Z
UID:643-1750188600-1750195800@sarasotaphc.com
SUMMARY:Tuesday on the Island
DESCRIPTION:The Sarasota Bay Parrothead Club welcomes you to join us the 3rd Tuesday of the month\, March through October! We meet up for a social on Siesta Key Beach to celebrate our beautiful sunset!  Bring a chair\, your drink(s) of choice\, and any snacks an hour before sunset.  This is a moving target as the year moves along\, but we will send out notices as we approach each date. \nThe club will meet at Siesta Key Beach at Walt’s Tree! When you pull in the parking lot you go to the far left side of the parking lot and follow the main side walk right out to it. It is in front of the concession stand so we have a bathroom\, is easy access for those with walking issues and is right at the end where the yellow life guard chair is with shade and grass too. Walt’s tree is actually considered a county owned park and can be reserved for events. It’s super easy to get parking on that end of the lot as well. \nEnjoy a great Tuesday evening on the Island beach with great phriends when the sun goes down!
URL:https://sarasotaphc.com/event/tuesday-on-the-island-8/
LOCATION:Siesta Key / Walt’s Tree
END:VEVENT
BEGIN:VEVENT
DTSTART;TZID=America/New_York:20250617T130000
DTEND;TZID=America/New_York:20250617T170000
DTSTAMP:20260421T001920
CREATED:20250512T222230Z
LAST-MODIFIED:20250512T222230Z
UID:977-1750165200-1750179600@sarasotaphc.com
SUMMARY:Sunny Jim - Local
DESCRIPTION:Captain Curts\n\n1 Pm to 5 Pm Come have lunch including their New England Chowder Clam Festival Grand Prize winning chow-dah!
URL:https://sarasotaphc.com/event/sunny-jim-local-10/
LOCATION:Captain Curts\, 1204 Old Stickney Point Road\, Sarasota\, FL\, 34242\, United States
CATEGORIES:Local Music,Upcoming Events
END:VEVENT
BEGIN:VEVENT
DTSTART;TZID=America/New_York:20250615T170000
DTEND;TZID=America/New_York:20250615T200000
DTSTAMP:20260421T001920
CREATED:20250604T182512Z
LAST-MODIFIED:20250604T182512Z
UID:1309-1750006800-1750017600@sarasotaphc.com
SUMMARY:Flip Flop Dave at Jiggs Landing
DESCRIPTION:Check out Flip Flop Dave for local live music!
URL:https://sarasotaphc.com/event/flip-flop-dave-at-jiggs-landing/
LOCATION:Jiggs Landing\, 6106 Braden River Rd\,\, Bradenton\, FL\, 34203\, United States
CATEGORIES:Local Music
END:VEVENT
BEGIN:VEVENT
DTSTART;TZID=America/New_York:20250613T160000
DTEND;TZID=America/New_York:20250613T190000
DTSTAMP:20260421T001920
CREATED:20250604T182022Z
LAST-MODIFIED:20250604T182022Z
UID:1305-1749830400-1749841200@sarasotaphc.com
SUMMARY:Beth Travers at Lah De Dah!
DESCRIPTION:Start the weekend off right with Beth Travers down at the Lah De Dah\, Sarasota’s Jimmy Buffett themed Bar.
URL:https://sarasotaphc.com/event/beth-travers-at-lah-de-dah/
LOCATION:Lah De Dah\, 2236 Gulf Gate\, Sarasota\, 34231\, United States
CATEGORIES:Local Music
END:VEVENT
END:VCALENDAR