BEGIN:VCALENDAR
VERSION:2.0
PRODID:-//Sarasota Bay Parrothead Club - ECPv6.15.20//NONSGML v1.0//EN
CALSCALE:GREGORIAN
METHOD:PUBLISH
X-WR-CALNAME:Sarasota Bay Parrothead Club
X-ORIGINAL-URL:https://sarasotaphc.com
X-WR-CALDESC:Events for Sarasota Bay Parrothead Club
REFRESH-INTERVAL;VALUE=DURATION:PT1H
X-Robots-Tag:noindex
X-PUBLISHED-TTL:PT1H
BEGIN:VTIMEZONE
TZID:America/New_York
BEGIN:DAYLIGHT
TZOFFSETFROM:-0500
TZOFFSETTO:-0400
TZNAME:EDT
DTSTART:20230312T070000
END:DAYLIGHT
BEGIN:STANDARD
TZOFFSETFROM:-0400
TZOFFSETTO:-0500
TZNAME:EST
DTSTART:20231105T060000
END:STANDARD
BEGIN:DAYLIGHT
TZOFFSETFROM:-0500
TZOFFSETTO:-0400
TZNAME:EDT
DTSTART:20240310T070000
END:DAYLIGHT
BEGIN:STANDARD
TZOFFSETFROM:-0400
TZOFFSETTO:-0500
TZNAME:EST
DTSTART:20241103T060000
END:STANDARD
BEGIN:DAYLIGHT
TZOFFSETFROM:-0500
TZOFFSETTO:-0400
TZNAME:EDT
DTSTART:20250309T070000
END:DAYLIGHT
BEGIN:STANDARD
TZOFFSETFROM:-0400
TZOFFSETTO:-0500
TZNAME:EST
DTSTART:20251102T060000
END:STANDARD
END:VTIMEZONE
BEGIN:VTIMEZONE
TZID:UTC
BEGIN:STANDARD
TZOFFSETFROM:+0000
TZOFFSETTO:+0000
TZNAME:UTC
DTSTART:20230101T000000
END:STANDARD
END:VTIMEZONE
BEGIN:VEVENT
DTSTART;TZID=America/New_York:20241130T173000
DTEND;TZID=America/New_York:20241130T210000
DTSTAMP:20260421T123718
CREATED:20240814T134512Z
LAST-MODIFIED:20240814T134512Z
UID:329-1732987800-1733000400@sarasotaphc.com
SUMMARY:Habitat House Concert - Brooke Graham
DESCRIPTION:Saturday November 30\, 2024 5:30 PM to 6:30 PM\n \n\nBrooke Graham at The Habitat 2024\nNote – RSVPs are active\, I will update this page soon with info about the artists\, but if you know you want to attend this show you can RSVP now! \n\n\nRSVP to This Concert at The Habitat\nRemember that all our shows are considered private events and are suggested donation only – 100% of any donation goes to the musician(s). For this show\, the suggested donation is $35 per person\, we suggest a $50 donation per person for people that request VIP seating. (also\, the ‘recaptcha’ is CaSe SeNsiTivE!)
URL:https://sarasotaphc.com/event/habitat-house-concert-brooke-graham/
LOCATION:Habitat House Concerts\, 609 49th St W\, Bradenton\, FL\, 34209\, United States
END:VEVENT
BEGIN:VEVENT
DTSTART;TZID=America/New_York:20241124T130000
DTEND;TZID=America/New_York:20241124T170000
DTSTAMP:20260421T123718
CREATED:20240916T184112Z
LAST-MODIFIED:20241122T174801Z
UID:413-1732453200-1732467600@sarasotaphc.com
SUMMARY:Trop for Tots!
DESCRIPTION:Our new tropical twist with Toys for Tots!\n\nIn a partnership with Casey Key Resort Mainland\, we will be a designated drop off site on Sunday\, November 24 from 1:00 pm until 5:00 pm as we party with a purpose!\n\nWe will be putting the TROP in Toys for Tots…TROP for Tots! How do we do this? With our local live music and club shenanigans. We will also need volunteers to collect those toys and especially money so we can head out on Black Friday to get those deals and even more toys to donate!\n\n\n\n\n\n\n\n\n\n\n\n\n\nSunday Trop 4 Tots line up!\n\nThere will be 2 games of heads and tails\, and a Wheel o’ Phun for prizes (by donation!)!\n\n\n\nBill Dundas 1 :00- 1:30\n\n\nTrevor Bystrom 1:40 – 2:10\n\n\nHeads & Tails 2:10 – 2:25\n\n\nCharlie Imes 2:25 – 2:55\n\n\nDave Burks 3:05 – 3:35\n\n\nHeads & Tails 3:35 – 3:50\n\n\nMonallo 3:50 – 4:20\n\n\nSunny Jim 4:30 – 5:00\n\n\n\nSee you there with fins up for a great cause!
URL:https://sarasotaphc.com/event/trop-for-tots/
LOCATION:Casey Key Mainland\, 1660 S. Tamiami Trail\, Osprey\, FL\, 34275\, United States
END:VEVENT
BEGIN:VEVENT
DTSTART;TZID=America/New_York:20241117T173000
DTEND;TZID=America/New_York:20241117T210000
DTSTAMP:20260421T123718
CREATED:20240814T134041Z
LAST-MODIFIED:20240814T134041Z
UID:327-1731864600-1731877200@sarasotaphc.com
SUMMARY:Habitat House Concert - Will Kimbrough
DESCRIPTION:Sunday November 17\, 2024 5:30 PM to 6:30 PM\n \n\n(note\, this show may be moved to an earlier time as it is a Sunday show – Please insure you check the time if you RSVP early!)\nWill Kimbrough at The Habitat 2024\nNote – RSVPs are active\, I will update this page soon with info about the artists\, but if you know you want to attend this show you can RSVP now! \n\n\nRSVP to This Concert at The Habitat\nRemember that all our shows are considered private events and are suggested donation only – 100% of any donation goes to the musician(s). For this show\, the suggested donation is $35 per person\, we suggest a $50 donation per person for people that request VIP seating. (also\, the ‘recaptcha’ is CaSe SeNsiTivE!)
URL:https://sarasotaphc.com/event/habitat-house-concert-will-kimbrough/
LOCATION:Habitat House Concerts\, 609 49th St W\, Bradenton\, FL\, 34209\, United States
END:VEVENT
BEGIN:VEVENT
DTSTART;TZID=America/New_York:20241115T180000
DTEND;TZID=America/New_York:20241115T220000
DTSTAMP:20260421T123718
CREATED:20240911T133115Z
LAST-MODIFIED:20240911T133833Z
UID:408-1731693600-1731708000@sarasotaphc.com
SUMMARY:House Concert at Tiki Tonys: Kitty Steadman!
DESCRIPTION:Tiki Tony’s is happy to have Kitty steadman playing a solo show Friday Nov. 15th singing all of her songs from her newest album Truck Drivers Daughter plus many other of your favorite songs. \nPlease join us in supporting Kitty and all the album supports. Suggested $20 donation to Kitty at the door. Doors open at 6pm music starting at 7pm. We will have pizza and chips so feel free to bring a side and whatever else you want to eat and drink. Pool will be heated for those who wish to use it.
URL:https://sarasotaphc.com/event/house-concert-at-tiki-tonys-kitty-steadman/
LOCATION:Parrish\, FL.\, Parrish\, FL\, United States
END:VEVENT
BEGIN:VEVENT
DTSTART;TZID=America/New_York:20241105T180000
DTEND;TZID=America/New_York:20241105T210000
DTSTAMP:20260421T123718
CREATED:20241018T144527Z
LAST-MODIFIED:20241018T144527Z
UID:470-1730829600-1730840400@sarasotaphc.com
SUMMARY:Club Bidness Meeting with Live Music!
DESCRIPTION:It’s time to get together and put the hurricanes and elections behind us! What better way with a new location with some food and drinks specials and steel drum music by John Patti and an official club bidness meeting! \nLive music will start at 6:00 and then after the meeting where we will be filling you in on all the great things coming up for your club! If you arrive early….stop at the main bar or eat early to avoid the rush. \nWe are excited to work with a new location in the back private room at Fin & Tonic on Tamiami\, just south of Stickney Point Road and Siesta Key.\n6747 S Tamiami Trl\, Sarasota\, FL 34231 \nPlease RSVP so we can give them a head count and see if we need more servers. We hope to see all of your smiling faces with FINS UP!
URL:https://sarasotaphc.com/event/club-bidness-meeting-with-live-music/
LOCATION:Fin & Tonic\, 6747 S Tamiami Trl.\, Sarasota\, FL\, 34231\, United States
END:VEVENT
BEGIN:VEVENT
DTSTART;TZID=America/New_York:20241022T000000
DTEND;TZID=America/New_York:20241027T235959
DTSTAMP:20260421T123718
CREATED:20240918T180355Z
LAST-MODIFIED:20240918T180614Z
UID:464-1729555200-1730073599@sarasotaphc.com
SUMMARY:Meeting of the Minds 2024
DESCRIPTION:PHiP’s Annual Meeting of the Minds 2024\nTuesday\, October 22nd – Sunday\, October 27th\, 2024 \nI Have Found Me A Home\nMOTM is the annual PHiP convention held annually during the end of October and beginning of November. While previously hosted in New Orleans and Key West\, the new home of MOTM is Gulf Shores\, Alabama and is always subject to change. It is open to any member of a PHiP sanctioned Parrot Head Club covering several days and nights of friendship\, fun\, food and great music\, with a few optional meetings and seminars thrown in the mix. \nwww.MOTM.rocks
URL:https://sarasotaphc.com/event/meeting-of-the-minds-2024/
LOCATION:FL
END:VEVENT
BEGIN:VEVENT
DTSTART;TZID=UTC:20241015T183000
DTEND;TZID=UTC:20241015T200000
DTSTAMP:20260421T123718
CREATED:20240626T202120Z
LAST-MODIFIED:20240626T203418Z
UID:159-1729017000-1729022400@sarasotaphc.com
SUMMARY:Tuesday on the Island
DESCRIPTION:Last of the Season! \nJoin us at Walt’s Tree at the Siesta Key Public Beach (just outside the main walkway to the beach) for a celebration of the famous Siesta Key sunset! BYO drinks\, chair\, blanket\, bare feet
URL:https://sarasotaphc.com/event/tuesday-on-the-island-4/
LOCATION:Siesta Key / Walt’s Tree
END:VEVENT
BEGIN:VEVENT
DTSTART;TZID=America/New_York:20241004T173000
DTEND;TZID=America/New_York:20241004T210000
DTSTAMP:20260421T123718
CREATED:20240814T133425Z
LAST-MODIFIED:20240814T133425Z
UID:325-1728063000-1728075600@sarasotaphc.com
SUMMARY:Habitat House Concert - Peter Mayer
DESCRIPTION:Peter Mayer at The Habitat 2024\nNote – RSVPs are active\, I will update this page soon with info about the artists\, but if you know you want to attend this show you can RSVP now! \n\n\nRSVP to This Concert at The Habitat\nRemember that all our shows are considered private events and are suggested donation only – 100% of any donation goes to the musician(s). Our typical suggested donation is $20 per person\, and there are times that we get VIP requests\, we suggest a $35 donation per person for people that request VIP seating. You will also see an RSVP only option of course\, and you are welcome to donate at the door upon your arrival to the concert. (also\, the ‘recaptcha’ is CaSe SeNsiTivE!)
URL:https://sarasotaphc.com/event/habitat-house-concert-peter-mayer/
LOCATION:Habitat House Concerts\, 609 49th St W\, Bradenton\, FL\, 34209\, United States
END:VEVENT
BEGIN:VEVENT
DTSTART;TZID=America/New_York:20240927T190000
DTEND;TZID=America/New_York:20240927T220000
DTSTAMP:20260421T123718
CREATED:20240814T142215Z
LAST-MODIFIED:20240814T142702Z
UID:335-1727463600-1727474400@sarasotaphc.com
SUMMARY:Monallo at 3 Keys Brewery and Gastropub
DESCRIPTION:Songwriter\, former environmental scientist\, amateur beach bum\, and aspiring boat captain\, Monallo will be performing from 7 PM until 10 pm at the 3 Keys Brewing & Gastrobrew! \n2505 Manatee Ave E\, Bradenton\, FL 34208
URL:https://sarasotaphc.com/event/monallo-at-3-keys-brewery-and-gastropub/
LOCATION:2505 Manatee Ave E\, Bradenton\, FL 34208\, 2505 Manatee Ave E\, Bradenton\, FL\, 34208\, United States
END:VEVENT
BEGIN:VEVENT
DTSTART;TZID=America/New_York:20240921T080000
DTEND;TZID=America/New_York:20240921T100000
DTSTAMP:20260421T123718
CREATED:20240903T143016Z
LAST-MODIFIED:20240903T143016Z
UID:370-1726905600-1726912800@sarasotaphc.com
SUMMARY:Coastal Clean Up Day 2024
DESCRIPTION:The International Coastal Cleanup \nFUN Facts \n\nOcean Conservancy initiative.\nBegan in 1986.\n\nGetting Involved \n\nSaturday\, Sept. 21\, 2024 from 8-10 a.m.\nNokomis Beach!\nOpportunity for students to earn volunteer service hours for school related requirements.\nRegister online to participate in this year’s event!\n\nWe will be at the Nokomis Beach since it still has 25 available spots to join and easier parking!  Social time to follow!
URL:https://sarasotaphc.com/event/coastal-clean-up-day-2024/
LOCATION:nokomis beach\, 100 Casey Key Rd.\, Nokomis\, FL\, 34275\, United States
END:VEVENT
BEGIN:VEVENT
DTSTART;TZID=America/New_York:20240921T080000
DTEND;TZID=America/New_York:20240921T100000
DTSTAMP:20260421T123718
CREATED:20240814T140334Z
LAST-MODIFIED:20240814T140334Z
UID:333-1726905600-1726912800@sarasotaphc.com
SUMMARY:Coastal Clean Up Day!
DESCRIPTION:The September 21\, 2024: Help Keep Sarasota County Beautiful on the Annual International Coastal Clean Up Day. Various locations including Sarasota\, Venice\, North Port\, Osprey\, Oscar Scherer State Park\, Nokomis and Englewood. More than 18 million pounds of trash was collected by nearly 500\,000 volunteers during recent Coastal Cleanups. Registration opens in August 2024. Be sure to register early and reserve your volunteer spot by clicking on the above link..8 a.m. – 10 a.m. (941) 861-5000. \nThe Sarasota Bay Parrot head Club will organize our salty piece of land to help out!  Stay tuned for more details!
URL:https://sarasotaphc.com/event/coastal-clean-up-day/
LOCATION:FL
END:VEVENT
BEGIN:VEVENT
DTSTART;TZID=America/New_York:20240918T190000
DTEND;TZID=America/New_York:20240918T210000
DTSTAMP:20260421T123718
CREATED:20240911T132323Z
LAST-MODIFIED:20240911T132323Z
UID:405-1726686000-1726693200@sarasotaphc.com
SUMMARY:Krystal King at Harry's AMI (Anna Maria Island)
DESCRIPTION:Join us to welcome up and coming trop rocker and Radio Margaritaville DJ Krystal King to our beachy area! \nKrystal King is your “next door redneck” bringing you relatable songwriting with vivid\, relatable\, and humorous imagery. She has a blended sound consisting of classic/90’s country laced with blues\, rock\, and folk -“Her alter ego is Loretta Lynn.” Originally from Hickory\, NC\, King is now based out of Nashville and tours Nationally. \nHarry’s Grill:  9903 Gulf Drive on Anna Maria Island from 7:00 -9:00pm on September 18th!
URL:https://sarasotaphc.com/event/krystal-king-at-harrys-ami-anna-maria-island/
LOCATION:Harry’s\, 9903 Gulf Drive\, Anna Maria\, FL\, 34216\, United States
END:VEVENT
BEGIN:VEVENT
DTSTART;TZID=UTC:20240917T190000
DTEND;TZID=UTC:20240917T210000
DTSTAMP:20260421T123718
CREATED:20240626T202012Z
LAST-MODIFIED:20240626T203555Z
UID:157-1726599600-1726606800@sarasotaphc.com
SUMMARY:Tuesday on the Island
DESCRIPTION:Join us at Walt’s Tree at the Siesta Key Public Beach (just outside the main walkway to the beach) for a celebration of the famous Siesta Key sunset! BYO drinks\, chair\, blanket\, bare feet
URL:https://sarasotaphc.com/event/tuesday-on-the-island-3/
LOCATION:Siesta Key / Walt’s Tree
END:VEVENT
BEGIN:VEVENT
DTSTART;TZID=America/New_York:20240915T180000
DTEND;TZID=America/New_York:20240915T210000
DTSTAMP:20260421T123718
CREATED:20240814T145846Z
LAST-MODIFIED:20240814T145846Z
UID:346-1726423200-1726434000@sarasotaphc.com
SUMMARY:Happy Hour with Charlie Imes at Wicked Cantina!
DESCRIPTION:Nothing planned? Why not a happy hour with our own local musicians! \nCharlie Imes will be playing at The Wicked Cantina from 6 pm until 9 pm. \nThe Wicked Cantina \n1603 North Tamiami trail Sarasota\, FL 34236
URL:https://sarasotaphc.com/event/happy-hour-with-charlie-imes-at-wicked-cantina/
LOCATION:Wicked Cantina\, 1603 North Tamiami trail Sarasota\, FL 34236\, Sarasota\, FL\, 34236\, United States
END:VEVENT
BEGIN:VEVENT
DTSTART;TZID=America/New_York:20240908T120000
DTEND;TZID=America/New_York:20240908T160000
DTSTAMP:20260421T123718
CREATED:20240814T144935Z
LAST-MODIFIED:20240814T144935Z
UID:344-1725796800-1725811200@sarasotaphc.com
SUMMARY:Happy Hour with Dave Burks at O'Leary's!
DESCRIPTION:Nothing planned? Why not a happy hour with our own local musicians!\n\nDave Burks will be playing at O’Leary’s Tiki Bar and Grill from 12 pm until 4 pm.\n5 Bayfront Dr\,\nSarasota\, FL 34236
URL:https://sarasotaphc.com/event/happy-hour-with-dave-burks-at-olearys/
LOCATION:5 Bayfront Dr\, Sarasota\, FL 34236\, 5 Bayfront Dr.\, Sarasota\, FL\, 34236\, United States
END:VEVENT
BEGIN:VEVENT
DTSTART;TZID=America/New_York:20240905T170000
DTEND;TZID=America/New_York:20240905T210000
DTSTAMP:20260421T123718
CREATED:20240814T144309Z
LAST-MODIFIED:20240814T144309Z
UID:341-1725555600-1725570000@sarasotaphc.com
SUMMARY:Happy Hour with Flip Flop Dave at O'Leary's!
DESCRIPTION:Nothing planned?  Why not a happy hour with our own local musicians! \nFlip Flop Dave will be playing at O’Leary’s Tiki Bar and Grill from 5 pm until 9pm. \n5 Bayfront Dr\,Sarasota\, FL 34236
URL:https://sarasotaphc.com/event/happy-hour-with-flip-flop-dave-at-olearys/
LOCATION:5 Bayfront Dr\, Sarasota\, FL 34236\, 5 Bayfront Dr.\, Sarasota\, FL\, 34236\, United States
END:VEVENT
BEGIN:VEVENT
DTSTART;TZID=America/New_York:20240831T190000
DTEND;TZID=America/New_York:20240831T210000
DTSTAMP:20260421T123718
CREATED:20240814T131248Z
LAST-MODIFIED:20240814T131322Z
UID:320-1725130800-1725138000@sarasotaphc.com
SUMMARY:Fins Up Forever
DESCRIPTION:Let’s keep the party going\, and celebrate the musical legacy of Jimmy Buffett! Join us on Labor Day Weekend for the music event of the summer! Featuring Lucy and Nick from Lefty Lucy and Sunny Jim\, along with musicians\, Jax Bowers\, Klee Liles\, and Aloha Steve\, in a band iteration named “Gypsies in Paradise”! \nhttps://finsupforever.org/
URL:https://sarasotaphc.com/event/fins-up-forever/
LOCATION:FL
END:VEVENT
BEGIN:VEVENT
DTSTART;TZID=UTC:20240831T110000
DTEND;TZID=UTC:20240831T180000
DTSTAMP:20260421T123718
CREATED:20240626T201759Z
LAST-MODIFIED:20240626T203738Z
UID:153-1725102000-1725127200@sarasotaphc.com
SUMMARY:Jimmy Buffett Day Celebration
DESCRIPTION:Jimmy Buffett Tribute \nFins up! We are celebrating Jimmy Buffett with live music all day\, Cheeseburgers in Paradise\, Lost Shaker of Salt Scavenger Hunt\, and other fun activities.\nSave The Manatee will be joining us so you can learn more about one of Jimmy’s favorite organizations.\nHamlet’s Eatery\, 2259 8th St\,Sarasota\, FL 34237\, United States\,Sarasota\, Florida
URL:https://sarasotaphc.com/event/jimmy-buffett-day-celebration/
LOCATION:Hamlet’s Eatery\, 2259 8th st.\, Sarasota\, FL\, 34237\, United States
END:VEVENT
BEGIN:VEVENT
DTSTART;TZID=America/New_York:20240822T183000
DTEND;TZID=America/New_York:20240822T203000
DTSTAMP:20260421T123718
CREATED:20240817T225334Z
LAST-MODIFIED:20240817T225417Z
UID:364-1724351400-1724358600@sarasotaphc.com
SUMMARY:SBPHC Bidness Meeting
DESCRIPTION:What is this thing? A Bidness Meeting? YES!\nCome out Thursday\, August 22nd at 6:30 pm to the Linger Lodge side room and we will have a club meeting to discuss several topics!\nWhat might those be?\n-What has the new Board been Up to?-Who is the new Board?-What is our direction and future?-What do we have planned?-What are our needs going forward?-Can we answer any questions?\nAlso…..for those out of towners\, we will be going Facebook Live\, so tune in and watch us LIVE!\nAt the end we will do a modified 50/50 (what is that? Be there to find out!)\nAND….we get to socialize with our phriends!\nSee you Thursday with Fins Up!
URL:https://sarasotaphc.com/event/sbphc-bidness-meeting/
LOCATION:Linger Lodge\, 7205 85th St Ct East\, Bradenton\, FL\, 34202\, United States
END:VEVENT
BEGIN:VEVENT
DTSTART;TZID=UTC:20240820T193000
DTEND;TZID=UTC:20240820T210000
DTSTAMP:20260421T123718
CREATED:20240626T200350Z
LAST-MODIFIED:20240626T203913Z
UID:150-1724182200-1724187600@sarasotaphc.com
SUMMARY:Tuesday on the Island
DESCRIPTION:Join us at Walt’s Tree at the Siesta Key Public Beach (just outside the main walkway to the beach) for a celebration of the famous Siesta Key sunset! BYO drinks\, chair\, blanket\, bare feet \n 
URL:https://sarasotaphc.com/event/tuesday-on-the-island-2/
LOCATION:Siesta Key / Walt’s Tree
END:VEVENT
BEGIN:VEVENT
DTSTART;TZID=America/New_York:20240817T140000
DTEND;TZID=America/New_York:20240817T170000
DTSTAMP:20260421T123718
CREATED:20240814T132511Z
LAST-MODIFIED:20240814T132511Z
UID:322-1723903200-1723914000@sarasotaphc.com
SUMMARY:Habitat House Concert - Dave Freeman
DESCRIPTION:Dave Freeman LIVE and ORIGINAL\n\nRSVP here: Dave Freeman\, Aug 17th 2PM\, 2024 \n\n________________________\n\nAbout Dave…\nYou know Dave for a lot of things – Keys with the Trop Rock Junkies\, Keys with a wide range of your favorite musicians as an expansion of their bands at all your favorite Trop Rock Events …and he delivers an entertaining live music experience! He was also nominated in 2023 for TRMA Musician of the Year for his excellent work with all the trop rock bands he has appeared with. And he is a staple at 88-Live Piano Bar right here in Bradenton for his Dueling Pianos shows!\nBut did you know he has his own original music? The album is in the process of being produced\, and he is slowly releasing the songs a single at a time. Here are a few places you can listen to the releases:\n\nListen on:      Amazon     Apple     iHeart    Spotify\n\nA bit from Dave’s Website (but we know this doesnt tell the whole story – you have to come to The Habitat for the deep dive into his original music for this rare opportunity!\ndave-LIVE – Beach Bar Piano Music is a combination of\nTrop Rock\, Yacht Rock\, and classic rock and country favorites.\nA refreshing alternative to solo acts that seem to play the\nsame songs\, dave-LIVE plays ALL those songs\, your\nfavorite keyboard-oriented tunes from the 50s through\ntoday. Whether the crowd is dancing\, listening\, or\nsinging along: everyone is involved in the show….\n________________________\n\nCheck out his WebPage…\nDave-Live – Dave Freeman!\n\n________________________\n\n\nWe are a Listening Venue.\nRSVPs are required for these shows.\nWe expect a strong turnout for this show\, RSVPs will insure you have seating.\nYour donations are all collected at the door when you arrive.\nSuggested Donations for this show are $20 per person\, and $35 VIP.\n100% of all donations go directly to the musicians.\n\n\n\nPlease BYOB and if you have a mind to\, a dish to share (not required\, of course)\nWe are rain or shine\, watch this space and join our email list for updates as needed (link above\, ‘Subscribe!’)\n\n\n\nWe are a listening venue and request that guests take their conversations into the chat zones (inside the house\, or back past the pool with lowered voices…) where you can continue to listen away from those who wish to concentrate on the music. You are welcome to socialize with your friends! We set up chat areas so that everyone will have the experience they want to have while listening to music!
URL:https://sarasotaphc.com/event/habitat-house-concert-dave-freeman/
LOCATION:Habitat House Concerts\, 609 49th St W\, Bradenton\, FL\, 34209\, United States
END:VEVENT
BEGIN:VEVENT
DTSTART;TZID=America/New_York:20240723T170000
DTEND;TZID=America/New_York:20240723T210000
DTSTAMP:20260421T123718
CREATED:20240626T195515Z
LAST-MODIFIED:20240626T204239Z
UID:140-1721754000-1721768400@sarasotaphc.com
SUMMARY:July Social with Lei'd Back Dave Burks
DESCRIPTION:Follow your PHlock and support local independent music! \nJuly Social with Lei’d Back Dave Burks \nJoin us at O’Leary’s on Tuesday\, July 23rd. \n! \nCollection – School Supplies – please gear your donations toward high school kids! \n 
URL:https://sarasotaphc.com/event/july-social-with-leid-back-dave-burks/
LOCATION:O’Learys Tiki Bar and Grill\, 5 Bayfront Drive\, Sarasota\, FL\, United States
END:VEVENT
BEGIN:VEVENT
DTSTART;TZID=UTC:20240716T193000
DTEND;TZID=UTC:20240716T210000
DTSTAMP:20260421T123718
CREATED:20240626T200110Z
LAST-MODIFIED:20240626T204454Z
UID:146-1721158200-1721163600@sarasotaphc.com
SUMMARY:Tuesday on the Island
DESCRIPTION:Join us at Walt’s Tree at the Siesta Key Public Beach (just outside the main walkway to the beach) for a celebration of the famous Siesta Key sunset! BYO drinks\, chair\, blanket\, bare feet!\n\n\n 
URL:https://sarasotaphc.com/event/tuesday-on-the-island/
LOCATION:Siesta Key / Walt’s Tree
END:VEVENT
BEGIN:VEVENT
DTSTART;TZID=UTC:20240712T183000
DTEND;TZID=UTC:20240712T213000
DTSTAMP:20260421T123718
CREATED:20240626T202454Z
LAST-MODIFIED:20240626T202454Z
UID:161-1720809000-1720819800@sarasotaphc.com
SUMMARY:Monallo album release show featuring special guest Aubrey Wollett!
DESCRIPTION:Join monallo in North Port Florida for an intimate concert experience celebrating the release of the THIRD monallo EP\, ‘Songs From the Sand”. Aubrey Wollett will also be performing so you don’t want to miss this show!\nDoors 630\, Music starts at 7. $20/person. There is a limited number of seats\, so buying tickets in advance is highly recommended! Come on out and make this a night to remember!\nwww.monallomusic.com/tickets\nBYOB venue
URL:https://sarasotaphc.com/event/monallo-album-release-show-featuring-special-guest-aubrey-wollett/
LOCATION:Common Grounds Meeting Hall\, 12735 S Tamiami Trail\,\, North Port\, FL\, United States
END:VEVENT
BEGIN:VEVENT
DTSTART;TZID=America/New_York:20240627T170000
DTEND;TZID=America/New_York:20240627T210000
DTSTAMP:20260421T123718
CREATED:20240626T195719Z
LAST-MODIFIED:20240626T204600Z
UID:144-1719507600-1719522000@sarasotaphc.com
SUMMARY:JUNE Social with Flip Flop Dave
DESCRIPTION:Hey Parrot Heads! We’re taking it easy this summer with a few casual socials instead of PHlockings. Please join us on Thursday\, June 27th at O’Leary’s\, 5 Bayfront Drive\, Sarasota. \nCollection for Food Bank. We’ll do a 50/50 if it’s allowed and doesn’t interfere with another group. \n(New member initiations will not take place\, but if you have joined online we’ll have your credentials) \nMusic by Flip Flop Dave Fogler! \nPlease come out and support your club\, support local independent music\, and have PHun with your PHlock! \nGet there early or carpool\, parking is limited! \n 
URL:https://sarasotaphc.com/event/june-social-with-flip-flop-dave/
LOCATION:O’Learys Tiki Bar and Grill\, 5 Bayfront Drive\, Sarasota\, FL\, United States
END:VEVENT
END:VCALENDAR