BEGIN:VCALENDAR
VERSION:2.0
PRODID:-//Sarasota Bay Parrothead Club - ECPv6.15.20//NONSGML v1.0//EN
CALSCALE:GREGORIAN
METHOD:PUBLISH
X-WR-CALNAME:Sarasota Bay Parrothead Club
X-ORIGINAL-URL:https://sarasotaphc.com
X-WR-CALDESC:Events for Sarasota Bay Parrothead Club
REFRESH-INTERVAL;VALUE=DURATION:PT1H
X-Robots-Tag:noindex
X-PUBLISHED-TTL:PT1H
BEGIN:VTIMEZONE
TZID:America/New_York
BEGIN:DAYLIGHT
TZOFFSETFROM:-0500
TZOFFSETTO:-0400
TZNAME:EDT
DTSTART:20240310T070000
END:DAYLIGHT
BEGIN:STANDARD
TZOFFSETFROM:-0400
TZOFFSETTO:-0500
TZNAME:EST
DTSTART:20241103T060000
END:STANDARD
BEGIN:DAYLIGHT
TZOFFSETFROM:-0500
TZOFFSETTO:-0400
TZNAME:EDT
DTSTART:20250309T070000
END:DAYLIGHT
BEGIN:STANDARD
TZOFFSETFROM:-0400
TZOFFSETTO:-0500
TZNAME:EST
DTSTART:20251102T060000
END:STANDARD
BEGIN:DAYLIGHT
TZOFFSETFROM:-0500
TZOFFSETTO:-0400
TZNAME:EDT
DTSTART:20260308T070000
END:DAYLIGHT
BEGIN:STANDARD
TZOFFSETFROM:-0400
TZOFFSETTO:-0500
TZNAME:EST
DTSTART:20261101T060000
END:STANDARD
END:VTIMEZONE
BEGIN:VEVENT
DTSTART;TZID=America/New_York:20250906T160000
DTEND;TZID=America/New_York:20250906T190000
DTSTAMP:20260420T190054
CREATED:20250604T194627Z
LAST-MODIFIED:20250604T194627Z
UID:1388-1757174400-1757185200@sarasotaphc.com
SUMMARY:Tiki Tony's House Concert: Monallo w/ Jax
DESCRIPTION: Inspired by real-life experiences and the world that surrounds us all\, monallo’s warm sound\, vivid imagery and organic style produces songs that are both true to the heart and easy to listen to. Some are lighthearted\, some are heartfelt\, but they each set a relaxing\, down-to-earth tone that we can all enjoy.
URL:https://sarasotaphc.com/event/tiki-tonys-house-concert-monallo-w-jax/
LOCATION:Tiki Tony’s\, 9506 32nd Ct E.\, Parrish\, FL\, 34219\, United States
CATEGORIES:House Concert
END:VEVENT
BEGIN:VEVENT
DTSTART;TZID=America/New_York:20250904T180000
DTEND;TZID=America/New_York:20250904T230000
DTSTAMP:20260420T190054
CREATED:20250814T182212Z
LAST-MODIFIED:20250814T182212Z
UID:1532-1757008800-1757026800@sarasotaphc.com
SUMMARY:Reggae Nights with Brothers Within\, Brinson Swann\, and Trevor Bystrom
DESCRIPTION:Hey Sarasota Parrotheads!  Who wants a little reggae in their life to start the weekend on Sept. 4? \nReggae Nights with Brothers Within\, Brinson Swann\, and Trevor Bystrom \nPart of the Almost the Weekend Series collection: Reggae Nights in Venice! \nBrothers Within\, Brinson Swann\, and Trevor Bystrom will be lighting up the stage on September 4\, 2025! \nDate and time\nThursday\, September 4 · 6 – 10pm EDT\nLocation\nRamada by Wyndham Venice Hotel Venezia \n425 U.S. 41 Bypass North Venice\, FL 34285 \nTickets are just $20.52 \n\nAgenda\n6:00 PM \nDoors Open \n6:45 PM – 7:30 PM \nTrevor Bystrom \n7:45 PM – 9:00 PM \nBrinson Swann \n9:15 PM – 10:30 PM \nBrothers Within \n10:30 PM – 11:00 PM \nBand Meet & Greet
URL:https://sarasotaphc.com/event/reggae-nights-with-brothers-within-brinson-swann-and-trevor-bystrom/
LOCATION:Venezia\, 425 US 41 Bypass N\, Venice\, FL\, 34285\, United States
CATEGORIES:Upcoming Events
END:VEVENT
BEGIN:VEVENT
DTSTART;TZID=America/New_York:20250903T150000
DTEND;TZID=America/New_York:20250903T180000
DTSTAMP:20260420T190054
CREATED:20250627T173628Z
LAST-MODIFIED:20250627T173628Z
UID:1483-1756911600-1756922400@sarasotaphc.com
SUMMARY:Lefty Lucy - Local
DESCRIPTION:3- Spanish Point Tiki\, Osprey 3-6pm
URL:https://sarasotaphc.com/event/lefty-lucy-local-20/
LOCATION:Spanish Point\, 135 Bayview Drive\, Osprey\, FL\, 34229\, United States
CATEGORIES:Local Music
END:VEVENT
BEGIN:VEVENT
DTSTART;TZID=America/New_York:20250902T130000
DTEND;TZID=America/New_York:20250902T170000
DTSTAMP:20260420T190054
CREATED:20250512T223732Z
LAST-MODIFIED:20250512T223732Z
UID:1008-1756818000-1756832400@sarasotaphc.com
SUMMARY:Sunny Jim - Local
DESCRIPTION:Captain Curts\n\n1 Pm to 5 Pm Come have lunch including their New England Chowder Clam Festival Grand Prize winning chow-dah!
URL:https://sarasotaphc.com/event/sunny-jim-local-25/
LOCATION:Captain Curts\, 1204 Old Stickney Point Road\, Sarasota\, FL\, 34242\, United States
CATEGORIES:Local Music,Upcoming Events
END:VEVENT
BEGIN:VEVENT
DTSTART;TZID=America/New_York:20250901T180000
DTEND;TZID=America/New_York:20250901T210000
DTSTAMP:20260420T190054
CREATED:20250604T190854Z
LAST-MODIFIED:20250604T190854Z
UID:1349-1756749600-1756760400@sarasotaphc.com
SUMMARY:Charlie Imes at Bradenton Beach Wicked Cantina
DESCRIPTION:Check out Charlie Imes for local music!
URL:https://sarasotaphc.com/event/charlie-imes-at-bradenton-beach-wicked-cantina/
LOCATION:Bradenton Beach\, 101 7th Street North\, Bradenton Beach\, FL\, 34217\, United States
CATEGORIES:Local Music
END:VEVENT
BEGIN:VEVENT
DTSTART;TZID=America/New_York:20250831T150000
DTEND;TZID=America/New_York:20250831T180000
DTSTAMP:20260420T190054
CREATED:20250627T173525Z
LAST-MODIFIED:20250627T173525Z
UID:1481-1756652400-1756663200@sarasotaphc.com
SUMMARY:Lefty Lucy - Local
DESCRIPTION:31- Spanish Point Tiki\, Osprey 3-6pm
URL:https://sarasotaphc.com/event/lefty-lucy-local-19/
LOCATION:Spanish Point\, 135 Bayview Drive\, Osprey\, FL\, 34229\, United States
CATEGORIES:Local Music
END:VEVENT
BEGIN:VEVENT
DTSTART;TZID=America/New_York:20250829T170000
DTEND;TZID=America/New_York:20250830T220000
DTSTAMP:20260420T190054
CREATED:20250326T160527Z
LAST-MODIFIED:20250326T161220Z
UID:728-1756486800-1756591200@sarasotaphc.com
SUMMARY:Jimmy Buffett Tribute Concert - Fins Up Forever!
DESCRIPTION:Join us for the 2nd Annual Buffett Bash\, a Labor Day Weekend tradition honoring Jimmy’s music and concert legacy! This fun-filled night brings together incredible live music\, tailgating vibes\, and the camaraderie that made his concerts legendary. August 29-30\, 2025! \ntickets are currently for sale. They are at a discounted early bird rate through 4/30! \nTickets and information here: finsupforever.org \n✨ Featuring an All-Star Lineup:\n🎤 Lucy & Nick from Lefty Lucy\n🎸 Sunny Jim\, John Patti\, Jax Bowers\, Klee Liles & Aloha Steve\n🌊 Performing as Gypsies in Paradise\n📅 Saturday\, August 30\, 2025\n📍 Hotel Venezia – Venice\, FL\n🎟 General Admission Seating\n🎶 Concert: 7:00 – 9:00 PM\nGrab your tickets now and be part of this unforgettable night! Click the link for full event details and tickets.\n👉 Let’s celebrate\, sing along\, and keep the party going! 🍹🎶🏝 \nLook up the event at:\ntickets here: https://l.facebook.com/l.php?u=https%3A%2F%2Ftickets.evvnt.com%2Fevents%2Ffins-up-forever-concert-jimmy-buffett-tribute-194673%3Ffbclid%3DIwZXh0bgNhZW0CMTAAAR2oqrLeMqxlvMsNgZyRyjIU4uheco04Yof2xgL9ov3XjAEVscigt7ImBTY_aem_0BUoOrcV91XN67Jh0ulXiw&h=AT1aJFv1bQ6sRNwcc4T8MWkaD84dFu9_0oSdATwhiCZwDx9asTQuRLTWPug5bcnPSCwsLTSOreFN7EBjPIsfgqbwr9hBDyL-Jcv_S8nqaETO6qT8biEronzss_bhwWR2 \nGypsies in Paradise
URL:https://sarasotaphc.com/event/jimmy-buffett-tribute-concert-fins-up-forever/
LOCATION:Hotel Venezia\, 425 US 41 Bypass N\, Venice\, FL\, 34285\, United States
END:VEVENT
BEGIN:VEVENT
DTSTART;TZID=America/New_York:20250829T170000
DTEND;TZID=America/New_York:20250829T200000
DTSTAMP:20260420T190054
CREATED:20250604T184012Z
LAST-MODIFIED:20250604T184012Z
UID:1324-1756486800-1756497600@sarasotaphc.com
SUMMARY:Flip Flop Dave at Loaded Cannon Distillery
DESCRIPTION:Check out Flip Flop Dave for local live music!
URL:https://sarasotaphc.com/event/flip-flop-dave-at-loaded-cannon-distillery-3/
LOCATION:Loaded Cannon Distillery\, 3115 Lakewood Ranch Blvd. Suite 110\, Bradenton\, FL\, 34211\, United States
CATEGORIES:Local Music
END:VEVENT
BEGIN:VEVENT
DTSTART;TZID=America/New_York:20250829T000000
DTEND;TZID=America/New_York:20250830T235959
DTSTAMP:20260420T190054
CREATED:20250627T173419Z
LAST-MODIFIED:20250627T173419Z
UID:1478-1756425600-1756598399@sarasotaphc.com
SUMMARY:Lefty Lucy - Local
DESCRIPTION:29 & 30- FINS UP FOREVER Jimmy Buffett Tribute\, Venice\, FL 7pm
URL:https://sarasotaphc.com/event/lefty-lucy-local-18/
LOCATION:Venezia\, 425 US 41 Bypass N\, Venice\, FL\, 34285\, United States
CATEGORIES:Local Music
END:VEVENT
BEGIN:VEVENT
DTSTART;TZID=America/New_York:20250828T180000
DTEND;TZID=America/New_York:20250828T220000
DTSTAMP:20260420T190054
CREATED:20250627T173159Z
LAST-MODIFIED:20250627T173159Z
UID:1476-1756404000-1756418400@sarasotaphc.com
SUMMARY:Lefty Lucy - Local
DESCRIPTION:28- Parrot Patio\, Sarasota 6-10pm
URL:https://sarasotaphc.com/event/lefty-lucy-local-17/
LOCATION:Parrot Patio\, 3602 Webber St.\, Sarasota\, FL\, 34232\, United States
CATEGORIES:Local Music
END:VEVENT
BEGIN:VEVENT
DTSTART;TZID=America/New_York:20250828T083000
DTEND;TZID=America/New_York:20250828T180000
DTSTAMP:20260420T190054
CREATED:20250617T221950Z
LAST-MODIFIED:20250617T222201Z
UID:1419-1756369800-1756404000@sarasotaphc.com
SUMMARY:Margaritaville Thrifting Bus Tour Boarding in Sarasota and Venice
DESCRIPTION:Margaritaville Thrifting Bus Tour Boarding in Sarasota and Venice\n\n\n\nEach August Florida celebrates the legendary Jimmy Buffett. To honor Jimmy’s giving heart – we’re taking that celebration on the road!\n\n\n\n\n\n\n\nLocation\n\n\n  \n\n2 BOARDING LOCATIONS: #1 8:00am Burlington Coat Factory parking lot 3943 Cattlemen Rd\, Sarasota\, FL 34233 #2 8:30am Publix 345 Jacaranda Blvd.\, Venice\, FL 34292 \n3942 Cattlemen Road Board in Sarasota & Venice Sarasota\, FL 34233 \n\n\n\n\n\n\n\n\n\n\n\nRefund Policy\n\nNo Refunds\n\n\n\n\n \nAbout this event\n\n\n\n\n\n\n\n\nJoin us for a one-of-a-kind Thrifting Bus Tour celebrating the music\, spirit\, and generosity of the legendary Jimmy Buffett! Each year\, Florida takes a moment to honor Jimmy’s laid-back lifestyle and giving heart — and this year\, we’re taking that celebration on the road. \nAbout our Shopping Stops: \nMEN ARE WELCOME TO JOIN THE FUN! Please note that one of the stops features exclusively women’s clothing and accessories. \nThis trip combines some of our favorite Thrift & Resale stores that carry a wide variety of items to please everyone! \nAnother UNIQUE stop includes the best collection of Antique and Vintage Nautical items\, American Art Pottery\, fun 50s 60s and 70s Decor\, Mid Century items\, and a variety Tiki Totem Poles\, Mexican Talavera pottery\, Hatian metal art and more. \nMargaritaville Lunch Stop: \nWe’ll be taking a relaxing break from our thrifting adventure to enjoy lunch (and maybe a frozen concoction) at the Margaritaville Resort on Fort Myers Beach —Lunch on your own\, the ultimate way\, raise a cheeseburger toast to Jimmy! Other lunch choices are available see link below for menu review. Outside food can not be brought on to the property. \n🎶 In Honor of Jimmy Buffett’s Giving Heart 🕶️🌴\nJoin us on our special Thrifting Bus Tour Tribute as we celebrate the laid-back spirit and generosity of Jimmy Buffett by giving back—just like Jimmy would. Bring along a thrift store donation OF ANY KIND (or a few!) to contribute in his memory. For every donation item you bring\, you’ll receive a raffle ticket! The more you give\, the more chances you have to win fun prizes during the tour! \nLet’s thrift\, give\, and live the good life—Buffett style.  \n🥂 Sip While You Ride to Shop! \nOur party is B.Y.O.B.—yes\, bring your bubbly\, your Bloody Marys\, your favorite Jimmy Buffett inspired drink or brew! Just use a small cooler with freezer packs (no ice—slippery spills = no fun). Coffee lovers\, you’re welcome too! Just make sure ALL your drinks have a lid! \n🩴 Slip into your flip flops (or comfy shoes) and tropical atire for a fun-filled day of treasure hunting\, tropical tunes\, and coastal joy — with a special lunch stop at the Margaritaville Resort on Fort Myers Beach! \n🎟️ Thrifting Adventure Tickets: $75 plus sales tax & Eventbrite fees. \n🏝️ What’s Included: \n✅ Roundtrip Bus Transportation\n✅ Morning snack\, afternoon refreshments\, & plenty of cold water.\n✅ Games\, Raffles & Prizes\n✅ Lunch Stop at Margaritaville Resort (meal not included in ticket price)\n✅ Onboard Entertainment + Tropical Playlist\n✅ Themed Photo Ops & Surprises All Day\n✅ Thrift store Donation Drive or Giveback Initiative in Jimmy’s Honor\nIncludes transportation\, morning snack\, afternoon refreshments\, games\, giveaways & good vibes. Lunch and personal purchases not included. \n🎶 “If there’s a heaven for me\, I’m sure it has a beach attached.” – Jimmy Buffett \nLet’s thrift\, laugh\, and live the Buffett way for a day.\nReserve your seat today!  \nSpots are limited and always sell out — grab yours now and let’s make memories the Margaritaville way! \nMargaritaville Resort Restaurants available for us to dine at: \nLicense to Chill Bar & Grill\nLah De Dah Beach Bar & Grill\nGrab an iced coffee (spike it with some rum) at the \nCoconut Telegraph Coffee Shop\nSnag some Buffett swag at the \nMargaritaville Gift Shop\n\n\n\n\n\n\n\n\n\n\n\n\n\n\n\n\n\n\nTRIP BOARDING LOCATIONS: Please ARRIVE 15 MINUTES PRIOR so you are not late.\nThe BUS ARRIVES at the times below\, please wait if we have traffic instances. WE come RAIN or SHINE!\n8:00am SARASOTA Burlington Coat Factory parking lot 3943 Cattlemen Rd\, Sarasota\, FL 34233 (Facing Burlington-park to the left near McDonalds)\n8:30am VENICE Publix 345 Jacaranda Blvd\, Venice\, FL 34292 (Park straight out from Publix out by Jacaranda Blvd.)\nReturn Times 5:30-6pm*\n*Please do not have special plans the evening of our trip\, we can not predict traffic instances.\n 
URL:https://sarasotaphc.com/event/margaritaville-thrifting-bus-tour-boarding-in-sarasota-and-venice/
LOCATION:FL
END:VEVENT
BEGIN:VEVENT
DTSTART;TZID=America/New_York:20250826T130000
DTEND;TZID=America/New_York:20250826T170000
DTSTAMP:20260420T190054
CREATED:20250512T223650Z
LAST-MODIFIED:20250512T223650Z
UID:1006-1756213200-1756227600@sarasotaphc.com
SUMMARY:Sunny Jim - Local
DESCRIPTION:Captain Curts\n\n1 Pm to 5 Pm Come have lunch including their New England Chowder Clam Festival Grand Prize winning chow-dah!
URL:https://sarasotaphc.com/event/sunny-jim-local-24/
LOCATION:Captain Curts\, 1204 Old Stickney Point Road\, Sarasota\, FL\, 34242\, United States
CATEGORIES:Local Music,Upcoming Events
END:VEVENT
BEGIN:VEVENT
DTSTART;TZID=America/New_York:20250823T130000
DTEND;TZID=America/New_York:20250823T160000
DTSTAMP:20260420T190054
CREATED:20250731T165639Z
LAST-MODIFIED:20250731T165850Z
UID:1524-1755954000-1755964800@sarasotaphc.com
SUMMARY:Margaritaville Saturday at Pop's!
DESCRIPTION:It s Jimmy Buffett celebration month at Pop’s\, and what better way for the Sarasota Bay Parrothead Club to celebrate than with a little day drinking at Pop’s in the Tiki Bar!  \nWe have a reserved section and there will be live music\, food and drink specials\, and PHUN stuff happening as we celebrate all things Jimmy during Margaritaville Week.  We will make it an afternoon affair! \nLet us know if you plan to attend so we can add seating if need be!
URL:https://sarasotaphc.com/event/margaritaville-saturday-at-pops/
LOCATION:Pop’s Suset Grill\, 112 Circuit Road\, Nokomis\, FL\, 34275\, United States
CATEGORIES:Upcoming Events
END:VEVENT
BEGIN:VEVENT
DTSTART;TZID=America/New_York:20250823T000000
DTEND;TZID=America/New_York:20250823T235959
DTSTAMP:20260420T190054
CREATED:20250731T130755Z
LAST-MODIFIED:20250731T130755Z
UID:1518-1755907200-1755993599@sarasotaphc.com
SUMMARY:Margaritaville Week at Pop's
DESCRIPTION:Watch for Details!  The Sarasota Bay Parrothead Club will be going to Pop’s on the intercoastal  for their Margaritaville celebration of Jimmy Buffett with live music and fun!  Details will be coming!
URL:https://sarasotaphc.com/event/margaritaville-week-at-pops/
LOCATION:Pop’s Suset Grill\, 112 Circuit Road\, Nokomis\, FL\, 34275\, United States
CATEGORIES:Upcoming Events
END:VEVENT
BEGIN:VEVENT
DTSTART;TZID=America/New_York:20250822T180000
DTEND;TZID=America/New_York:20250822T210000
DTSTAMP:20260420T190054
CREATED:20250604T190715Z
LAST-MODIFIED:20250604T190715Z
UID:1347-1755885600-1755896400@sarasotaphc.com
SUMMARY:Charlie Imes at Wicked Cantina
DESCRIPTION:Check out Charlie Imes for local music!
URL:https://sarasotaphc.com/event/charlie-imes-at-wicked-cantina-5/
LOCATION:Wicked Cantina\, 1603 North Tamiami trail Sarasota\, FL 34236\, Sarasota\, FL\, 34236\, United States
CATEGORIES:Local Music
END:VEVENT
BEGIN:VEVENT
DTSTART;TZID=America/New_York:20250819T190000
DTEND;TZID=America/New_York:20250819T210000
DTSTAMP:20260420T190054
CREATED:20250131T175819Z
LAST-MODIFIED:20250402T175641Z
UID:647-1755630000-1755637200@sarasotaphc.com
SUMMARY:Tuesday on the Island
DESCRIPTION:The Sarasota Bay Parrothead Club welcomes you to join us the 3rd Tuesday of the month\, March through October! We meet up for a social on Siesta Key Beach to celebrate our beautiful sunset!  Bring a chair\, your drink(s) of choice\, and any snacks an hour before sunset.  This is a moving target as the year moves along\, but we will send out notices as we approach each date. \nThe club will meet at Siesta Key Beach at Walt’s Tree! When you pull in the parking lot you go to the far left side of the parking lot and follow the main side walk right out to it. It is in front of the concession stand so we have a bathroom\, is easy access for those with walking issues and is right at the end where the yellow life guard chair is with shade and grass too. Walt’s tree is actually considered a county owned park and can be reserved for events. It’s super easy to get parking on that end of the lot as well. \nEnjoy a great Tuesday evening on the Island beach with great phriends when the sun goes down!
URL:https://sarasotaphc.com/event/tuesday-on-the-island-10/
LOCATION:Siesta Key / Walt’s Tree
END:VEVENT
BEGIN:VEVENT
DTSTART;TZID=America/New_York:20250819T130000
DTEND;TZID=America/New_York:20250819T170000
DTSTAMP:20260420T190054
CREATED:20250512T223425Z
LAST-MODIFIED:20250512T223425Z
UID:1002-1755608400-1755622800@sarasotaphc.com
SUMMARY:Sunny Jim - Local
DESCRIPTION:Captain Curts\n\n1 Pm to 5 Pm Come have lunch including their New England Chowder Clam Festival Grand Prize winning chow-dah!
URL:https://sarasotaphc.com/event/sunny-jim-local-22/
LOCATION:Captain Curts\, 1204 Old Stickney Point Road\, Sarasota\, FL\, 34242\, United States
CATEGORIES:Local Music,Upcoming Events
END:VEVENT
BEGIN:VEVENT
DTSTART;TZID=America/New_York:20250815T140000
DTEND;TZID=America/New_York:20250815T170000
DTSTAMP:20260420T190054
CREATED:20250512T223512Z
LAST-MODIFIED:20250512T223512Z
UID:1004-1755266400-1755277200@sarasotaphc.com
SUMMARY:Sunny Jim - Local
DESCRIPTION:Riviera Bar and Grill\n\nSOLO \n\n\n\n\n\n14:00\n–\n17:00\n\n\nRiviera Bar & Grill 5500 Deltona Dr\, Punta Gorda\, FL 33950\, United States
URL:https://sarasotaphc.com/event/sunny-jim-local-23/
LOCATION:Riviera Bar and Grill\, 5500 Deltona Dr.\, Punta Gorda\, FL\, 33950\, United States
CATEGORIES:Local Music,Upcoming Events
END:VEVENT
BEGIN:VEVENT
DTSTART;TZID=America/New_York:20250814T180000
DTEND;TZID=America/New_York:20250814T210000
DTSTAMP:20260420T190054
CREATED:20250207T153545Z
LAST-MODIFIED:20250224T133349Z
UID:666-1755194400-1755205200@sarasotaphc.com
SUMMARY:Official Club Bidness Meeting
DESCRIPTION:What time is it? Time for a TEAM DRINK…..and a meeting! \nOur club will be meeting in the backroom of Fin & Tonic the 2nd Thursday of each month! We will discuss what is coming\, what is happening\, socialize with our phriends\, and there could be general shenanigans such as live music\, games\, charity collections\, 50/50\, raffles…..non-club members are welcome to come see what we are all about! \nArrive around 6:00 to chat\, get your food and drinks and be ready for a 6:30 start time! \nWelcome to the Phlock!
URL:https://sarasotaphc.com/event/official-club-bidness-meeting-6/
LOCATION:Fin & Tonic\, 6747 S Tamiami Trl.\, Sarasota\, FL\, 34231\, United States
END:VEVENT
BEGIN:VEVENT
DTSTART;TZID=America/New_York:20250812T130000
DTEND;TZID=America/New_York:20250812T170000
DTSTAMP:20260420T190054
CREATED:20250512T223340Z
LAST-MODIFIED:20250512T223340Z
UID:1000-1755003600-1755018000@sarasotaphc.com
SUMMARY:Sunny Jim - Local
DESCRIPTION:Captain Curts\n\n1 Pm to 5 Pm Come have lunch including their New England Chowder Clam Festival Grand Prize winning chow-dah!
URL:https://sarasotaphc.com/event/sunny-jim-local-21/
LOCATION:Captain Curts\, 1204 Old Stickney Point Road\, Sarasota\, FL\, 34242\, United States
CATEGORIES:Local Music,Upcoming Events
END:VEVENT
BEGIN:VEVENT
DTSTART;TZID=America/New_York:20250810T170000
DTEND;TZID=America/New_York:20250810T200000
DTSTAMP:20260420T190054
CREATED:20250604T183903Z
LAST-MODIFIED:20250604T183903Z
UID:1321-1754845200-1754856000@sarasotaphc.com
SUMMARY:Flip Flop Dave at Jiggs Landing
DESCRIPTION:Check out Flip Flop Dave for local live music!
URL:https://sarasotaphc.com/event/flip-flop-dave-at-jiggs-landing-3/
LOCATION:Jiggs Landing\, 6106 Braden River Rd\,\, Bradenton\, FL\, 34203\, United States
CATEGORIES:Local Music
END:VEVENT
BEGIN:VEVENT
DTSTART;TZID=America/New_York:20250809T110000
DTEND;TZID=America/New_York:20250809T150000
DTSTAMP:20260420T190054
CREATED:20250617T222743Z
LAST-MODIFIED:20250617T222743Z
UID:1423-1754737200-1754751600@sarasotaphc.com
SUMMARY:Puzzle Swap and Game Day at the Bazaar! FREE!
DESCRIPTION:Did you stock up on puzzles during COVID shut down? Ready for new ones? Bring em in to trade them out! \nRaid your closets and come out for some phun social time with our club while enjoying some live music! \nAugust 9th from 11-3! \nPlus\, meet award-winning game inventor and author of Timeless Toys Tim Walsh who will share all sorts of fun facts and engage you in his game of Tribond. \nLive music with Music Compound and You know there will be lots of other fun surprises in store too!
URL:https://sarasotaphc.com/event/puzzle-swap-and-game-day-at-the-bazaar-free/
LOCATION:Bazaar at Apricot and Lime\, 821 Apricot Ave.\, Sarasota\, FL\, 34237\, United States
CATEGORIES:Upcoming Events
END:VEVENT
BEGIN:VEVENT
DTSTART;TZID=America/New_York:20250808T180000
DTEND;TZID=America/New_York:20250808T210000
DTSTAMP:20260420T190054
CREATED:20250604T190552Z
LAST-MODIFIED:20250604T190552Z
UID:1344-1754676000-1754686800@sarasotaphc.com
SUMMARY:Charlie Imes at Wicked Cantina
DESCRIPTION:Check out Charlie Imes for local music!
URL:https://sarasotaphc.com/event/charlie-imes-at-wicked-cantina-4/
LOCATION:Wicked Cantina\, 1603 North Tamiami trail Sarasota\, FL 34236\, Sarasota\, FL\, 34236\, United States
CATEGORIES:Local Music
END:VEVENT
BEGIN:VEVENT
DTSTART;TZID=America/New_York:20250805T130000
DTEND;TZID=America/New_York:20250805T170000
DTSTAMP:20260420T190054
CREATED:20250512T223259Z
LAST-MODIFIED:20250512T223259Z
UID:998-1754398800-1754413200@sarasotaphc.com
SUMMARY:Sunny Jim - Local
DESCRIPTION:Captain Curts\n\n1 Pm to 5 Pm Come have lunch including their New England Chowder Clam Festival Grand Prize winning chow-dah!
URL:https://sarasotaphc.com/event/sunny-jim-local-20/
LOCATION:Captain Curts\, 1204 Old Stickney Point Road\, Sarasota\, FL\, 34242\, United States
CATEGORIES:Local Music,Upcoming Events
END:VEVENT
BEGIN:VEVENT
DTSTART;TZID=America/New_York:20250804T180000
DTEND;TZID=America/New_York:20250804T210000
DTSTAMP:20260420T190054
CREATED:20250604T190419Z
LAST-MODIFIED:20250604T190419Z
UID:1341-1754330400-1754341200@sarasotaphc.com
SUMMARY:Charlie Imes at Bradenton Beach
DESCRIPTION:Check out Charlie Imes for local music!
URL:https://sarasotaphc.com/event/charlie-imes-at-bradenton-beach/
LOCATION:Bradenton Beach\, 101 7th Street North\, Bradenton Beach\, FL\, 34217\, United States
CATEGORIES:Local Music
END:VEVENT
BEGIN:VEVENT
DTSTART;TZID=America/New_York:20250803T150000
DTEND;TZID=America/New_York:20250803T180000
DTSTAMP:20260420T190054
CREATED:20250627T173059Z
LAST-MODIFIED:20250627T173059Z
UID:1474-1754233200-1754244000@sarasotaphc.com
SUMMARY:Lefty Lucy - Local
DESCRIPTION:3- Spanish Point Tiki\, Osprey 3-6pm
URL:https://sarasotaphc.com/event/lefty-lucy-local-16/
LOCATION:Spanish Point\, 135 Bayview Drive\, Osprey\, FL\, 34229\, United States
CATEGORIES:Local Music
END:VEVENT
BEGIN:VEVENT
DTSTART;TZID=America/New_York:20250801T180000
DTEND;TZID=America/New_York:20250801T220000
DTSTAMP:20260420T190054
CREATED:20250627T173005Z
LAST-MODIFIED:20250627T173005Z
UID:1472-1754071200-1754085600@sarasotaphc.com
SUMMARY:Lefty Lucy - Local
DESCRIPTION:1- Parrot Patio\, Sarasota 6-10pm
URL:https://sarasotaphc.com/event/lefty-lucy-local-15/
LOCATION:Parrot Patio\, 3602 Webber St.\, Sarasota\, FL\, 34232\, United States
CATEGORIES:Local Music
END:VEVENT
BEGIN:VEVENT
DTSTART;TZID=America/New_York:20250731T180000
DTEND;TZID=America/New_York:20250731T220000
DTSTAMP:20260420T190054
CREATED:20250627T172903Z
LAST-MODIFIED:20250627T172903Z
UID:1470-1753984800-1753999200@sarasotaphc.com
SUMMARY:Lefty Lucy - Local
DESCRIPTION:31- Sunseeker Half-Cracked Tiki Bar\, Port Charlotte\, 6-10pm
URL:https://sarasotaphc.com/event/lefty-lucy-local-14/
LOCATION:Sunseeker Half-Cracked Tiki Bar\, 5500 Sunseeker Way\, Charlotte Harbor\, FL\, 33980\, United States
CATEGORIES:Local Music
END:VEVENT
BEGIN:VEVENT
DTSTART;TZID=America/New_York:20250731T160000
DTEND;TZID=America/New_York:20250731T190000
DTSTAMP:20260420T190054
CREATED:20250712T133702Z
LAST-MODIFIED:20250712T133907Z
UID:1507-1753977600-1753988400@sarasotaphc.com
SUMMARY:Charlie Imes - Local
DESCRIPTION:Charlie Imes will be at the Lah De Dah on July 31st from 4-7!
URL:https://sarasotaphc.com/event/charlie-imes-local-3/
LOCATION:Lah De Dah\, 2236 Gulf Gate\, Sarasota\, 34231\, United States
CATEGORIES:Local Music
END:VEVENT
BEGIN:VEVENT
DTSTART;TZID=America/New_York:20250729T130000
DTEND;TZID=America/New_York:20250729T170000
DTSTAMP:20260420T190054
CREATED:20250512T223209Z
LAST-MODIFIED:20250512T223209Z
UID:996-1753794000-1753808400@sarasotaphc.com
SUMMARY:Sunny Jim - Local
DESCRIPTION:Captain Curts\n\n1 Pm to 5 Pm Come have lunch including their New England Chowder Clam Festival Grand Prize winning chow-dah!
URL:https://sarasotaphc.com/event/sunny-jim-local-19/
LOCATION:Captain Curts\, 1204 Old Stickney Point Road\, Sarasota\, FL\, 34242\, United States
CATEGORIES:Local Music,Upcoming Events
END:VEVENT
END:VCALENDAR