BEGIN:VCALENDAR
VERSION:2.0
PRODID:-//Sarasota Bay Parrothead Club - ECPv6.15.20//NONSGML v1.0//EN
CALSCALE:GREGORIAN
METHOD:PUBLISH
X-WR-CALNAME:Sarasota Bay Parrothead Club
X-ORIGINAL-URL:https://sarasotaphc.com
X-WR-CALDESC:Events for Sarasota Bay Parrothead Club
REFRESH-INTERVAL;VALUE=DURATION:PT1H
X-Robots-Tag:noindex
X-PUBLISHED-TTL:PT1H
BEGIN:VTIMEZONE
TZID:America/New_York
BEGIN:DAYLIGHT
TZOFFSETFROM:-0500
TZOFFSETTO:-0400
TZNAME:EDT
DTSTART:20250309T070000
END:DAYLIGHT
BEGIN:STANDARD
TZOFFSETFROM:-0400
TZOFFSETTO:-0500
TZNAME:EST
DTSTART:20251102T060000
END:STANDARD
BEGIN:DAYLIGHT
TZOFFSETFROM:-0500
TZOFFSETTO:-0400
TZNAME:EDT
DTSTART:20260308T070000
END:DAYLIGHT
BEGIN:STANDARD
TZOFFSETFROM:-0400
TZOFFSETTO:-0500
TZNAME:EST
DTSTART:20261101T060000
END:STANDARD
BEGIN:DAYLIGHT
TZOFFSETFROM:-0500
TZOFFSETTO:-0400
TZNAME:EDT
DTSTART:20270314T070000
END:DAYLIGHT
BEGIN:STANDARD
TZOFFSETFROM:-0400
TZOFFSETTO:-0500
TZNAME:EST
DTSTART:20271107T060000
END:STANDARD
END:VTIMEZONE
BEGIN:VEVENT
DTSTART;TZID=America/New_York:20260709T180000
DTEND;TZID=America/New_York:20260709T220000
DTSTAMP:20260420T063727
CREATED:20260101T184642Z
LAST-MODIFIED:20260101T184642Z
UID:1639-1783620000-1783634400@sarasotaphc.com
SUMMARY:Official Club Bidness Meeting
DESCRIPTION:What time is it? Time for a TEAM DRINK…..and a meeting! \nOur club will be meeting in the backroom of Fin & Tonic the 2nd Thursday of each month! We will discuss what is coming\, what is happening\, socialize with our phriends\, and there could be general shenanigans such as live music\, games\, charity collections\, 50/50\, raffles…..non-club members are welcome to come see what we are all about! \nArrive around 6:00 to chat\, get your food and drinks and be ready for a 6:30 start time! \nWelcome to the Phlock!
URL:https://sarasotaphc.com/event/official-club-bidness-meeting-16/
LOCATION:Fin & Tonic\, 6747 S Tamiami Trl.\, Sarasota\, FL\, 34231\, United States
END:VEVENT
BEGIN:VEVENT
DTSTART;TZID=America/New_York:20260711T173000
DTEND;TZID=America/New_York:20260711T220000
DTSTAMP:20260420T063727
CREATED:20260402T201943Z
LAST-MODIFIED:20260402T201943Z
UID:1837-1783791000-1783807200@sarasotaphc.com
SUMMARY:Habitat: Dan Sullivan
DESCRIPTION:Dan Sullivan\nJuly 11th
URL:https://sarasotaphc.com/event/habitat-dan-sullivan/
LOCATION:Habitat House Concerts\, 609 49th St W\, Bradenton\, FL\, 34209\, United States
CATEGORIES:House Concert
END:VEVENT
BEGIN:VEVENT
DTSTART;TZID=America/New_York:20260725T173000
DTEND;TZID=America/New_York:20260725T220000
DTSTAMP:20260420T063727
CREATED:20260402T202028Z
LAST-MODIFIED:20260402T202028Z
UID:1839-1785000600-1785016800@sarasotaphc.com
SUMMARY:Habitat: Mark Mulch
DESCRIPTION:Mark Mulch\nJuly 25th
URL:https://sarasotaphc.com/event/habitat-mark-mulch/
LOCATION:Habitat House Concerts\, 609 49th St W\, Bradenton\, FL\, 34209\, United States
CATEGORIES:House Concert
END:VEVENT
END:VCALENDAR